Felt | Verdi |
AlreadyApplied | True |
Aperture | 6.3 |
ApertureValue | 6.3 |
Artist | Ole Arne Schlytter |
BitsPerSample (1) | 8 8 8 |
BitsPerSample | 8 |
BlueHue | 0 |
BlueSaturation | 0 |
Brightness | 0 |
By-line | Ole Arne Schlytter |
CameraProfile | Embedded |
ChromaticAberrationB | 0 |
ChromaticAberrationR | 0 |
CircleOfConfusion | 0.027 mm |
Clarity | +7 |
ColorComponents | 3 |
ColorMode | RGB |
ColorNoiseReduction | 0 |
ColorSpace | Uncalibrated |
Contrast | 0 |
ConvertToGrayscale | False |
Copyright | copyrighted |
CopyrightFlag | True |
CopyrightNotice | copyrighted |
CreateDate (1) | 2011:07:07 10:08:01+02:00 |
CreateDate | 2011:07:07 10:08:01 |
Creator | Ole Arne Schlytter |
CreatorTool | Adobe Photoshop CS5 Windows |
CustomRendered | Normal |
DateCreated (1) | 2011:07:07 |
DateCreated | 2011:07:07 10:08:01 |
DateTimeOriginal | 2011:07:07 10:08:01 |
Defringe | 0 |
DOF | 0.41 m (17.30 - 17.71 m) |
ExifImageHeight | 700 |
ExifImageWidth | 492 |
Exposure | 0.00 |
ExposureCompensation | -2/3 |
ExposureMode | Auto |
ExposureTime | 1/1250 |
FillLight | 2 |
Firmware | 1.0.8 |
Flash | No Flash |
FlashCompensation | 0 |
FNumber | 6.3 |
FocalLength | 500.0 mm |
FocalLength35efl | 500.0 mm (35 mm equivalent: 554.1 mm) |
Format | image/jpeg |
FOV | 3.7 deg |
GrainAmount | 0 |
GreenHue | 0 |
GreenSaturation | 0 |
HasCrop | False |
HasSettings | True |
HighlightRecovery | 13 |
HueAdjustmentAqua | 0 |
HueAdjustmentBlue | 0 |
HueAdjustmentGreen | 0 |
HueAdjustmentMagenta | 0 |
HueAdjustmentOrange | 0 |
HueAdjustmentPurple | 0 |
HueAdjustmentRed | 0 |
HueAdjustmentYellow | 0 |
HyperfocalDistance | 1463.51 m |
ICCProfileName | Adobe RGB (1998) |
ImageHeight (1) | 5829 |
ImageHeight | 700 |
ImageNumber | 0 |
ImageSize | 492x700 |
ImageWidth (1) | 4093 |
ImageWidth | 492 |
IncrementalTemperature | -5 |
IncrementalTint | 0 |
ISO | 200 |
Lens | EF500mm f/4L IS USM |
LensID (1) | 143 |
LensID | Canon EF 500mm f/4L IS USM |
LensInfo | 500mm f/? |
LightValue | 14.6 |
LocationCreatedCountryName | Danmark |
LocationCreatedSublocation | Løkken |
LuminanceAdjustmentAqua | 0 |
LuminanceAdjustmentBlue | 0 |
LuminanceAdjustmentGreen | 0 |
LuminanceAdjustmentMagenta | 0 |
LuminanceAdjustmentOrange | 0 |
LuminanceAdjustmentPurple | 0 |
LuminanceAdjustmentRed | 0 |
LuminanceAdjustmentYellow | 0 |
LuminanceSmoothing | 0 |
Make | Canon |
Marked | True |
MaxApertureValue | 4.0 |
Megapixels | 0.344 |
Model | Canon EOS-1D Mark IV |
ModifyDate (1) | 2014:05:01 09:07:30+02:00 |
ModifyDate | 2014:05:01 09:07:30 |
ObjectName | Rådyr |
Orientation | Horizontal (normal) |
ParametricDarks | -3 |
ParametricHighlights | -8 |
ParametricHighlightSplit | 75 |
ParametricLights | -7 |
ParametricMidtoneSplit | 50 |
ParametricShadows | +1 |
ParametricShadowSplit | 25 |
PhotometricInterpretation | RGB |
PostCropVignetteAmount | 0 |
ProcessVersion | 5.7 |
ProfileDescription | Adobe RGB (1998) |
Rating | 0 |
RawFileName | 070711_fugl11.JPG |
RedHue | 0 |
RedSaturation | 0 |
Rights | copyrighted |
Saturation | 0 |
SaturationAdjustmentAqua | 0 |
SaturationAdjustmentBlue | 0 |
SaturationAdjustmentGreen | 0 |
SaturationAdjustmentMagenta | 0 |
SaturationAdjustmentOrange | 0 |
SaturationAdjustmentPurple | 0 |
SaturationAdjustmentRed | 0 |
SaturationAdjustmentYellow | 0 |
ScaleFactor35efl | 1.1 |
SceneCaptureType | Standard |
SerialNumber | 530400780 |
Shadows | 0 |
ShadowTint | 0 |
SharpenDetail | 13 |
SharpenEdgeMasking | 0 |
SharpenRadius | +1.0 |
Sharpness | 0 |
ShutterSpeed | 1/1250 |
ShutterSpeedValue | 1/1250 |
Software | Adobe Photoshop CS5 Windows |
SplitToningBalance | 0 |
SplitToningHighlightHue | 0 |
SplitToningHighlightSaturation | 0 |
SplitToningShadowHue | 0 |
SplitToningShadowSaturation | 0 |
SubjectDistance | 17.5 m |
Title | Rådyr |
ToneCurve | 0, 0, 255, 255 |
ToneCurveName | Linear |
URL_List | |
Version | 6.0 |
Vibrance | 0 |
VignetteAmount | 0 |
WhiteBalance (1) | Custom |
WhiteBalance | Auto |