Felt | Verdi |
AlreadyApplied | True |
Aperture | 3.5 |
ApertureValue | 3.5 |
ApproximateFocusDistance | 1 |
AutoLateralCA | 0 |
BitsPerSample | 8 |
Blacks2012 | -29 |
BlueHue | 0 |
BlueSaturation | 0 |
CameraProfile | Camera Vivid |
CFAPattern | [Red,Green][Green,Blue] |
CircleOfConfusion | 0.030 mm |
Clarity2012 | +14 |
ColorComponents | 3 |
ColorNoiseReduction | 37 |
ColorNoiseReductionDetail | 50 |
ColorTemperature | 6286 |
Contrast | Normal |
Contrast2012 | +52 |
ConvertToGrayscale | False |
CreateDate (1) | 2012:11:19 07:14:55.60 |
CreateDate | 2012:11:19 07:14:55 |
CreatorTool | Adobe Photoshop Lightroom 4.3 (Windows) |
CustomRendered | Normal |
DateCreated (1) | 2012:11:19 |
DateCreated | 2012:11:19 07:14:55.60 |
DateTimeOriginal | 2012:11:19 07:14:55 |
DefringeGreenAmount | 0 |
DefringeGreenHueHi | 60 |
DefringeGreenHueLo | 40 |
DefringePurpleAmount | 0 |
DefringePurpleHueHi | 70 |
DefringePurpleHueLo | 30 |
DigitalZoomRatio | 1 |
DOF | 0.017 m (0.992 - 1.009 m) |
Exposure2012 | +2.02 |
ExposureCompensation | 0 |
ExposureMode | Manual |
ExposureProgram | Manual |
ExposureTime | 1/1000 |
Flash | Off, Did not fire |
FNumber | 3.5 |
FocalLength | 105.0 mm |
FocalLength35efl | 105.0 mm (35 mm equivalent: 105.0 mm) |
FocalLengthIn35mmFormat | 105 mm |
Format | image/jpeg |
FOV | 19.5 deg |
GainControl | Low gain up |
GrainAmount | 0 |
GreenHue | 0 |
GreenSaturation | 0 |
HasCrop | False |
HasSettings | True |
Highlights2012 | -100 |
HueAdjustmentAqua | 0 |
HueAdjustmentBlue | 0 |
HueAdjustmentGreen | 0 |
HueAdjustmentMagenta | 0 |
HueAdjustmentOrange | 0 |
HueAdjustmentPurple | 0 |
HueAdjustmentRed | 0 |
HueAdjustmentYellow | 0 |
HyperfocalDistance | 104.84 m |
ImageHeight | 7360 |
ImageNumber | 19471 |
ImageSize | 4912x7360 |
ImageWidth | 4912 |
ISO | 400 |
Lens | 105.0 mm f/2.8 |
LensID (1) | 151 |
LensID | Sigma Macro 105mm F2.8 EX DG OS HSM |
LensInfo | 105mm f/2.8 |
LensManualDistortionAmount | 0 |
LensModel | 105.0 mm f/2.8 |
LensProfileChromaticAberrationScale | 100 |
LensProfileDistortionScale | 200 |
LensProfileEnable | 1 |
LensProfileFilename | NIKON CORPORATION (SIGMA MACRO 105mm F2.8 EX DG OS HSM) - RAW.lcp |
LensProfileName | Adobe (SIGMA MACRO 105mm F2.8 EX DG OS HSM, NIKON CORPORATION) |
LensProfileSetup | Custom |
LensProfileVignettingScale | 200 |
LightSource | Cloudy |
LightValue | 11.6 |
LuminanceAdjustmentAqua | 0 |
LuminanceAdjustmentBlue | 0 |
LuminanceAdjustmentGreen | 0 |
LuminanceAdjustmentMagenta | 0 |
LuminanceAdjustmentOrange | 0 |
LuminanceAdjustmentPurple | 0 |
LuminanceAdjustmentRed | 0 |
LuminanceAdjustmentYellow | 0 |
LuminanceNoiseReductionContrast | 30 |
LuminanceNoiseReductionDetail | 50 |
LuminanceSmoothing | 26 |
Make | NIKON CORPORATION |
MaxApertureValue | 3.2 |
Megapixels | 36.2 |
MeteringMode | Multi-segment |
Model | NIKON D800 |
ModifyDate (1) | 2014:04:28 01:53:37+02:00 |
ModifyDate | 2014:04:28 01:53:37 |
PaintCorrectionActive | true |
PaintCorrectionAmount | 1.000000 |
PaintCorrectionBrightness | 0.000000 |
PaintCorrectionClarity2012 (1) | 0.011490 |
PaintCorrectionClarity2012 | 1.000000 |
PaintCorrectionContrast2012 (1) | 0.011490 |
PaintCorrectionContrast2012 (2) | -1.000000 |
PaintCorrectionContrast2012 | 0.770110 |
PaintCorrectionDefringe | 0.000000 |
PaintCorrectionExposure2012 (2) | 0.310250 |
PaintCorrectionExposure2012 | 0.000000 |
PaintCorrectionHighlights2012 (1) | 0.000000 |
PaintCorrectionHighlights2012 (2) | 0.356320 |
PaintCorrectionHighlights2012 | 1.000000 |
PaintCorrectionHue | 240.000000 |
PaintCorrectionLuminanceNoise | 0.011490 |
PaintCorrectionMaskCenterWeight | 0.237020 |
PaintCorrectionMaskFlow | 0.677000 |
PaintCorrectionMaskRadius (1) | 0.029662 |
PaintCorrectionMaskRadius (2) | 0.029655 |
PaintCorrectionMaskRadius (3) | 0.029668 |
PaintCorrectionMaskRadius (5) | 0.002874 |
PaintCorrectionMaskRadius | 0.002873 |
PaintCorrectionMaskValue | 0.483000 |
PaintCorrectionMaskWhat | Mask/Paint |
PaintCorrectionMoire | 0.000000 |
PaintCorrectionSaturation (1) | 0.011490 |
PaintCorrectionSaturation (3) | 0.908050 |
PaintCorrectionSaturation | 0.000000 |
PaintCorrectionShadows2012 (1) | -0.011490 |
PaintCorrectionShadows2012 | -1.000000 |
PaintCorrectionSharpness (1) | 1.000000 |
PaintCorrectionSharpness | -0.011490 |
PaintCorrectionTemperature | 0.000000 |
PaintCorrectionTint | 0.000000 |
PaintCorrectionWhat | Correction |
ParametricDarks | 0 |
ParametricHighlights | 0 |
ParametricHighlightSplit | 75 |
ParametricLights | 0 |
ParametricMidtoneSplit | 50 |
ParametricShadows | 0 |
ParametricShadowSplit | 25 |
PerspectiveHorizontal | 0 |
PerspectiveRotate | 0.0 |
PerspectiveScale | 100 |
PerspectiveVertical | 0 |
PostCropVignetteAmount | -14 |
PostCropVignetteFeather | 79 |
PostCropVignetteHighlightContrast | 0 |
PostCropVignetteMidpoint | 25 |
PostCropVignetteRoundness | -83 |
PostCropVignetteStyle | 1 |
ProcessVersion | 6.7 |
ProfileDescription | sRGB IEC61966-2.1 |
RedHue | 0 |
RedSaturation | 0 |
Saturation (1) | 0 |
Saturation | Normal |
SaturationAdjustmentAqua | 0 |
SaturationAdjustmentBlue | 0 |
SaturationAdjustmentGreen | 0 |
SaturationAdjustmentMagenta | 0 |
SaturationAdjustmentOrange | 0 |
SaturationAdjustmentPurple | 0 |
SaturationAdjustmentRed | 0 |
SaturationAdjustmentYellow | 0 |
ScaleFactor35efl | 1.0 |
SceneCaptureType | Portrait |
SceneType | Directly photographed |
SensingMethod | One-chip color area |
SensitivityType | Recommended Exposure Index |
SerialNumber | 6111556 |
Shadows2012 | +60 |
ShadowTint | 0 |
SharpenDetail | 25 |
SharpenEdgeMasking | 23 |
SharpenRadius | +1.3 |
Sharpness (1) | 62 |
Sharpness | Normal |
ShutterSpeed | 1/1000 |
ShutterSpeedValue | 1/1000 |
Software | Adobe Photoshop Lightroom 4.3 (Windows) |
SplitToningBalance | 0 |
SplitToningHighlightHue | 0 |
SplitToningHighlightSaturation | 0 |
SplitToningShadowHue | 0 |
SplitToningShadowSaturation | 0 |
SubjectDistanceRange | Unknown |
Tint | +21 |
ToneCurveName2012 | Custom |
ToneCurvePV2012 | 0, 0, 69, 67, 184, 195, 255, 255 |
ToneCurvePV2012Blue | 0, 0, 255, 255 |
ToneCurvePV2012Green | 0, 0, 255, 255 |
ToneCurvePV2012Red | 0, 0, 255, 255 |
Version | 7.3 |
Vibrance | 0 |
VignetteAmount | 0 |
WhiteBalance (1) | Custom |
WhiteBalance | Manual |
Whites2012 | +24 |