Felt | Verdi |
AlreadyApplied | True |
Aperture | 2.0 |
ApertureValue | 2.0 |
AutoLateralCA | 0 |
BitsPerSample | 8 |
Blacks2012 | 0 |
BlueHue | 0 |
BlueSaturation | 0 |
BrightnessValue | -1.27 |
CameraProfile | Adobe Standard |
CircleOfConfusion | 0.039 mm |
Clarity2012 | 0 |
ColorComponents | 3 |
ColorNoiseReduction | 25 |
ColorNoiseReductionDetail | 50 |
ColorTemperature | 4050 |
ColorTransform | YCbCr |
Contrast2012 | 0 |
ConvertToGrayscale | True |
CreateDate | 2014:05:25 18:32:10 |
CreatorTool | Adobe Photoshop Lightroom 5.0 (Macintosh) |
CustomRendered | Normal |
DateCreated (1) | 2014:05:25 |
DateCreated | 2014:05:25 18:32:10 |
DateTimeOriginal | 2014:05:25 18:32:10 |
Exposure2012 | +0.40 |
ExposureCompensation | -0.67 |
ExposureMode | Auto |
ExposureProgram | Aperture-priority AE |
ExposureTime | 1/60 |
Flash | Off, Did not fire |
FNumber | 2.0 |
FocalLength | 23.0 mm |
FocalLength35efl | 23.0 mm (35 mm equivalent: 17.9 mm) |
Format | image/jpeg |
FOV | 90.4 deg |
GrainAmount | 37 |
GrainFrequency | 50 |
GrainSize | 38 |
GrayMixerAqua | +9 |
GrayMixerBlue | +7 |
GrayMixerGreen | +7 |
GrayMixerMagenta | -17 |
GrayMixerOrange | +39 |
GrayMixerPurple | +1 |
GrayMixerRed | -24 |
GrayMixerYellow | +25 |
GreenHue | 0 |
GreenSaturation | 0 |
HasCrop | False |
HasExtendedXMP | 9143FE9EA54684FD53AD2C7BAF21ECEB |
HasSettings | True |
Highlights2012 | 0 |
HyperfocalDistance | 6.84 m |
ImageHeight | 2848 |
ImageSize | 4288x2848 |
ImageWidth | 4288 |
ISO | 1600 |
LensManualDistortionAmount | 0 |
LensProfileChromaticAberrationScale | 100 |
LensProfileDistortionScale | 100 |
LensProfileEnable | 1 |
LensProfileFilename | Fujifilm FinePix X100.lcp |
LensProfileName | Adobe (Fujifilm FinePix X100) |
LensProfileSetup | LensDefaults |
LensProfileVignettingScale | 100 |
LightSource | Unknown |
LightValue | 3.9 |
LuminanceSmoothing | 0 |
Make | FUJIFILM |
MaxApertureValue | 2.0 |
Megapixels | 12.2 |
MeteringMode | Multi-segment |
Model | FinePix X100 |
ModifyDate (1) | 2014:05:25 21:46:24+02:00 |
ModifyDate | 2014:05:25 21:46:24 |
PaintCorrectionActive | true |
PaintCorrectionAmount | 1.000000 |
PaintCorrectionBrightness | 0.000000 |
PaintCorrectionClarity2012 | 0.000000 |
PaintCorrectionContrast2012 | 0.000000 |
PaintCorrectionDefringe | 0.000000 |
PaintCorrectionExposure2012 (2) | 0.062500 |
PaintCorrectionExposure2012 (3) | 0.346232 |
PaintCorrectionExposure2012 (4) | 0.022610 |
PaintCorrectionExposure2012 (5) | 0.208640 |
PaintCorrectionExposure2012 (6) | 0.224449 |
PaintCorrectionExposure2012 (7) | 0.281893 |
PaintCorrectionExposure2012 (8) | 0.140901 |
PaintCorrectionExposure2012 (9) | -0.075000 |
PaintCorrectionExposure2012 | 0.085478 |
PaintCorrectionHighlights2012 | 0.000000 |
PaintCorrectionHue | 240.000000 |
PaintCorrectionLuminanceNoise | 0.000000 |
PaintCorrectionMaskCenterWeight | 0.000000 |
PaintCorrectionMaskFlow | 1.000000 |
PaintCorrectionMaskRadius (1) | 0.100943 |
PaintCorrectionMaskRadius (10) | 0.068950 |
PaintCorrectionMaskRadius (11) | 0.068739 |
PaintCorrectionMaskRadius (12) | 0.047703 |
PaintCorrectionMaskRadius (13) | 0.047578 |
PaintCorrectionMaskRadius (14) | 0.047460 |
PaintCorrectionMaskRadius (15) | 0.049700 |
PaintCorrectionMaskRadius (16) | 0.047798 |
PaintCorrectionMaskRadius (17) | 0.047823 |
PaintCorrectionMaskRadius (18) | 0.047611 |
PaintCorrectionMaskRadius (19) | 0.047459 |
PaintCorrectionMaskRadius (2) | 0.098954 |
PaintCorrectionMaskRadius (20) | 0.047530 |
PaintCorrectionMaskRadius (21) | 0.047443 |
PaintCorrectionMaskRadius (22) | 0.047507 |
PaintCorrectionMaskRadius (23) | 0.048054 |
PaintCorrectionMaskRadius (24) | 0.048019 |
PaintCorrectionMaskRadius (25) | 0.048078 |
PaintCorrectionMaskRadius (26) | 0.047560 |
PaintCorrectionMaskRadius (27) | 0.047502 |
PaintCorrectionMaskRadius (28) | 0.027390 |
PaintCorrectionMaskRadius (29) | 0.027592 |
PaintCorrectionMaskRadius (3) | 0.098857 |
PaintCorrectionMaskRadius (30) | 0.027291 |
PaintCorrectionMaskRadius (31) | 0.027370 |
PaintCorrectionMaskRadius (32) | 0.027376 |
PaintCorrectionMaskRadius (33) | 0.109483 |
PaintCorrectionMaskRadius (34) | 0.084921 |
PaintCorrectionMaskRadius (35) | 0.084794 |
PaintCorrectionMaskRadius (36) | 0.085005 |
PaintCorrectionMaskRadius (37) | 0.084991 |
PaintCorrectionMaskRadius (38) | 0.084925 |
PaintCorrectionMaskRadius (39) | 0.083726 |
PaintCorrectionMaskRadius (4) | 0.100708 |
PaintCorrectionMaskRadius (40) | 0.069592 |
PaintCorrectionMaskRadius (41) | 0.069911 |
PaintCorrectionMaskRadius (42) | 0.069215 |
PaintCorrectionMaskRadius (43) | 0.069762 |
PaintCorrectionMaskRadius (44) | 0.068963 |
PaintCorrectionMaskRadius (45) | 0.099855 |
PaintCorrectionMaskRadius (46) | 0.014422 |
PaintCorrectionMaskRadius (47) | 0.014497 |
PaintCorrectionMaskRadius (48) | 0.014628 |
PaintCorrectionMaskRadius (49) | 0.014601 |
PaintCorrectionMaskRadius (5) | 0.099704 |
PaintCorrectionMaskRadius (50) | 0.069195 |
PaintCorrectionMaskRadius (51) | 0.069241 |
PaintCorrectionMaskRadius (52) | 0.069377 |
PaintCorrectionMaskRadius (53) | 0.069204 |
PaintCorrectionMaskRadius (54) | 0.040596 |
PaintCorrectionMaskRadius (55) | 0.040584 |
PaintCorrectionMaskRadius (56) | 0.040709 |
PaintCorrectionMaskRadius (57) | 0.041069 |
PaintCorrectionMaskRadius (58) | 0.040869 |
PaintCorrectionMaskRadius (6) | 0.098927 |
PaintCorrectionMaskRadius (7) | 0.100343 |
PaintCorrectionMaskRadius (8) | 0.100131 |
PaintCorrectionMaskRadius (9) | 0.069317 |
PaintCorrectionMaskRadius | 0.040833 |
PaintCorrectionMaskValue | 0.919540 |
PaintCorrectionMaskWhat | Mask/Paint |
PaintCorrectionMoire | 0.000000 |
PaintCorrectionSaturation | 0.000000 |
PaintCorrectionShadows2012 | 0.000000 |
PaintCorrectionSharpness | 0.000000 |
PaintCorrectionTemperature | 0.000000 |
PaintCorrectionTint | 0.000000 |
PaintCorrectionWhat | Correction |
ParametricDarks | 0 |
ParametricHighlights | 0 |
ParametricHighlightSplit | 75 |
ParametricLights | 0 |
ParametricMidtoneSplit | 50 |
ParametricShadows | 0 |
ParametricShadowSplit | 25 |
PerspectiveAspect | 0 |
PerspectiveHorizontal | 0 |
PerspectiveRotate | 0.0 |
PerspectiveScale | 100 |
PerspectiveUpright | 0 |
PerspectiveVertical | 0 |
PostCropVignetteAmount | -37 |
PostCropVignetteFeather | 50 |
PostCropVignetteHighlightContrast | 0 |
PostCropVignetteMidpoint | 50 |
PostCropVignetteRoundness | 0 |
PostCropVignetteStyle | 1 |
ProcessVersion | 6.7 |
ProfileDescription | sRGB IEC61966-2.1 |
Rating | 1 |
RedHue | 0 |
RedSaturation | 0 |
ScaleFactor35efl | 0.8 |
SceneCaptureType | Standard |
SceneType | Directly photographed |
SensingMethod | One-chip color area |
SensitivityType | Standard Output Sensitivity |
Shadows2012 | 0 |
ShadowTint | 0 |
SharpenDetail | 25 |
SharpenEdgeMasking | 0 |
SharpenRadius | +1.0 |
Sharpness (1) | 66 |
Sharpness | Normal |
ShutterSpeed | 1/60 |
ShutterSpeedValue | 1/60 |
Software | Adobe Photoshop Lightroom 5.0 (Macintosh) |
SplitToningBalance | 0 |
SplitToningHighlightHue | 0 |
SplitToningHighlightSaturation | 0 |
SplitToningShadowHue | 0 |
SplitToningShadowSaturation | 0 |
SubjectDistanceRange | Unknown |
Tint | +24 |
ToneCurveName2012 | Strong Contrast |
ToneCurvePV2012 | 0, 0, 32, 16, 64, 50, 128, 128, 192, 202, 255, 255 |
ToneCurvePV2012Blue | 0, 0, 255, 255 |
ToneCurvePV2012Green | 0, 0, 255, 255 |
ToneCurvePV2012Red | 0, 0, 255, 255 |
Version | 8.1 |
VignetteAmount | 0 |
WhiteBalance (1) | As Shot |
WhiteBalance | Auto |
Whites2012 | 0 |