Felt | Verdi |
AlreadyApplied | True |
Aperture | 6.7 |
ApertureValue | 6.7 |
ApproximateFocusDistance | 29.8 |
AutoLateralCA | 0 |
AutoWhiteVersion | 134348800 |
BitsPerSample | 8 |
Blacks2012 | 0 |
BlueHue | 0 |
BlueSaturation | 0 |
CameraProfile | Adobe Standard |
Caption-Abstract | OLYMPUS DIGITAL CAMERA |
CFAPattern | [Red,Green][Green,Blue] |
CircleOfConfusion | 0.015 mm |
Clarity2012 | +38 |
ColorComponents | 3 |
ColorMode | RGB |
ColorNoiseReduction | 25 |
ColorNoiseReductionDetail | 50 |
ColorNoiseReductionSmoothness | 50 |
ColorSpace | sRGB |
ColorTemperature | 4950 |
ColorTransform | YCbCr |
Contrast | Normal |
Contrast2012 | +44 |
ConvertToGrayscale | False |
CreateDate (1) | 2014:06:07 16:47:38+02:00 |
CreateDate | 2014:06:07 16:47:38 |
CreatorTool | Version 2.0 |
CustomRendered | Normal |
DateCreated (1) | 2014:06:07 |
DateCreated | 2014:06:07 16:47:38 |
DateTimeOriginal | 2014:06:07 16:47:38 |
DefringeGreenAmount | 0 |
DefringeGreenHueHi | 60 |
DefringeGreenHueLo | 40 |
DefringePurpleAmount | 0 |
DefringePurpleHueHi | 70 |
DefringePurpleHueLo | 30 |
Description | OLYMPUS DIGITAL CAMERA |
DigitalZoomRatio | 1 |
DOF | 1.97 m (28.85 - 30.81 m) |
ExifImageHeight | 667 |
ExifImageWidth | 1000 |
Exposure2012 | +0.45 |
ExposureCompensation | 0 |
ExposureMode | Auto |
ExposureProgram | Aperture-priority AE |
ExposureTime | 1/400 |
Flash | On, Did not fire |
FlashCompensation | 0 |
FNumber | 6.7 |
FocalLength | 300.0 mm |
FocalLength35efl | 300.0 mm (35 mm equivalent: 601.0 mm) |
FocalLengthIn35mmFormat | 601 mm |
Format | image/jpeg |
FOV | 3.4 deg |
GainControl | High gain up |
GrainAmount | 0 |
GreenHue | 0 |
GreenSaturation | 0 |
HasCrop | False |
HasSettings | True |
Highlights2012 | +2 |
HueAdjustmentAqua | 0 |
HueAdjustmentBlue | 0 |
HueAdjustmentGreen | 0 |
HueAdjustmentMagenta | 0 |
HueAdjustmentOrange | 0 |
HueAdjustmentPurple | 0 |
HueAdjustmentRed | 0 |
HueAdjustmentYellow | 0 |
HyperfocalDistance | 895.63 m |
ICCProfileName | sRGB IEC61966-2.1 |
ImageDescription | OLYMPUS DIGITAL CAMERA |
ImageHeight | 667 |
ImageSize | 1000x667 |
ImageWidth | 1000 |
ISO | 3200 |
Lens | OLYMPUS M.75-300mm F4.8-6.7 II |
LensInfo | 75-300mm f/4.8-6.7 |
LensManualDistortionAmount | 0 |
LensModel | OLYMPUS M.75-300mm F4.8-6.7 II |
LensProfileEnable | 0 |
LensProfileSetup | LensDefaults |
LensSerialNumber | 343008437 |
LightSource | Unknown |
LightValue | 9.1 |
LuminanceAdjustmentAqua | 0 |
LuminanceAdjustmentBlue | 0 |
LuminanceAdjustmentGreen | 0 |
LuminanceAdjustmentMagenta | 0 |
LuminanceAdjustmentOrange | 0 |
LuminanceAdjustmentPurple | 0 |
LuminanceAdjustmentRed | 0 |
LuminanceAdjustmentYellow | 0 |
LuminanceSmoothing | 0 |
Make | OLYMPUS IMAGING CORP. |
MaxApertureValue | 4.8 |
Megapixels | 0.667 |
MeteringMode | Center-weighted average |
Model | E-M5 |
ModifyDate (1) | 2014:06:07 20:58:42+02:00 |
ModifyDate | 2014:06:07 20:58:42 |
Orientation | Horizontal (normal) |
ParametricDarks | 0 |
ParametricHighlights | 0 |
ParametricHighlightSplit | 75 |
ParametricLights | 0 |
ParametricMidtoneSplit | 50 |
ParametricShadows | 0 |
ParametricShadowSplit | 25 |
PerspectiveAspect | 0 |
PerspectiveHorizontal | 0 |
PerspectiveRotate | 0.0 |
PerspectiveScale | 100 |
PerspectiveUpright | 0 |
PerspectiveVertical | 0 |
PostCropVignetteAmount | 0 |
ProcessVersion | 6.7 |
ProfileDescription | sRGB IEC61966-2.1 |
Rating | 0 |
RawFileName | P6070025.ORF |
RedHue | 0 |
RedSaturation | 0 |
Saturation (1) | +25 |
Saturation | Normal |
SaturationAdjustmentAqua | 0 |
SaturationAdjustmentBlue | 0 |
SaturationAdjustmentGreen | 0 |
SaturationAdjustmentMagenta | 0 |
SaturationAdjustmentOrange | 0 |
SaturationAdjustmentPurple | 0 |
SaturationAdjustmentRed | 0 |
SaturationAdjustmentYellow | 0 |
ScaleFactor35efl | 2.0 |
SceneCaptureType | Standard |
SensitivityType | Standard Output Sensitivity |
SerialNumber | BEK523041 |
Shadows2012 | 0 |
ShadowTint | 0 |
SharpenDetail | 25 |
SharpenEdgeMasking | 0 |
SharpenRadius | +1.0 |
Sharpness (1) | 25 |
Sharpness | Normal |
ShutterSpeed | 1/400 |
ShutterSpeedValue | 1/400 |
Software | Adobe Photoshop Elements 12.0 Windows |
SplitToningBalance | 0 |
SplitToningHighlightHue | 0 |
SplitToningHighlightSaturation | 0 |
SplitToningShadowHue | 0 |
SplitToningShadowSaturation | 0 |
Tint | +2 |
ToneCurve | 0, 0, 32, 22, 64, 56, 128, 128, 192, 196, 255, 255 |
ToneCurveBlue | 0, 0, 255, 255 |
ToneCurveGreen | 0, 0, 255, 255 |
ToneCurveName | Medium Contrast |
ToneCurveName2012 | Linear |
ToneCurvePV2012 | 0, 0, 255, 255 |
ToneCurvePV2012Blue | 0, 0, 255, 255 |
ToneCurvePV2012Green | 0, 0, 255, 255 |
ToneCurvePV2012Red | 0, 0, 255, 255 |
ToneCurveRed | 0, 0, 255, 255 |
URL_List | |
Version | 8.4 |
Vibrance | +26 |
VignetteAmount | 0 |
WhiteBalance (1) | As Shot |
WhiteBalance | Auto |
Whites2012 | 0 |