Felt | Verdi |
AEBBracketValue | 0 |
AlreadyApplied | False |
AngleAdj | 0 |
Aperture | 11.0 |
ApertureValue | 11.0 |
AutoExposureBracketing | Off |
AutoISO | 100 |
AutoLateralCA | 0 |
AutoLightingOptimizer | n/a |
AutoLightingOptimizerOn | No |
BaseISO | 0 |
BitsPerSample | 8 |
BlackClip | 0.000000 |
Blacks2012 | -16 |
BlueCurveLimits | 255 0 255 0 |
BlueCurvePoints | (0,0) (255,255) |
BlueHue | 0 |
BlueSaturation | 0 |
BrightnessAdj | -20 |
BulbDuration | 0 |
CameraProfile | Embedded |
CameraType | n/a |
CanonExposureMode | Unknown (-1) |
CanonFirmwareVersion | |
CanonFlashMode | n/a |
CanonImageSize | n/a |
CanonImageType | |
CheckMark | Clear |
CheckMark2 | Clear |
ChromaticAberration | 100% |
ChromaticAberrationBlue | 0 |
ChromaticAberrationOn | No |
ChromaticAberrationRed | 0 |
ChrominanceNoiseReduction | 0 |
ChrominanceNR_TIFF_JPEG | 0 |
CircleOfConfusion | 0.019 mm |
Clarity2012 | +17 |
ColorBlur | No |
ColorComponents | 3 |
ColorNoiseReduction | 0 |
ColorSaturation | 64.0 |
ColorSpace | sRGB |
ColorTemperature | 3.5 |
ColorToneAdj | 0 |
ConstrainedCropHeight | 0 |
ConstrainedCropWidth | 0 |
ContinuousDrive | Unknown (-1) |
Contrast2012 | 0 |
ContrastAdj | 0 |
ControlMode | n/a |
ConvertToGrayscale | False |
CreateDate | 2013:09:26 07:08:47 |
CreatorTool | Digital Photo Professional |
CropActive | No |
CropAspectRatio | Free |
CropCircleActive | No |
CropCircleRadius | 0 |
CropCircleX | 0 |
CropCircleY | 0 |
CropHeight | 0 |
CropLeft | 0 |
CropTop | 0 |
CropWidth | 0 |
CustomColorTone | 0 |
CustomContrast | 0 |
CustomDefaultUnsharpFineness | 7 |
CustomDefaultUnsharpStrength | 0 |
CustomDefaultUnsharpThreshold | 1 |
CustomLinear | No |
CustomOutputHighlightPoint | 0 |
CustomOutputShadowPoint | 0 |
CustomRawHighlight | 0 |
CustomRawHighlightPoint | 0 |
CustomRawShadow | 0 |
CustomRawShadowPoint | 0 |
CustomRendered | Normal |
CustomSaturation | 0 |
CustomSharpness | 0 |
CustomUnsharpMaskFineness | 7 |
CustomUnsharpMaskStrength | 0 |
CustomUnsharpMaskThreshold | 1 |
DateCreated (1) | 2013:09:26 07:08:47 |
DateCreated | 2013:09:26 |
DateTimeOriginal | 2013:09:26 07:08:47 |
DefringeGreenAmount | 0 |
DefringeGreenHueHi | 60 |
DefringeGreenHueLo | 40 |
DefringePurpleAmount | 0 |
DefringePurpleHueHi | 70 |
DefringePurpleHueLo | 30 |
DigitalZoom | None |
DistortionCorrection | 100% |
DistortionCorrectionOn | No |
DriveMode | Continuous Shooting |
DynamicRangeMax | 4095 |
DynamicRangeMin | 0 |
EasyMode | Unknown (-1) |
ExifImageHeight | 2363 |
ExifImageWidth | 5150 |
Exposure2012 | -0.45 |
ExposureCompensation | 0 |
ExposureMode | Auto bracket |
ExposureTime | 1/8 |
FaithfulOutputHighlightPoint | 0 |
FaithfulOutputShadowPoint | 0 |
FaithfulRawColorTone | 0 |
FaithfulRawContrast | 0 |
FaithfulRawHighlight | 0 |
FaithfulRawHighlightPoint | 0 |
FaithfulRawLinear | No |
FaithfulRawSaturation | 0 |
FaithfulRawShadow | 0 |
FaithfulRawShadowPoint | 0 |
FaithfulRawSharpness | 0 |
FaithfulUnsharpMaskFineness | 7 |
FaithfulUnsharpMaskStrength | 0 |
FaithfulUnsharpMaskThreshold | 1 |
FileNumber | 0 |
Flash | Off, Did not fire |
FlashBits | (none) |
FlashCompensation | 0 |
FlashExposureComp | 0 |
FlashGuideNumber | 0 |
FNumber | 11.0 |
FocalLength | 53.0 mm |
FocalLength35efl | 53.0 mm (35 mm equivalent: 83.4 mm) |
FocalUnits | 32/mm |
FocusMode | Single |
FocusRange | Not Known |
Format | image/jpeg |
FOV | 24.4 deg |
Gamma | 1.18 |
GrainAmount | 0 |
GreenCurveLimits | 255 0 255 0 |
GreenCurvePoints | (0,0) (255,255) |
GreenHue | 0 |
GreenSaturation | 0 |
HasCrop | False |
HasSettings | True |
Highlights2012 | -41 |
HighlightsSmoothing | 0.0 |
HueAdjustmentAqua | 0 |
HueAdjustmentBlue | 0 |
HueAdjustmentGreen | 0 |
HueAdjustmentMagenta | 0 |
HueAdjustmentOrange | 0 |
HueAdjustmentPurple | 0 |
HueAdjustmentRed | 0 |
HueAdjustmentYellow | 0 |
HyperfocalDistance | 13.37 m |
ImageHeight | 2363 |
ImageSize | 5150x2363 |
ImageWidth | 5150 |
IncrementalTemperature | +3 |
IncrementalTint | 0 |
IsCustomPictureStyle | No |
ISO (1) | 0 |
ISO | 100 |
IsPano360 | No |
LandscapeOutputHighlightPoint | 0 |
LandscapeOutputShadowPoint | 0 |
LandscapeRawColorTone | 0 |
LandscapeRawContrast | 0 |
LandscapeRawHighlight | 0 |
LandscapeRawHighlightPoint | 0 |
LandscapeRawLinear | No |
LandscapeRawSaturation | 0 |
LandscapeRawShadow | 0 |
LandscapeRawShadowPoint | 0 |
LandscapeRawSharpness | 0 |
LandscapeUnsharpMaskFineness | 7 |
LandscapeUnsharpMaskStrength | 0 |
LandscapeUnsharpMaskThreshold | 1 |
Lens (1) | 17-70mm |
Lens | 0.0 mm |
Lens35efl | 0.0 mm (35 mm equivalent: 0.0 mm) |
LensID | n/a |
LensManualDistortionAmount | 0 |
LensModel | 17-70mm |
LensProfileEnable | 0 |
LensProfileSetup | LensDefaults |
LensType | n/a |
LightValue | 9.9 |
LuminanceAdjustmentAqua | 0 |
LuminanceAdjustmentBlue | 0 |
LuminanceAdjustmentGreen | 0 |
LuminanceAdjustmentMagenta | 0 |
LuminanceAdjustmentOrange | 0 |
LuminanceAdjustmentPurple | 0 |
LuminanceAdjustmentRed | 0 |
LuminanceAdjustmentYellow | 0 |
LuminanceCurveLimits | 255 0 255 0 |
LuminanceCurvePoints | (0,0) (255,255) |
LuminanceNoiseReduction | 2 |
LuminanceNR_TIFF_JPEG | 0 |
LuminanceSmoothing | 0 |
Luminosity | 7.2 |
MacroMode | Unknown (0) |
Make | Canon |
ManualFlashOutput | n/a |
MaxApertureValue | 1.0 |
MaxFocalLength | 0 mm |
MeasuredEV | 5.00 |
Megapixels | 12.2 |
MeteringMode | Unknown (-1) |
Method | Details Enhancer |
Microcontrast | 0.0 |
Microsmoothing | 2.0 |
MinFocalLength | 0 mm |
Model | Canon EOS 600D |
ModifyDate | 2013:09:26 07:08:47 |
MonochromeContrast | 0 |
MonochromeFilterEffect | None |
MonochromeLinear | No |
MonochromeOutputHighlightPoint | 0 |
MonochromeOutputShadowPoint | 0 |
MonochromeRawHighlight | 0 |
MonochromeRawHighlightPoint | 0 |
MonochromeRawShadow | 0 |
MonochromeRawShadowPoint | 0 |
MonochromeSharpness | 0 |
MonochromeToningEffect | None |
MonochromeUnsharpMaskFineness | 7 |
MonochromeUnsharpMaskStrength | 0 |
MonochromeUnsharpMaskThreshold | 1 |
NDFilter | n/a |
NeutralOutputHighlightPoint | 0 |
NeutralOutputShadowPoint | 0 |
NeutralRawColorTone | 0 |
NeutralRawContrast | 0 |
NeutralRawHighlight | 0 |
NeutralRawHighlightPoint | 0 |
NeutralRawLinear | No |
NeutralRawSaturation | 0 |
NeutralRawShadow | 0 |
NeutralRawShadowPoint | 0 |
NeutralRawSharpness | 0 |
NeutralUnsharpMaskFineness | 7 |
NeutralUnsharpMaskThreshold | 1 |
NeutraUnsharpMaskStrength | 0 |
OpticalZoomCode | n/a |
Orientation | Horizontal (normal) |
OwnerName | |
ParametricDarks | 0 |
ParametricHighlights | 0 |
ParametricHighlightSplit | 75 |
ParametricLights | 0 |
ParametricMidtoneSplit | 50 |
ParametricShadows | 0 |
ParametricShadowSplit | 25 |
PeripheralIllumination | 100% |
PeripheralIlluminationOn | No |
PerspectiveAspect | 0 |
PerspectiveHorizontal | 0 |
PerspectiveRotate | 0.0 |
PerspectiveScale | 100 |
PerspectiveUpright | 0 |
PerspectiveVertical | 0 |
PhotographicSensitivity | 100 |
PictureStyle | Standard |
PortraitOutputHighlightPoint | 0 |
PortraitOutputShadowPoint | 0 |
PortraitRawColorTone | 0 |
PortraitRawContrast | 0 |
PortraitRawHighlight | 0 |
PortraitRawHighlightPoint | 0 |
PortraitRawLinear | No |
PortraitRawSaturation | 0 |
PortraitRawShadow | 0 |
PortraitRawShadowPoint | 0 |
PortraitRawSharpness | 0 |
PortraitUnsharpMaskFineness | 7 |
PortraitUnsharpMaskStrength | 0 |
PortraitUnsharpMaskThreshold | 1 |
PostCropVignetteAmount | 0 |
ProcessVersion | 6.7 |
ProfileDescription | sRGB Profile |
ProfileDescriptionML (1) | sRGB Profile |
ProfileDescriptionML | Profil sRVB |
ProfileDescriptionML-da-DK | sRGB-beskrivelse |
ProfileDescriptionML-de-DE | sRGB-Profil |
ProfileDescriptionML-es-ES | Perfil sRGB |
ProfileDescriptionML-fi-FI | sRGB-profiili |
ProfileDescriptionML-it-IT | Profilo sRGB |
ProfileDescriptionML-ja-JP | sRGB プロファイル |
ProfileDescriptionML-ko-KR | sRGB 프로파일 |
ProfileDescriptionML-nl-NL | sRGB-profiel |
ProfileDescriptionML-no-NO | sRGB-profil |
ProfileDescriptionML-pt-BR | Perfil sRGB |
ProfileDescriptionML-sv-SE | sRGB-profil |
ProfileDescriptionML-tr-TR | sRGB Belgisi |
ProfileDescriptionML-zh-CN | sRGB 描述文件 |
ProfileDescriptionML-zh-TW | sRGB Profile |
Quality | Fine |
Rating | 0 |
RawBrightnessAdj | 0.00 |
RawColorAdj | Shot Settings |
RawCustomSaturation | 0 |
RawCustomTone | 0 |
RawFileName | IMG_9999_elvsiste ok.JPG |
RedCurveLimits | 255 0 255 0 |
RedCurvePoints | (0,0) (255,255) |
RedHue | 0 |
RedSaturation | 0 |
RelatedImageHeight | 2363 |
RelatedImageWidth | 5150 |
RGBCurveLimits | 255 25 230 0 |
RGBCurvePoints | (25,0) (255,230) |
Rotation | 0 |
Saturation | +9 |
SaturationAdj | 100 |
SaturationAdjustmentAqua | 0 |
SaturationAdjustmentBlue | 0 |
SaturationAdjustmentGreen | 0 |
SaturationAdjustmentMagenta | 0 |
SaturationAdjustmentOrange | 0 |
SaturationAdjustmentPurple | 0 |
SaturationAdjustmentRed | 0 |
SaturationAdjustmentYellow | 0 |
SaturationHighlights | 0.0 |
SaturationShadows | 0.0 |
ScaleFactor35efl | 1.6 |
SceneCaptureType | Standard |
SelfTimer | Off |
SequenceNumber | 0 |
Shadows2012 | +40 |
ShadowsClipping | 0.0 |
ShadowsSmoothing | 0.0 |
ShadowTint | 0 |
SharpenDetail | 25 |
SharpenEdgeMasking | 0 |
SharpenRadius | +1.0 |
Sharpness | 0 |
SharpnessAdj | 0 |
ShootingMode | Unknown (-1) |
ShutterSpeed | 1/8 |
ShutterSpeedValue | 1/8 |
SlowShutter | None |
Smoothing | 0.0 |
SmoothingMode | Slider |
Software | Digital Photo Professional |
SplitToningBalance | 0 |
SplitToningHighlightHue | 0 |
SplitToningHighlightSaturation | 0 |
SplitToningShadowHue | 0 |
SplitToningShadowSaturation | 0 |
SRAWQuality | n/a |
StandardOutputHighlightPoint | 0 |
StandardOutputShadowPoint | 0 |
StandardRawColorTone | 0 |
StandardRawContrast | 0 |
StandardRawHighlight | 0 |
StandardRawHighlightPoint | 0 |
StandardRawLinear | No |
StandardRawSaturation | 0 |
StandardRawShadow | 0 |
StandardRawShadowPoint | 0 |
StandardRawSharpness | 0 |
StandardUnsharpMaskFineness | 7 |
StandardUnsharpMaskStrength | 0 |
StandardUnsharpMaskThreshold | 1 |
Strength | 66.0 |
TargetAperture | 11 |
TargetExposureTime | 1/8 |
ToneCurveActive | Yes |
ToneCurveInterpolation | Curve |
ToneCurveMode | RGB |
ToneCurveName2012 | Linear |
ToneCurveProperty | Shot Settings |
ToneCurvePV2012 | 0, 0, 255, 255 |
ToneCurvePV2012Blue | 0, 0, 255, 255 |
ToneCurvePV2012Green | 0, 0, 255, 255 |
ToneCurvePV2012Red | 0, 0, 255, 255 |
UnsharpMask | Off |
Version (1) | 4.2 |
Version | 8.0 |
Vibrance | 0 |
VignetteAmount | 0 |
VRDVersion | 3.10.1 |
WBAdjColorTemp | 5200 |
WBAdjRGGBLevels | 0 0 0 0 |
WBFineTuneActive | No |
WBFineTuneSaturation | 0 |
WBFineTuneTone | 0 |
WhiteBalance (1) | Auto |
WhiteBalance (2) | Custom |
WhiteBalance | Unknown (-1) |
WhiteBalanceAdj | Shot Settings |
WhiteClip | 0.250000 |
Whites2012 | -10 |
WorkColorSpace | sRGB |
ZoomSourceWidth | 0 |
ZoomTargetWidth | 0 |