Felt | Verdi |
AlreadyApplied | True |
Aperture | 9.0 |
ApertureValue | 9.0 |
ApproximateFocusDistance | 1 |
Artist | StinniFoto |
AutoLateralCA | 0 |
AutoWhiteVersion | 134348800 |
BitsPerSample | 8 |
Blacks2012 | -31 |
BlueHue | 0 |
BlueSaturation | 0 |
By-line | StinniFoto |
CameraProfile | Adobe Standard |
CircleOfConfusion | 0.038 mm |
Clarity2012 | 0 |
ColorComponents | 3 |
ColorMode | RGB |
ColorNoiseReduction | 25 |
ColorNoiseReductionDetail | 50 |
ColorNoiseReductionSmoothness | 50 |
ColorSpace | Uncalibrated |
ColorTemperature | 5200 |
ColorTransform | YCbCr |
Contrast | Normal |
Contrast2012 | -2 |
ConvertToGrayscale | False |
Copyright | StinniFoto |
CopyrightNotice | StinniFoto |
CreateDate | 2014:06:14 16:55:34 |
Creator | StinniFoto |
CreatorTool | 645D Ver 1.30 |
CropAngle | 0 |
CropBottom | 1 |
CropConstrainToWarp | 0 |
CropLeft | 0 |
CropRight | 1 |
CropTop | 0 |
CustomRendered | Normal |
DateCreated (1) | 2014:06:14 |
DateCreated | 2014:06:14 16:55:34 |
DateTimeOriginal | 2014:06:14 16:55:34 |
DefringeGreenAmount | 0 |
DefringeGreenHueHi | 60 |
DefringeGreenHueLo | 40 |
DefringePurpleAmount | 0 |
DefringePurpleHueHi | 70 |
DefringePurpleHueLo | 30 |
DOF | 0.13 m (0.94 - 1.07 m) |
ExifImageHeight | 1498 |
ExifImageWidth | 2000 |
Exposure2012 | -0.50 |
ExposureCompensation | 0 |
ExposureMode | Auto |
ExposureProgram | Aperture-priority AE |
ExposureTime | 1/250 |
Flash | Off, Did not fire |
FNumber | 9.0 |
FocalLength | 70.0 mm |
FocalLength35efl | 70.0 mm (35 mm equivalent: 55.0 mm) |
FocalLengthIn35mmFormat | 55 mm |
Format | image/jpeg |
FOV | 36.2 deg |
GrainAmount | 0 |
GreenHue | 0 |
GreenSaturation | 0 |
HasCrop | True |
HasExtendedXMP | 33ACFD1843FE592CA3D0BD20359B2BD2 |
HasSettings | True |
Highlights2012 | +24 |
HueAdjustmentAqua | 0 |
HueAdjustmentBlue | 0 |
HueAdjustmentGreen | 0 |
HueAdjustmentMagenta | 0 |
HueAdjustmentOrange | 0 |
HueAdjustmentPurple | 0 |
HueAdjustmentRed | 0 |
HueAdjustmentYellow | 0 |
HyperfocalDistance | 14.24 m |
ICCProfileName | Adobe RGB (1998) |
ImageHeight | 1498 |
ImageSize | 2000x1498 |
ImageWidth | 2000 |
ISO | 200 |
Label | |
Lens | smc PENTAX-FA645 45-85mm F4.5 |
LensID (1) | 11 4 |
LensID | smc PENTAX-FA 645 45-85mm F4.5 |
LensInfo | 45-85mm f/4.5 |
LensManualDistortionAmount | 0 |
LensModel | smc PENTAX-FA645 45-85mm F4.5 |
LensProfileEnable | 0 |
LensProfileSetup | LensDefaults |
LightValue | 13.3 |
LuminanceAdjustmentAqua | 0 |
LuminanceAdjustmentBlue | 0 |
LuminanceAdjustmentGreen | 0 |
LuminanceAdjustmentMagenta | 0 |
LuminanceAdjustmentOrange | 0 |
LuminanceAdjustmentPurple | 0 |
LuminanceAdjustmentRed | 0 |
LuminanceAdjustmentYellow | 0 |
LuminanceSmoothing | 0 |
Make | PENTAX |
Megapixels | 3.0 |
MeteringMode | Multi-segment |
Model | PENTAX 645D |
ModifyDate (1) | 2014:06:18 20:44:07+02:00 |
ModifyDate | 2014:06:18 20:44:07 |
Orientation | Horizontal (normal) |
PaintCorrectionActive | true |
PaintCorrectionAmount | 1.000000 |
PaintCorrectionBrightness | 0.000000 |
PaintCorrectionClarity | 0.000000 |
PaintCorrectionClarity2012 | 0.000000 |
PaintCorrectionContrast | 0.000000 |
PaintCorrectionContrast2012 | 0.000000 |
PaintCorrectionDefringe | 0.000000 |
PaintCorrectionExposure | 0.000000 |
PaintCorrectionExposure2012 (1) | 0.265073 |
PaintCorrectionExposure2012 | 0.100000 |
PaintCorrectionHighlights2012 | 0.000000 |
PaintCorrectionHue | 233.000000 |
PaintCorrectionLuminanceNoise | 0.000000 |
PaintCorrectionMaskCenterWeight (39) | 0.000000 |
PaintCorrectionMaskCenterWeight (54) | 0.196904 |
PaintCorrectionMaskCenterWeight (73) | 1.000000 |
PaintCorrectionMaskCenterWeight | 0.006516 |
PaintCorrectionMaskFlow (51) | 0.010000 |
PaintCorrectionMaskFlow (78) | 0.382662 |
PaintCorrectionMaskFlow | 1.000000 |
PaintCorrectionMaskRadius (11) | 0.034796 |
PaintCorrectionMaskRadius (31) | 0.176866 |
PaintCorrectionMaskRadius (34) | 0.055700 |
PaintCorrectionMaskRadius (36) | 0.141842 |
PaintCorrectionMaskRadius (47) | 0.048608 |
PaintCorrectionMaskRadius (49) | 0.028075 |
PaintCorrectionMaskRadius (51) | 0.015002 |
PaintCorrectionMaskRadius (58) | 0.051646 |
PaintCorrectionMaskRadius (60) | 0.009084 |
PaintCorrectionMaskRadius (62) | 0.033725 |
PaintCorrectionMaskRadius (63) | 0.085297 |
PaintCorrectionMaskRadius (66) | 0.005882 |
PaintCorrectionMaskRadius (67) | 0.013004 |
PaintCorrectionMaskRadius (69) | 0.001969 |
PaintCorrectionMaskRadius (72) | 0.000891 |
PaintCorrectionMaskRadius (78) | 0.042536 |
PaintCorrectionMaskRadius (79) | 0.069078 |
PaintCorrectionMaskRadius (85) | 0.099152 |
PaintCorrectionMaskRadius (87) | 0.016325 |
PaintCorrectionMaskRadius (88) | 0.273059 |
PaintCorrectionMaskRadius | 0.006200 |
PaintCorrectionMaskValue (44) | 0.000000 |
PaintCorrectionMaskValue | 1.000000 |
PaintCorrectionMaskWhat | Mask/Paint |
PaintCorrectionMoire | 0.000000 |
PaintCorrectionSaturation (1) | 0.298887 |
PaintCorrectionSaturation (3) | -0.600000 |
PaintCorrectionSaturation | 0.000000 |
PaintCorrectionShadows2012 (1) | 0.702139 |
PaintCorrectionShadows2012 | 0.000000 |
PaintCorrectionSharpness | 0.000000 |
PaintCorrectionTemperature | 0.000000 |
PaintCorrectionTint | 0.000000 |
PaintCorrectionWhat | Correction |
ParametricDarks | 0 |
ParametricHighlights | 0 |
ParametricHighlightSplit | 75 |
ParametricLights | 0 |
ParametricMidtoneSplit | 50 |
ParametricShadows | 0 |
ParametricShadowSplit | 25 |
PerspectiveAspect | 0 |
PerspectiveHorizontal | 0 |
PerspectiveRotate | 0.0 |
PerspectiveScale | 100 |
PerspectiveUpright | 0 |
PerspectiveVertical | 0 |
PostCropVignetteAmount | 0 |
ProcessVersion | 6.7 |
ProfileDescription | Adobe RGB (1998) |
Rating | 0 |
RawFileName | _6454976.DNG |
RedHue | 0 |
RedSaturation | 0 |
Rights | StinniFoto |
Saturation (1) | 0 |
Saturation | Normal |
SaturationAdjustmentAqua | 0 |
SaturationAdjustmentBlue | 0 |
SaturationAdjustmentGreen | 0 |
SaturationAdjustmentMagenta | 0 |
SaturationAdjustmentOrange | 0 |
SaturationAdjustmentPurple | 0 |
SaturationAdjustmentRed | 0 |
SaturationAdjustmentYellow | 0 |
ScaleFactor35efl | 0.8 |
SceneCaptureType | Standard |
SensingMethod | One-chip color area |
Shadows2012 | +32 |
ShadowTint | 0 |
SharpenDetail | 25 |
SharpenEdgeMasking | 0 |
SharpenRadius | +1.0 |
Sharpness (1) | 25 |
Sharpness | Normal |
ShutterSpeed | 1/250 |
ShutterSpeedValue | 1/250 |
Software | Adobe Photoshop CS6 (Macintosh) |
SplitToningBalance | 0 |
SplitToningHighlightHue | 0 |
SplitToningHighlightSaturation | 0 |
SplitToningShadowHue | 0 |
SplitToningShadowSaturation | 0 |
SubjectDistanceRange | Close |
Tint | +21 |
ToneCurveName2012 | Linear |
ToneCurvePV2012 | 0, 0, 255, 255 |
ToneCurvePV2012Blue | 0, 0, 255, 255 |
ToneCurvePV2012Green | 0, 0, 255, 255 |
ToneCurvePV2012Red | 0, 0, 255, 255 |
URL_List | |
Version | 8.2 |
Vibrance | 0 |
VignetteAmount | 0 |
WhiteBalance (1) | As Shot |
WhiteBalance | Manual |
Whites2012 | +20 |