Felt | Verdi |
AlreadyApplied | True |
Aperture | 16.0 |
ApertureValue | 16.0 |
ApproximateFocusDistance | 2 |
AutoLateralCA | 1 |
AutoWhiteVersion | 134348800 |
BitsPerSample | 8 |
Blacks2012 | 0 |
BlueHue | 0 |
BlueSaturation | 0 |
CameraProfile | Adobe Standard |
CFAPattern | [Red,Green][Green,Blue] |
CircleOfConfusion | 0.030 mm |
Clarity2012 | +25 |
ColorComponents | 3 |
ColorNoiseReduction | 68 |
ColorNoiseReductionDetail | 67 |
ColorNoiseReductionSmoothness | 68 |
ColorTemperature | 7500 |
ColorTransform | YCbCr |
Contrast | Normal |
Contrast2012 | 0 |
ConvertToGrayscale | False |
CreateDate (1) | 2014:06:17 21:13:42.57 |
CreateDate | 2014:06:17 21:13:42 |
CreatorTool | Adobe Photoshop Lightroom 5.4 (Macintosh) |
CropAngle | 0 |
CropBottom | 1 |
CropConstrainToWarp | 1 |
CropLeft | 0 |
CropRight | 1 |
CropTop | 0 |
CustomRendered | Custom |
DateCreated (1) | 2014:06:17 |
DateCreated | 2014:06:17 21:13:42.57 |
DateTimeOriginal | 2014:06:17 21:13:42 |
DefringeGreenAmount | 0 |
DefringeGreenHueHi | 60 |
DefringeGreenHueLo | 40 |
DefringePurpleAmount | 0 |
DefringePurpleHueHi | 70 |
DefringePurpleHueLo | 30 |
DigitalZoomRatio | 1 |
DOF | inf (0.42 m - inf) |
Exposure2012 | +0.05 |
ExposureCompensation | -1/3 |
ExposureMode | Manual |
ExposureProgram | Manual |
ExposureTime | 13 |
Flash | No Flash |
FNumber | 16.0 |
FocalLength | 16.0 mm |
FocalLength35efl | 16.0 mm (35 mm equivalent: 16.0 mm) |
FocalLengthIn35mmFormat | 16 mm |
Format | image/jpeg |
FOV | 96.7 deg |
GainControl | None |
GradientBasedCorrActive | true |
GradientBasedCorrAmount | 1.000000 |
GradientBasedCorrBrightness | 0.000000 |
GradientBasedCorrClarity2012 | 0.000000 |
GradientBasedCorrContrast2012 | 0.000000 |
GradientBasedCorrDefringe | 0.000000 |
GradientBasedCorrExposure2012 (1) | -0.134041 |
GradientBasedCorrExposure2012 (3) | 0.000000 |
GradientBasedCorrExposure2012 | -0.291433 |
GradientBasedCorrHighlights2012 | 0.000000 |
GradientBasedCorrHue | 0.000000 |
GradientBasedCorrLuminanceNoise | 0.000000 |
GradientBasedCorrMaskFullX (1) | 0.458185 |
GradientBasedCorrMaskFullX (2) | 0.455585 |
GradientBasedCorrMaskFullX (3) | 0.454852 |
GradientBasedCorrMaskFullX | 0.042574 |
GradientBasedCorrMaskFullY (1) | 0.423610 |
GradientBasedCorrMaskFullY (2) | 0.271091 |
GradientBasedCorrMaskFullY (3) | 0.672712 |
GradientBasedCorrMaskFullY | 0.444689 |
GradientBasedCorrMaskValue | 1.000000 |
GradientBasedCorrMaskWhat | Mask/Gradient |
GradientBasedCorrMaskZeroX (1) | 0.460561 |
GradientBasedCorrMaskZeroX (2) | 0.465813 |
GradientBasedCorrMaskZeroX (3) | 0.442006 |
GradientBasedCorrMaskZeroX | 0.665406 |
GradientBasedCorrMaskZeroY (1) | 0.726092 |
GradientBasedCorrMaskZeroY (2) | 0.486626 |
GradientBasedCorrMaskZeroY (3) | 0.490685 |
GradientBasedCorrMaskZeroY | 0.430934 |
GradientBasedCorrMoire | 0.000000 |
GradientBasedCorrSaturation | 0.000000 |
GradientBasedCorrShadows2012 | 0.000000 |
GradientBasedCorrSharpness | 0.000000 |
GradientBasedCorrTemperature (3) | -0.204968 |
GradientBasedCorrTemperature | 0.000000 |
GradientBasedCorrTint | 0.000000 |
GradientBasedCorrWhat | Correction |
GrainAmount | 0 |
GreenHue | 0 |
GreenSaturation | 0 |
HasCrop | True |
HasExtendedXMP | 5E5D26A4B63C6340F744A6111D0828BC |
HasSettings | True |
Highlights2012 | -54 |
HueAdjustmentAqua | 0 |
HueAdjustmentBlue | 0 |
HueAdjustmentGreen | 0 |
HueAdjustmentMagenta | 0 |
HueAdjustmentOrange | 0 |
HueAdjustmentPurple | 0 |
HueAdjustmentRed | 0 |
HueAdjustmentYellow | 0 |
HyperfocalDistance | 0.53 m |
ImageHeight | 2832 |
ImageNumber | 114033 |
ImageSize | 4256x2832 |
ImageWidth | 4256 |
ISO | 100 |
Lens | 16.0-35.0 mm f/4.0 |
LensID (1) | 163 |
LensID | AF-S Nikkor 16-35mm f/4G ED VR |
LensInfo | 16-35mm f/4 |
LensManualDistortionAmount | 0 |
LensModel | 16.0-35.0 mm f/4.0 |
LensProfileChromaticAberrationScale | 100 |
LensProfileDistortionScale | 100 |
LensProfileEnable | 1 |
LensProfileFilename | NIKON D3X (Nikon AF-S NIKKOR 16-35mm f4G ED VR) - RAW.lcp |
LensProfileName | Adobe (Nikon AF-S NIKKOR 16-35mm f/4G ED VR) |
LensProfileSetup | LensDefaults |
LensProfileVignettingScale | 100 |
LightSource | Fine Weather |
LightValue | 4.3 |
LuminanceAdjustmentAqua | 0 |
LuminanceAdjustmentBlue | 0 |
LuminanceAdjustmentGreen | 0 |
LuminanceAdjustmentMagenta | 0 |
LuminanceAdjustmentOrange | 0 |
LuminanceAdjustmentPurple | 0 |
LuminanceAdjustmentRed | 0 |
LuminanceAdjustmentYellow | 0 |
LuminanceNoiseReductionContrast | 45 |
LuminanceNoiseReductionDetail | 50 |
LuminanceSmoothing | 41 |
Make | NIKON CORPORATION |
MaxApertureValue | 4.0 |
Megapixels | 12.1 |
MeteringMode | Center-weighted average |
Model | NIKON D3S |
ModifyDate (1) | 2014:06:18 11:45:50+02:00 |
ModifyDate | 2014:06:18 11:45:50 |
PaintCorrectionActive | true |
PaintCorrectionAmount | 1.000000 |
PaintCorrectionBrightness | 0.000000 |
PaintCorrectionClarity2012 (2) | 0.127019 |
PaintCorrectionClarity2012 (3) | 0.403704 |
PaintCorrectionClarity2012 | 0.000000 |
PaintCorrectionContrast2012 (3) | 0.694610 |
PaintCorrectionContrast2012 (5) | 0.191626 |
PaintCorrectionContrast2012 (7) | 0.800825 |
PaintCorrectionContrast2012 (8) | 0.429951 |
PaintCorrectionContrast2012 | 0.000000 |
PaintCorrectionDefringe | 0.000000 |
PaintCorrectionExposure2012 (1) | 0.118943 |
PaintCorrectionExposure2012 (2) | 0.154494 |
PaintCorrectionExposure2012 (3) | 0.044154 |
PaintCorrectionExposure2012 (4) | 0.206987 |
PaintCorrectionExposure2012 (5) | 0.183813 |
PaintCorrectionExposure2012 (6) | 0.522823 |
PaintCorrectionExposure2012 (7) | -0.049245 |
PaintCorrectionExposure2012 | 0.000000 |
PaintCorrectionHighlights2012 (1) | 0.000000 |
PaintCorrectionHighlights2012 (3) | -0.195664 |
PaintCorrectionHighlights2012 | -0.424772 |
PaintCorrectionHue | 0.000000 |
PaintCorrectionLuminanceNoise | 0.000000 |
PaintCorrectionMaskCenterWeight (196) | 0.013015 |
PaintCorrectionMaskCenterWeight (212) | 0.093669 |
PaintCorrectionMaskCenterWeight (68) | 1.000000 |
PaintCorrectionMaskCenterWeight | 0.000000 |
PaintCorrectionMaskFlow (29) | 1.000000 |
PaintCorrectionMaskFlow (95) | 0.429781 |
PaintCorrectionMaskFlow (99) | 0.636654 |
PaintCorrectionMaskFlow | 0.643879 |
PaintCorrectionMaskRadius (102) | 0.059951 |
PaintCorrectionMaskRadius (107) | 0.079279 |
PaintCorrectionMaskRadius (128) | 0.067821 |
PaintCorrectionMaskRadius (154) | 0.025498 |
PaintCorrectionMaskRadius (187) | 0.006100 |
PaintCorrectionMaskRadius (195) | 0.034707 |
PaintCorrectionMaskRadius (2) | 0.010729 |
PaintCorrectionMaskRadius (207) | 0.251968 |
PaintCorrectionMaskRadius (223) | 0.412321 |
PaintCorrectionMaskRadius (228) | 0.239637 |
PaintCorrectionMaskRadius (233) | 0.055034 |
PaintCorrectionMaskRadius (253) | 0.034722 |
PaintCorrectionMaskRadius (254) | 0.126125 |
PaintCorrectionMaskRadius (255) | 0.215261 |
PaintCorrectionMaskRadius (256) | 0.213132 |
PaintCorrectionMaskRadius (257) | 0.194827 |
PaintCorrectionMaskRadius (258) | 0.214184 |
PaintCorrectionMaskRadius (38) | 0.025951 |
PaintCorrectionMaskRadius (82) | 0.018295 |
PaintCorrectionMaskRadius (95) | 0.008709 |
PaintCorrectionMaskRadius (97) | 0.003748 |
PaintCorrectionMaskRadius | 0.211526 |
PaintCorrectionMaskValue (67) | 1.000000 |
PaintCorrectionMaskValue (95) | 0.405391 |
PaintCorrectionMaskValue (96) | 0.701666 |
PaintCorrectionMaskValue | 0.663161 |
PaintCorrectionMaskWhat | Mask/Paint |
PaintCorrectionMoire | 0.000000 |
PaintCorrectionSaturation (15) | 0.443645 |
PaintCorrectionSaturation (17) | 0.566362 |
PaintCorrectionSaturation (5) | 0.317855 |
PaintCorrectionSaturation | 0.000000 |
PaintCorrectionShadows2012 (1) | 0.162921 |
PaintCorrectionShadows2012 (2) | 0.188290 |
PaintCorrectionShadows2012 | 0.000000 |
PaintCorrectionSharpness | 0.000000 |
PaintCorrectionTemperature (1) | 0.000000 |
PaintCorrectionTemperature (3) | 0.213308 |
PaintCorrectionTemperature | 0.799070 |
PaintCorrectionTint (6) | 0.000000 |
PaintCorrectionTint | 0.696629 |
PaintCorrectionWhat | Correction |
ParametricDarks | 0 |
ParametricHighlights | -67 |
ParametricHighlightSplit | 75 |
ParametricLights | +20 |
ParametricMidtoneSplit | 50 |
ParametricShadows | +3 |
ParametricShadowSplit | 25 |
PerspectiveAspect | 0 |
PerspectiveHorizontal | 0 |
PerspectiveRotate | 0.0 |
PerspectiveScale | 100 |
PerspectiveUpright | 0 |
PerspectiveVertical | 0 |
PostCropVignetteAmount | 0 |
ProcessVersion | 6.7 |
ProfileDescription | sRGB IEC61966-2.1 |
Rating | 5 |
RedHue | 0 |
RedSaturation | 0 |
Saturation (1) | +10 |
Saturation | Normal |
SaturationAdjustmentAqua | 0 |
SaturationAdjustmentBlue | 0 |
SaturationAdjustmentGreen | 0 |
SaturationAdjustmentMagenta | 0 |
SaturationAdjustmentOrange | 0 |
SaturationAdjustmentPurple | 0 |
SaturationAdjustmentRed | 0 |
SaturationAdjustmentYellow | 0 |
ScaleFactor35efl | 1.0 |
SceneCaptureType | Standard |
SceneType | Directly photographed |
SensingMethod | One-chip color area |
SerialNumber | 2058033 |
Shadows2012 | 0 |
ShadowTint | 0 |
SharpenDetail | 25 |
SharpenEdgeMasking | 27 |
SharpenRadius | +1.0 |
Sharpness (1) | 25 |
Sharpness | Normal |
ShutterSpeed | 13 |
ShutterSpeedValue | 13 |
Software | Adobe Photoshop Lightroom 5.4 (Macintosh) |
SplitToningBalance | 0 |
SplitToningHighlightHue | 0 |
SplitToningHighlightSaturation | 6 |
SplitToningShadowHue | 345 |
SplitToningShadowSaturation | 0 |
SubjectDistanceRange | Unknown |
Tint | +10 |
ToneCurve | 0, 0, 255, 255 |
ToneCurveBlue | 0, 0, 255, 255 |
ToneCurveGreen | 0, 0, 255, 255 |
ToneCurveName | Linear |
ToneCurveName2012 | Linear |
ToneCurvePV2012 | 0, 0, 255, 255 |
ToneCurvePV2012Blue | 0, 0, 255, 255 |
ToneCurvePV2012Green | 0, 0, 255, 255 |
ToneCurvePV2012Red | 0, 0, 255, 255 |
ToneCurveRed | 0, 0, 255, 255 |
Version | 8.4 |
Vibrance | +19 |
VignetteAmount | 0 |
WhiteBalance (1) | Shade |
WhiteBalance | Manual |
Whites2012 | +78 |