Felt | Verdi |
AlreadyApplied | True |
Aperture | 16.0 |
ApertureValue | 16.0 |
ApproximateFocusDistance | 2 |
AutoLateralCA | 1 |
AutoWhiteVersion | 134348800 |
BitsPerSample | 8 |
Blacks2012 | 0 |
BlueHue | 0 |
BlueSaturation | +2 |
CameraProfile | Adobe Standard |
CFAPattern | [Red,Green][Green,Blue] |
CircleOfConfusion | 0.030 mm |
Clarity2012 | -75 |
ColorComponents | 3 |
ColorNoiseReduction | 25 |
ColorNoiseReductionDetail | 50 |
ColorNoiseReductionSmoothness | 50 |
ColorTemperature | 6652 |
ColorTransform | YCbCr |
Contrast | Normal |
Contrast2012 | 0 |
ConvertToGrayscale | False |
CreateDate (1) | 2014:06:17 21:03:03.79 |
CreateDate | 2014:06:17 21:03:03 |
CreatorTool | Adobe Photoshop Lightroom 5.4 (Macintosh) |
CropAngle | 0.795845 |
CropBottom | 1 |
CropConstrainToWarp | 1 |
CropLeft | 0.014752 |
CropRight | 0.985248 |
CropTop | 0 |
CustomRendered | Custom |
DateCreated (1) | 2014:06:17 |
DateCreated | 2014:06:17 21:03:03.79 |
DateTimeOriginal | 2014:06:17 21:03:03 |
DefringeGreenAmount | 0 |
DefringeGreenHueHi | 60 |
DefringeGreenHueLo | 40 |
DefringePurpleAmount | 0 |
DefringePurpleHueHi | 70 |
DefringePurpleHueLo | 30 |
DigitalZoomRatio | 1 |
DOF | inf (0.42 m - inf) |
Exposure2012 | +0.30 |
ExposureCompensation | -1/3 |
ExposureMode | Manual |
ExposureProgram | Manual |
ExposureTime | 6 |
Flash | No Flash |
FNumber | 16.0 |
FocalLength | 16.0 mm |
FocalLength35efl | 16.0 mm (35 mm equivalent: 16.0 mm) |
FocalLengthIn35mmFormat | 16 mm |
Format | image/jpeg |
FOV | 96.7 deg |
GainControl | None |
GradientBasedCorrActive | true |
GradientBasedCorrAmount | 1.000000 |
GradientBasedCorrBrightness | 0.000000 |
GradientBasedCorrClarity2012 | 0.000000 |
GradientBasedCorrContrast2012 | 0.000000 |
GradientBasedCorrDefringe | 0.000000 |
GradientBasedCorrExposure2012 | -0.048192 |
GradientBasedCorrHighlights2012 | 0.000000 |
GradientBasedCorrHue | 0.000000 |
GradientBasedCorrLuminanceNoise | 0.000000 |
GradientBasedCorrMaskFullX | 0.289815 |
GradientBasedCorrMaskFullY | 0.268935 |
GradientBasedCorrMaskValue | 1.000000 |
GradientBasedCorrMaskWhat | Mask/Gradient |
GradientBasedCorrMaskZeroX | 0.453699 |
GradientBasedCorrMaskZeroY | 0.669396 |
GradientBasedCorrMoire | 0.000000 |
GradientBasedCorrSaturation | 0.000000 |
GradientBasedCorrShadows2012 | 0.000000 |
GradientBasedCorrSharpness | 0.000000 |
GradientBasedCorrTemperature | 0.000000 |
GradientBasedCorrTint | 0.000000 |
GradientBasedCorrWhat | Correction |
GrainAmount | 0 |
GreenHue | 0 |
GreenSaturation | 0 |
HasCrop | True |
HasExtendedXMP | 5BF86FEF705E0D5557360CFAF68CB6F8 |
HasSettings | True |
Highlights2012 | 0 |
HueAdjustmentAqua | 0 |
HueAdjustmentBlue | 0 |
HueAdjustmentGreen | 0 |
HueAdjustmentMagenta | 0 |
HueAdjustmentOrange | 0 |
HueAdjustmentPurple | 0 |
HueAdjustmentRed | 0 |
HueAdjustmentYellow | 0 |
HyperfocalDistance | 0.53 m |
ImageHeight | 2774 |
ImageNumber | 114026 |
ImageSize | 4169x2774 |
ImageWidth | 4169 |
ISO | 100 |
Lens | 16.0-35.0 mm f/4.0 |
LensID (1) | 163 |
LensID | AF-S Nikkor 16-35mm f/4G ED VR |
LensInfo | 16-35mm f/4 |
LensManualDistortionAmount | 0 |
LensModel | 16.0-35.0 mm f/4.0 |
LensProfileChromaticAberrationScale | 100 |
LensProfileDistortionScale | 100 |
LensProfileEnable | 1 |
LensProfileFilename | NIKON D3X (Nikon AF-S NIKKOR 16-35mm f4G ED VR) - RAW.lcp |
LensProfileName | Adobe (Nikon AF-S NIKKOR 16-35mm f/4G ED VR) |
LensProfileSetup | LensDefaults |
LensProfileVignettingScale | 100 |
LightSource | Fine Weather |
LightValue | 5.4 |
LuminanceAdjustmentAqua | 0 |
LuminanceAdjustmentBlue | 0 |
LuminanceAdjustmentGreen | 0 |
LuminanceAdjustmentMagenta | 0 |
LuminanceAdjustmentOrange | 0 |
LuminanceAdjustmentPurple | 0 |
LuminanceAdjustmentRed | 0 |
LuminanceAdjustmentYellow | 0 |
LuminanceSmoothing | 0 |
Make | NIKON CORPORATION |
MaxApertureValue | 4.0 |
Megapixels | 11.6 |
MeteringMode | Center-weighted average |
Model | NIKON D3S |
ModifyDate (1) | 2014:06:18 12:27:37+02:00 |
ModifyDate | 2014:06:18 12:27:37 |
PaintCorrectionActive | true |
PaintCorrectionAmount | 1.000000 |
PaintCorrectionBrightness | 0.000000 |
PaintCorrectionClarity2012 (1) | 0.486745 |
PaintCorrectionClarity2012 (2) | 0.813553 |
PaintCorrectionClarity2012 (4) | 0.000000 |
PaintCorrectionClarity2012 | 0.232619 |
PaintCorrectionContrast2012 | 0.000000 |
PaintCorrectionDefringe | 0.000000 |
PaintCorrectionExposure2012 (1) | -0.091731 |
PaintCorrectionExposure2012 (2) | 0.131232 |
PaintCorrectionExposure2012 (3) | 0.110516 |
PaintCorrectionExposure2012 (4) | -0.051440 |
PaintCorrectionExposure2012 (5) | 0.000000 |
PaintCorrectionExposure2012 | 0.393522 |
PaintCorrectionHighlights2012 (1) | -0.303985 |
PaintCorrectionHighlights2012 (5) | -0.136324 |
PaintCorrectionHighlights2012 | 0.000000 |
PaintCorrectionHue | 0.000000 |
PaintCorrectionLuminanceNoise | 0.000000 |
PaintCorrectionMaskCenterWeight (36) | 0.116011 |
PaintCorrectionMaskCenterWeight | 0.003316 |
PaintCorrectionMaskFlow | 0.849010 |
PaintCorrectionMaskRadius (1) | 0.083576 |
PaintCorrectionMaskRadius (100) | 0.009701 |
PaintCorrectionMaskRadius (101) | 0.009732 |
PaintCorrectionMaskRadius (102) | 0.009581 |
PaintCorrectionMaskRadius (103) | 0.009546 |
PaintCorrectionMaskRadius (104) | 0.009555 |
PaintCorrectionMaskRadius (105) | 0.009491 |
PaintCorrectionMaskRadius (106) | 0.009608 |
PaintCorrectionMaskRadius (107) | 0.009173 |
PaintCorrectionMaskRadius (108) | 0.009241 |
PaintCorrectionMaskRadius (109) | 0.009184 |
PaintCorrectionMaskRadius (110) | 0.009157 |
PaintCorrectionMaskRadius (111) | 0.009126 |
PaintCorrectionMaskRadius (112) | 0.009086 |
PaintCorrectionMaskRadius (113) | 0.009890 |
PaintCorrectionMaskRadius (114) | 0.009904 |
PaintCorrectionMaskRadius (115) | 0.009880 |
PaintCorrectionMaskRadius (116) | 0.008798 |
PaintCorrectionMaskRadius (117) | 0.008422 |
PaintCorrectionMaskRadius (118) | 0.008514 |
PaintCorrectionMaskRadius (119) | 0.008597 |
PaintCorrectionMaskRadius (121) | 0.008802 |
PaintCorrectionMaskRadius (122) | 0.008735 |
PaintCorrectionMaskRadius (123) | 0.009019 |
PaintCorrectionMaskRadius (124) | 0.008855 |
PaintCorrectionMaskRadius (125) | 0.008815 |
PaintCorrectionMaskRadius (126) | 0.008751 |
PaintCorrectionMaskRadius (127) | 0.008851 |
PaintCorrectionMaskRadius (28) | 0.010157 |
PaintCorrectionMaskRadius (40) | 0.086691 |
PaintCorrectionMaskRadius (54) | 0.030472 |
PaintCorrectionMaskRadius (56) | 0.083324 |
PaintCorrectionMaskRadius (57) | 0.081902 |
PaintCorrectionMaskRadius (58) | 0.081324 |
PaintCorrectionMaskRadius (59) | 0.085983 |
PaintCorrectionMaskRadius (60) | 0.078531 |
PaintCorrectionMaskRadius (61) | 0.074939 |
PaintCorrectionMaskRadius (62) | 0.080108 |
PaintCorrectionMaskRadius (63) | 0.018584 |
PaintCorrectionMaskRadius (64) | 0.018123 |
PaintCorrectionMaskRadius (65) | 0.011027 |
PaintCorrectionMaskRadius (66) | 0.011063 |
PaintCorrectionMaskRadius (67) | 0.011013 |
PaintCorrectionMaskRadius (68) | 0.010991 |
PaintCorrectionMaskRadius (69) | 0.010945 |
PaintCorrectionMaskRadius (70) | 0.010718 |
PaintCorrectionMaskRadius (71) | 0.010521 |
PaintCorrectionMaskRadius (72) | 0.010288 |
PaintCorrectionMaskRadius (73) | 0.009694 |
PaintCorrectionMaskRadius (74) | 0.010132 |
PaintCorrectionMaskRadius (75) | 0.010114 |
PaintCorrectionMaskRadius (76) | 0.010917 |
PaintCorrectionMaskRadius (77) | 0.010988 |
PaintCorrectionMaskRadius (78) | 0.011012 |
PaintCorrectionMaskRadius (79) | 0.029354 |
PaintCorrectionMaskRadius (80) | 0.028253 |
PaintCorrectionMaskRadius (81) | 0.029971 |
PaintCorrectionMaskRadius (82) | 0.028869 |
PaintCorrectionMaskRadius (83) | 0.027720 |
PaintCorrectionMaskRadius (84) | 0.030573 |
PaintCorrectionMaskRadius (85) | 0.031260 |
PaintCorrectionMaskRadius (86) | 0.030426 |
PaintCorrectionMaskRadius (87) | 0.109942 |
PaintCorrectionMaskRadius (88) | 0.208275 |
PaintCorrectionMaskRadius (89) | 0.009043 |
PaintCorrectionMaskRadius (9) | 0.181449 |
PaintCorrectionMaskRadius (90) | 0.009005 |
PaintCorrectionMaskRadius (91) | 0.009025 |
PaintCorrectionMaskRadius (92) | 0.009345 |
PaintCorrectionMaskRadius (93) | 0.009445 |
PaintCorrectionMaskRadius (94) | 0.009371 |
PaintCorrectionMaskRadius (95) | 0.009516 |
PaintCorrectionMaskRadius (96) | 0.009574 |
PaintCorrectionMaskRadius (97) | 0.009602 |
PaintCorrectionMaskRadius (98) | 0.009605 |
PaintCorrectionMaskRadius (99) | 0.009639 |
PaintCorrectionMaskRadius | 0.008901 |
PaintCorrectionMaskValue | 0.900884 |
PaintCorrectionMaskWhat | Mask/Paint |
PaintCorrectionMoire | 0.000000 |
PaintCorrectionSaturation (1) | 0.624386 |
PaintCorrectionSaturation (11) | 0.393697 |
PaintCorrectionSaturation (3) | -0.197156 |
PaintCorrectionSaturation | 0.000000 |
PaintCorrectionShadows2012 (1) | -0.711728 |
PaintCorrectionShadows2012 (2) | 0.192767 |
PaintCorrectionShadows2012 (3) | 0.134480 |
PaintCorrectionShadows2012 (4) | -0.076721 |
PaintCorrectionShadows2012 (5) | 0.000000 |
PaintCorrectionShadows2012 | 0.046875 |
PaintCorrectionSharpness | 0.000000 |
PaintCorrectionTemperature (2) | -0.333655 |
PaintCorrectionTemperature (5) | 0.109375 |
PaintCorrectionTemperature | 0.000000 |
PaintCorrectionTint | 0.000000 |
PaintCorrectionWhat | Correction |
ParametricDarks | +20 |
ParametricHighlights | -23 |
ParametricHighlightSplit | 75 |
ParametricLights | +24 |
ParametricMidtoneSplit | 50 |
ParametricShadows | 0 |
ParametricShadowSplit | 25 |
PerspectiveAspect | 0 |
PerspectiveHorizontal | 0 |
PerspectiveRotate | 0.0 |
PerspectiveScale | 100 |
PerspectiveUpright | 0 |
PerspectiveVertical | 0 |
PostCropVignetteAmount | -26 |
PostCropVignetteFeather | 98 |
PostCropVignetteHighlightContrast | 0 |
PostCropVignetteMidpoint | 50 |
PostCropVignetteRoundness | 0 |
PostCropVignetteStyle | 1 |
ProcessVersion | 6.7 |
ProfileDescription | sRGB IEC61966-2.1 |
Rating | 5 |
RedHue | +3 |
RedSaturation | 0 |
Saturation (1) | +20 |
Saturation | Normal |
SaturationAdjustmentAqua | 0 |
SaturationAdjustmentBlue | 0 |
SaturationAdjustmentGreen | 0 |
SaturationAdjustmentMagenta | 0 |
SaturationAdjustmentOrange | 0 |
SaturationAdjustmentPurple | 0 |
SaturationAdjustmentRed | 0 |
SaturationAdjustmentYellow | 0 |
ScaleFactor35efl | 1.0 |
SceneCaptureType | Standard |
SceneType | Directly photographed |
SensingMethod | One-chip color area |
SerialNumber | 2058033 |
Shadows2012 | +100 |
ShadowTint | 0 |
SharpenDetail | 25 |
SharpenEdgeMasking | 0 |
SharpenRadius | +1.0 |
Sharpness (1) | 25 |
Sharpness | Normal |
ShutterSpeed | 6 |
ShutterSpeedValue | 6 |
Software | Adobe Photoshop Lightroom 5.4 (Macintosh) |
SplitToningBalance | 0 |
SplitToningHighlightHue | 0 |
SplitToningHighlightSaturation | 16 |
SplitToningShadowHue | 0 |
SplitToningShadowSaturation | 0 |
SubjectDistanceRange | Unknown |
Tint | +10 |
ToneCurve | 0, 0, 255, 255 |
ToneCurveBlue | 0, 0, 255, 255 |
ToneCurveGreen | 0, 0, 255, 255 |
ToneCurveName | Linear |
ToneCurveName2012 | Linear |
ToneCurvePV2012 | 0, 0, 255, 255 |
ToneCurvePV2012Blue | 0, 0, 255, 255 |
ToneCurvePV2012Green | 0, 0, 255, 255 |
ToneCurvePV2012Red | 0, 0, 255, 255 |
ToneCurveRed | 0, 0, 255, 255 |
Version | 8.4 |
Vibrance | 0 |
VignetteAmount | 0 |
WhiteBalance (1) | Custom |
WhiteBalance | Manual |
Whites2012 | +37 |