Felt | Verdi |
AlreadyApplied | True |
Aperture | 16.0 |
ApertureValue | 16.0 |
ApproximateFocusDistance | 2 |
AutoLateralCA | 0 |
AutoWhiteVersion | 134348800 |
BitsPerSample | 8 |
Blacks2012 | 0 |
BlueHue | 0 |
BlueSaturation | 0 |
CameraProfile | Adobe Standard |
CFAPattern | [Red,Green][Green,Blue] |
CircleOfConfusion | 0.030 mm |
Clarity2012 | 0 |
ColorComponents | 3 |
ColorNoiseReduction | 25 |
ColorNoiseReductionDetail | 50 |
ColorNoiseReductionSmoothness | 50 |
ColorTemperature | 6652 |
ColorTransform | YCbCr |
Contrast | Normal |
Contrast2012 | +25 |
ConvertToGrayscale | False |
CreateDate (1) | 2014:06:17 21:16:40.24 |
CreateDate | 2014:06:17 21:16:40 |
CreatorTool | Adobe Photoshop Lightroom 5.4 (Macintosh) |
CropAngle | 0 |
CropBottom | 0.920016 |
CropConstrainToWarp | 0 |
CropLeft | 0.15552 |
CropRight | 0.892755 |
CropTop | 0.182782 |
CustomRendered | Normal |
DateCreated (1) | 2014:06:17 |
DateCreated | 2014:06:17 21:16:40.24 |
DateTimeOriginal | 2014:06:17 21:16:40 |
DefringeGreenAmount | 0 |
DefringeGreenHueHi | 60 |
DefringeGreenHueLo | 40 |
DefringePurpleAmount | 0 |
DefringePurpleHueHi | 70 |
DefringePurpleHueLo | 30 |
DigitalZoomRatio | 1 |
DOF | inf (0.42 m - inf) |
Exposure2012 | +0.30 |
ExposureCompensation | -1/3 |
ExposureMode | Manual |
ExposureProgram | Manual |
ExposureTime | 1 |
Flash | No Flash |
FNumber | 16.0 |
FocalLength | 16.0 mm |
FocalLength35efl | 16.0 mm (35 mm equivalent: 16.0 mm) |
FocalLengthIn35mmFormat | 16 mm |
Format | image/jpeg |
FOV | 96.7 deg |
GainControl | None |
GradientBasedCorrActive | true |
GradientBasedCorrAmount | 1.000000 |
GradientBasedCorrBrightness | 0.000000 |
GradientBasedCorrClarity2012 | 0.000000 |
GradientBasedCorrContrast2012 (2) | 0.000000 |
GradientBasedCorrContrast2012 | -0.572770 |
GradientBasedCorrDefringe | 0.000000 |
GradientBasedCorrExposure2012 (1) | -0.092697 |
GradientBasedCorrExposure2012 (2) | 0.209884 |
GradientBasedCorrExposure2012 | 0.000000 |
GradientBasedCorrHighlights2012 | 0.000000 |
GradientBasedCorrHue | 0.000000 |
GradientBasedCorrLuminanceNoise | 0.000000 |
GradientBasedCorrMaskFullX (1) | 0.468792 |
GradientBasedCorrMaskFullX (2) | 0.468698 |
GradientBasedCorrMaskFullX | 0.522856 |
GradientBasedCorrMaskFullY (1) | 0.484187 |
GradientBasedCorrMaskFullY (2) | 0.758236 |
GradientBasedCorrMaskFullY | 0.696440 |
GradientBasedCorrMaskValue | 1.000000 |
GradientBasedCorrMaskWhat | Mask/Gradient |
GradientBasedCorrMaskZeroX (1) | 0.478490 |
GradientBasedCorrMaskZeroX (2) | 0.450592 |
GradientBasedCorrMaskZeroX | 0.520203 |
GradientBasedCorrMaskZeroY (1) | 0.744823 |
GradientBasedCorrMaskZeroY (2) | 0.503090 |
GradientBasedCorrMaskZeroY | 0.505727 |
GradientBasedCorrMoire | 0.000000 |
GradientBasedCorrSaturation | 0.000000 |
GradientBasedCorrShadows2012 | 0.000000 |
GradientBasedCorrSharpness | 0.000000 |
GradientBasedCorrTemperature | 0.000000 |
GradientBasedCorrTint | 0.000000 |
GradientBasedCorrWhat | Correction |
GrainAmount | 0 |
GreenHue | 0 |
GreenSaturation | 0 |
HasCrop | True |
HasExtendedXMP | 5E23F2F1ABC0AC140727FE73AE23FD03 |
HasSettings | True |
Highlights2012 | -11 |
HueAdjustmentAqua | 0 |
HueAdjustmentBlue | 0 |
HueAdjustmentGreen | 0 |
HueAdjustmentMagenta | 0 |
HueAdjustmentOrange | 0 |
HueAdjustmentPurple | 0 |
HueAdjustmentRed | 0 |
HueAdjustmentYellow | 0 |
HyperfocalDistance | 0.53 m |
ImageHeight | 2088 |
ImageNumber | 114037 |
ImageSize | 3138x2088 |
ImageWidth | 3138 |
ISO | 100 |
Lens | 16.0-35.0 mm f/4.0 |
LensID (1) | 163 |
LensID | AF-S Nikkor 16-35mm f/4G ED VR |
LensInfo | 16-35mm f/4 |
LensManualDistortionAmount | 0 |
LensModel | 16.0-35.0 mm f/4.0 |
LensProfileEnable | 0 |
LensProfileSetup | LensDefaults |
LightSource | Fine Weather |
LightValue | 8.0 |
LuminanceAdjustmentAqua | 0 |
LuminanceAdjustmentBlue | 0 |
LuminanceAdjustmentGreen | 0 |
LuminanceAdjustmentMagenta | 0 |
LuminanceAdjustmentOrange | 0 |
LuminanceAdjustmentPurple | 0 |
LuminanceAdjustmentRed | 0 |
LuminanceAdjustmentYellow | 0 |
LuminanceSmoothing | 0 |
Make | NIKON CORPORATION |
MaxApertureValue | 4.0 |
Megapixels | 6.6 |
MeteringMode | Center-weighted average |
Model | NIKON D3S |
ModifyDate (1) | 2014:06:18 12:38:41+02:00 |
ModifyDate | 2014:06:18 12:38:41 |
PaintCorrectionActive | true |
PaintCorrectionAmount | 1.000000 |
PaintCorrectionBrightness | 0.000000 |
PaintCorrectionClarity2012 (3) | 0.368680 |
PaintCorrectionClarity2012 (4) | 0.257725 |
PaintCorrectionClarity2012 | 0.000000 |
PaintCorrectionContrast2012 (2) | 0.359726 |
PaintCorrectionContrast2012 (3) | 0.413624 |
PaintCorrectionContrast2012 | 0.000000 |
PaintCorrectionDefringe | 0.000000 |
PaintCorrectionExposure2012 (1) | 0.352265 |
PaintCorrectionExposure2012 (2) | 0.145541 |
PaintCorrectionExposure2012 (3) | -0.064958 |
PaintCorrectionExposure2012 (5) | 0.000000 |
PaintCorrectionExposure2012 (6) | 0.129301 |
PaintCorrectionExposure2012 | 0.292486 |
PaintCorrectionHighlights2012 (3) | 0.159498 |
PaintCorrectionHighlights2012 (5) | -1.000000 |
PaintCorrectionHighlights2012 | 0.000000 |
PaintCorrectionHue | 0.000000 |
PaintCorrectionLuminanceNoise | 0.000000 |
PaintCorrectionMaskCenterWeight (117) | 0.116011 |
PaintCorrectionMaskCenterWeight (30) | 0.000000 |
PaintCorrectionMaskCenterWeight (80) | 0.900509 |
PaintCorrectionMaskCenterWeight | 0.003316 |
PaintCorrectionMaskFlow (11) | 0.643879 |
PaintCorrectionMaskFlow (39) | 0.849010 |
PaintCorrectionMaskFlow | 0.562498 |
PaintCorrectionMaskRadius (118) | 0.117716 |
PaintCorrectionMaskRadius (120) | 0.061615 |
PaintCorrectionMaskRadius (129) | 0.269974 |
PaintCorrectionMaskRadius (13) | 0.176651 |
PaintCorrectionMaskRadius (137) | 0.065795 |
PaintCorrectionMaskRadius (140) | 0.015683 |
PaintCorrectionMaskRadius (141) | 0.010456 |
PaintCorrectionMaskRadius (143) | 0.020509 |
PaintCorrectionMaskRadius (144) | 0.022797 |
PaintCorrectionMaskRadius (27) | 0.086978 |
PaintCorrectionMaskRadius (32) | 0.018353 |
PaintCorrectionMaskRadius (43) | 0.034382 |
PaintCorrectionMaskRadius | 0.007599 |
PaintCorrectionMaskValue (6) | 0.663161 |
PaintCorrectionMaskValue (98) | 0.900884 |
PaintCorrectionMaskValue | 0.558079 |
PaintCorrectionMaskWhat | Mask/Paint |
PaintCorrectionMoire | 0.000000 |
PaintCorrectionSaturation (5) | 0.235077 |
PaintCorrectionSaturation (7) | 0.309691 |
PaintCorrectionSaturation | 0.000000 |
PaintCorrectionShadows2012 | 0.000000 |
PaintCorrectionSharpness | 0.000000 |
PaintCorrectionTemperature (3) | -0.099895 |
PaintCorrectionTemperature (4) | -0.182584 |
PaintCorrectionTemperature (5) | -0.274052 |
PaintCorrectionTemperature | 0.000000 |
PaintCorrectionTint (3) | 0.101387 |
PaintCorrectionTint (4) | 0.932496 |
PaintCorrectionTint (5) | 1.000000 |
PaintCorrectionTint | 0.000000 |
PaintCorrectionWhat | Correction |
ParametricDarks | 0 |
ParametricHighlights | 0 |
ParametricHighlightSplit | 75 |
ParametricLights | 0 |
ParametricMidtoneSplit | 50 |
ParametricShadows | 0 |
ParametricShadowSplit | 25 |
PerspectiveAspect | 0 |
PerspectiveHorizontal | 0 |
PerspectiveRotate | 0.0 |
PerspectiveScale | 100 |
PerspectiveUpright | 0 |
PerspectiveVertical | 0 |
PostCropVignetteAmount | 0 |
ProcessVersion | 6.7 |
ProfileDescription | sRGB IEC61966-2.1 |
Rating | 5 |
RedHue | 0 |
RedSaturation | 0 |
Saturation (1) | 0 |
Saturation | Normal |
SaturationAdjustmentAqua | 0 |
SaturationAdjustmentBlue | 0 |
SaturationAdjustmentGreen | 0 |
SaturationAdjustmentMagenta | 0 |
SaturationAdjustmentOrange | 0 |
SaturationAdjustmentPurple | 0 |
SaturationAdjustmentRed | 0 |
SaturationAdjustmentYellow | 0 |
ScaleFactor35efl | 1.0 |
SceneCaptureType | Standard |
SceneType | Directly photographed |
SensingMethod | One-chip color area |
SerialNumber | 2058033 |
Shadows2012 | +23 |
ShadowTint | 0 |
SharpenDetail | 37 |
SharpenEdgeMasking | 0 |
SharpenRadius | +1.4 |
Sharpness (1) | 49 |
Sharpness | Normal |
ShutterSpeed | 1 |
ShutterSpeedValue | 1 |
Software | Adobe Photoshop Lightroom 5.4 (Macintosh) |
SplitToningBalance | 0 |
SplitToningHighlightHue | 0 |
SplitToningHighlightSaturation | 0 |
SplitToningShadowHue | 0 |
SplitToningShadowSaturation | 0 |
SubjectDistanceRange | Unknown |
Tint | +10 |
ToneCurve | 0, 0, 255, 255 |
ToneCurveBlue | 0, 0, 255, 255 |
ToneCurveGreen | 0, 0, 255, 255 |
ToneCurveName | Linear |
ToneCurveName2012 | Linear |
ToneCurvePV2012 | 0, 0, 255, 255 |
ToneCurvePV2012Blue | 0, 0, 255, 255 |
ToneCurvePV2012Green | 0, 0, 255, 255 |
ToneCurvePV2012Red | 0, 0, 255, 255 |
ToneCurveRed | 0, 0, 255, 255 |
Version | 8.4 |
Vibrance | 0 |
VignetteAmount | 0 |
WhiteBalance (1) | Custom |
WhiteBalance | Manual |
Whites2012 | +36 |