Felt | Verdi |
AlreadyApplied | True |
Aperture | 6.3 |
ApertureValue | 6.3 |
Artist | Torstein Hall |
AutoLateralCA | 0 |
AutoWhiteVersion | 134348800 |
BitsPerSample | 8 |
Blacks2012 | +10 |
BlueHue | 0 |
BlueSaturation | 0 |
By-line | Torstein Hall |
CameraProfile | Adobe Standard |
Caption-Abstract | OLYMPUS DIGITAL CAMERA |
CFAPattern | [Blue,Green][Green,Red] |
CircleOfConfusion | 0.015 mm |
Clarity2012 | +6 |
ColorComponents | 3 |
ColorNoiseReduction | 32 |
ColorNoiseReductionDetail | 50 |
ColorNoiseReductionSmoothness | 50 |
ColorSpace | sRGB |
ColorTemperature | 5571 |
ColorTransform | YCbCr |
Contrast | Normal |
Contrast2012 | +25 |
ConvertToGrayscale | False |
Copyright | Foto: Torstein Hall |
CopyrightFlag | True |
CopyrightNotice | Foto: Torstein Hall |
CreateDate (1) | 2009:03:15 17:05:16+01:00 |
CreateDate | 2009:03:15 17:05:16 |
Creator | Torstein Hall |
CreatorAddress | Undelstadveien 33D |
CreatorCountry | Asker |
CreatorPostalCode | 1387 |
CreatorRegion | Norway |
CreatorTool | Adobe Photoshop Lightroom 5.5 (Windows) |
CropAngle | 0 |
CropBottom | 1 |
CropConstrainToWarp | 0 |
CropLeft | 0.105072 |
CropRight | 0.971631 |
CropTop | 0.210619 |
CustomRendered | Normal |
DateCreated (1) | 2009:03:15 |
DateCreated | 2009:03:15 17:05:16+01:00 |
DateTimeOriginal | 2009:03:15 17:05:16 |
DefringeGreenAmount | 0 |
DefringeGreenHueHi | 60 |
DefringeGreenHueLo | 40 |
DefringePurpleAmount | 0 |
DefringePurpleHueHi | 70 |
DefringePurpleHueLo | 30 |
DerivedFrom | |
Description | OLYMPUS DIGITAL CAMERA |
DigitalZoomRatio | 1 |
Exposure2012 | 0.00 |
ExposureCompensation | +0.7 |
ExposureMode | Manual |
ExposureProgram | Aperture-priority AE |
ExposureTime | 1/200 |
Flash | On, Did not fire |
FlashCompensation | 0 |
FNumber | 6.3 |
FocalLength | 54.0 mm |
FocalLength35efl | 54.0 mm (35 mm equivalent: 108.0 mm) |
FocalLengthIn35mmFormat | 108 mm |
Format | image/jpeg |
FOV | 18.9 deg |
GainControl | Low gain up |
GrainAmount | 0 |
GreenHue | 0 |
GreenSaturation | 0 |
HasCrop | True |
HasExtendedXMP | 73A518B6BDF07D77E3261771E5C99D00 |
HasSettings | True |
Highlights2012 | 0 |
HueAdjustmentAqua | 0 |
HueAdjustmentBlue | 0 |
HueAdjustmentGreen | 0 |
HueAdjustmentMagenta | 0 |
HueAdjustmentOrange | 0 |
HueAdjustmentPurple | 0 |
HueAdjustmentRed | 0 |
HueAdjustmentYellow | 0 |
HyperfocalDistance | 30.81 m |
ImageDescription | OLYMPUS DIGITAL CAMERA |
ImageHeight | 1366 |
ImageSize | 2000x1366 |
ImageWidth | 2000 |
ISO | 200 |
Lens | 14.0-54.0 mm f/2.8-3.5 |
LensInfo | 14-54mm f/2.8-3.5 |
LensManualDistortionAmount | 0 |
LensModel | 14.0-54.0 mm f/2.8-3.5 |
LensProfileEnable | 0 |
LensProfileSetup | LensDefaults |
LensSerialNumber | 050304913 |
LightSource | Unknown |
LightValue | 12.0 |
LuminanceAdjustmentAqua | 0 |
LuminanceAdjustmentBlue | 0 |
LuminanceAdjustmentGreen | 0 |
LuminanceAdjustmentMagenta | 0 |
LuminanceAdjustmentOrange | 0 |
LuminanceAdjustmentPurple | 0 |
LuminanceAdjustmentRed | 0 |
LuminanceAdjustmentYellow | 0 |
LuminanceNoiseReductionContrast | 50 |
LuminanceNoiseReductionDetail | 50 |
LuminanceSmoothing | 41 |
Make | OLYMPUS IMAGING CORP. |
Marked | True |
MaxApertureValue | 2.8 |
Megapixels | 2.7 |
MeteringMode | Multi-segment |
Model | E-30 |
ModifyDate (1) | 2014:07:01 11:12:15+02:00 |
ModifyDate | 2014:07:01 11:12:15 |
PaintCorrectionActive | true |
PaintCorrectionAmount | 1.000000 |
PaintCorrectionBrightness | 0.000000 |
PaintCorrectionClarity2012 (1) | 0.357140 |
PaintCorrectionClarity2012 (2) | 0.714290 |
PaintCorrectionClarity2012 (3) | 0.000000 |
PaintCorrectionClarity2012 (6) | -0.404760 |
PaintCorrectionClarity2012 (7) | -0.476190 |
PaintCorrectionClarity2012 | 0.142860 |
PaintCorrectionContrast2012 (2) | 0.357140 |
PaintCorrectionContrast2012 | 0.000000 |
PaintCorrectionDefringe (1) | 0.166670 |
PaintCorrectionDefringe | 0.000000 |
PaintCorrectionExposure2012 (1) | 0.762000 |
PaintCorrectionExposure2012 (3) | 0.000000 |
PaintCorrectionExposure2012 (8) | 0.262000 |
PaintCorrectionExposure2012 | 0.142750 |
PaintCorrectionHighlights2012 | 0.000000 |
PaintCorrectionHue (1) | 344.000000 |
PaintCorrectionHue | 0.000000 |
PaintCorrectionLuminanceNoise | 0.000000 |
PaintCorrectionMaskCenterWeight (36) | 0.109033 |
PaintCorrectionMaskCenterWeight (6) | 0.094215 |
PaintCorrectionMaskCenterWeight | 0.234304 |
PaintCorrectionMaskFlow (30) | 1.000000 |
PaintCorrectionMaskFlow | 0.965000 |
PaintCorrectionMaskRadius (1) | 0.056114 |
PaintCorrectionMaskRadius (11) | 0.070085 |
PaintCorrectionMaskRadius (20) | 0.032689 |
PaintCorrectionMaskRadius (21) | 0.054436 |
PaintCorrectionMaskRadius (26) | 0.022593 |
PaintCorrectionMaskRadius (35) | 0.013013 |
PaintCorrectionMaskRadius (39) | 0.009936 |
PaintCorrectionMaskRadius (4) | 0.030138 |
PaintCorrectionMaskRadius (43) | 0.013286 |
PaintCorrectionMaskRadius (46) | 0.013291 |
PaintCorrectionMaskRadius (6) | 0.046981 |
PaintCorrectionMaskRadius (7) | 0.066087 |
PaintCorrectionMaskRadius (8) | 0.043304 |
PaintCorrectionMaskRadius (9) | 0.019342 |
PaintCorrectionMaskRadius | 0.009939 |
PaintCorrectionMaskValue (1) | 1.000000 |
PaintCorrectionMaskValue (47) | 0.000000 |
PaintCorrectionMaskValue | 0.744000 |
PaintCorrectionMaskWhat | Mask/Paint |
PaintCorrectionMoire | 0.000000 |
PaintCorrectionSaturation (1) | 0.285710 |
PaintCorrectionSaturation (11) | -0.071430 |
PaintCorrectionSaturation (17) | 0.214290 |
PaintCorrectionSaturation (5) | 0.571430 |
PaintCorrectionSaturation | 0.000000 |
PaintCorrectionShadows2012 | 0.000000 |
PaintCorrectionSharpness (1) | 0.119050 |
PaintCorrectionSharpness (3) | 0.166670 |
PaintCorrectionSharpness (5) | -1.000000 |
PaintCorrectionSharpness | 0.000000 |
PaintCorrectionTemperature | 0.000000 |
PaintCorrectionTint | 0.000000 |
PaintCorrectionWhat | Correction |
ParametricDarks | +4 |
ParametricHighlights | 0 |
ParametricHighlightSplit | 75 |
ParametricLights | 0 |
ParametricMidtoneSplit | 50 |
ParametricShadows | 0 |
ParametricShadowSplit | 25 |
PerspectiveAspect | 0 |
PerspectiveHorizontal | 0 |
PerspectiveRotate | 0.0 |
PerspectiveScale | 100 |
PerspectiveUpright | 0 |
PerspectiveVertical | 0 |
PostCropVignetteAmount | -33 |
PostCropVignetteFeather | 50 |
PostCropVignetteHighlightContrast | 0 |
PostCropVignetteMidpoint | 38 |
PostCropVignetteRoundness | -19 |
PostCropVignetteStyle | 1 |
ProcessVersion | 6.7 |
ProfileDescription | sRGB IEC61966-2.1 |
Rating | 2 |
RedHue | 0 |
RedSaturation | 0 |
Rights | Foto: Torstein Hall |
Saturation (1) | +2 |
Saturation | Normal |
SaturationAdjustmentAqua | 0 |
SaturationAdjustmentBlue | 0 |
SaturationAdjustmentGreen | 0 |
SaturationAdjustmentMagenta | 0 |
SaturationAdjustmentOrange | 0 |
SaturationAdjustmentPurple | 0 |
SaturationAdjustmentRed | 0 |
SaturationAdjustmentYellow | 0 |
ScaleFactor35efl | 2.0 |
SceneCaptureType | Standard |
SerialNumber | G68503300 |
Shadows2012 | +17 |
ShadowTint | 0 |
SharpenDetail | 27 |
SharpenEdgeMasking | 3 |
SharpenRadius | +1.1 |
Sharpness (1) | 35 |
Sharpness | Normal |
ShutterSpeed | 1/200 |
ShutterSpeedValue | 1/200 |
Software | Adobe Photoshop Lightroom 5.5 (Windows) |
SplitToningBalance | 0 |
SplitToningHighlightHue | 0 |
SplitToningHighlightSaturation | 0 |
SplitToningShadowHue | 0 |
SplitToningShadowSaturation | 0 |
Tint | -16 |
ToneCurve | 0, 0, 255, 255 |
ToneCurveBlue | 0, 0, 255, 255 |
ToneCurveGreen | 0, 0, 255, 255 |
ToneCurveName | Linear |
ToneCurveName2012 | Linear |
ToneCurvePV2012 | 0, 0, 255, 255 |
ToneCurvePV2012Blue | 0, 0, 255, 255 |
ToneCurvePV2012Green | 0, 0, 255, 255 |
ToneCurvePV2012Red | 0, 0, 255, 255 |
ToneCurveRed | 0, 0, 255, 255 |
Version | 8.5 |
Vibrance | +10 |
VignetteAmount | 0 |
WhiteBalance (1) | Custom |
WhiteBalance | Auto |
Whites2012 | -14 |