Felt | Verdi |
AddOriginalDecisionData | Off |
AEBBracketValue | 0 |
AESetting | AE Lock |
AFAreaHeights | 186 1 186 1 231 127 1 186 186 |
AFAreaMode | Single-point AF |
AFAreaWidths | 139 1 139 1 238 196 1 139 139 |
AFAreaXPositions | -1731 -1943 -1154 -1943 -254 -280 -1943 618 1222 |
AFAreaYPositions | 636 1005 199 1005 588 -198 1005 142 541 |
AFAssistBeam | Emits |
AFImageHeight | 2011 |
AFImageWidth | 3886 |
AFPointsInFocus | 4 |
AFPointsSelected | (none) |
AlreadyApplied | False |
Aperture | 11.0 |
ApertureValue | 11.3 |
ApproximateFocusDistance | 4294967295 |
Artist | |
AutoExposureBracketing | Off |
AutoISO | 100 |
AutoLateralCA | 0 |
AutoLightingOptimizer | Standard |
AutoWhiteVersion | 134348800 |
BaseISO | 0 |
BitsPerSample | 8 |
BlackMaskBottomBorder | 0 |
BlackMaskLeftBorder | 0 |
BlackMaskRightBorder | 0 |
BlackMaskTopBorder | 0 |
Blacks2012 | 0 |
BlueHue | 0 |
BlueSaturation | 0 |
BracketMode | Off |
BracketShotNumber | 0 |
BracketValue | 0 |
BulbDuration | 0 |
CameraProfile | Embedded |
CameraType | n/a |
CanonExposureMode | Aperture-priority AE |
CanonFirmwareVersion | Firmware Version 1.0.1 |
CanonFlashMode | Off |
CanonImageHeight | 2011 |
CanonImageSize | Large |
CanonImageType | Canon EOS 600D |
CanonImageWidth | 3886 |
CanonModelID | EOS Rebel T3i / 600D / Kiss X5 |
ChromaticAberrationCorr | Off |
CircleOfConfusion | 0.019 mm |
Clarity2012 | +20 |
ColorComponents | 3 |
ColorNoiseReduction | 0 |
ColorSpace | sRGB |
ColorTemperature | 5200 |
ColorTone | Normal |
ContinuousDrive | Single |
Contrast | Normal |
Contrast2012 | 0 |
ControlMode | n/a |
ConvertToGrayscale | False |
CreateDate | 2012:10:07 09:18:34 |
CreatorTool | Digital Photo Professional |
CustomPictureStyleFileName | |
CustomRendered | Normal |
DateCreated (1) | 2012:10:07 |
DateCreated | 2012:10:07 09:18:34 |
DateTimeOriginal | 2012:10:07 09:18:34 |
DefringeGreenAmount | 0 |
DefringeGreenHueHi | 60 |
DefringeGreenHueLo | 40 |
DefringePurpleAmount | 0 |
DefringePurpleHueHi | 70 |
DefringePurpleHueLo | 30 |
DigitalGain | 0 |
DigitalZoom | Unknown (-1) |
DistortionCorrection | Off |
DistortionCorrectionValue | 0 |
DOF | inf (6.17 m - inf) |
DriveMode | Single-frame Shooting |
EasyMode | Manual |
ExifImageHeight | 2011 |
ExifImageWidth | 3886 |
Exposure2012 | +0.25 |
ExposureCompensation | 0 |
ExposureLevelIncrements | 1/3 Stop |
ExposureMode | Auto |
ExposureTime (1) | 1/59 |
ExposureTime | 1/60 |
FileNumber | 0 |
Firmware | 1.0.1 |
Flash | Off, Did not fire |
FlashBits | (none) |
FlashCompensation | 0 |
FlashExposureComp | 0 |
FlashExposureLock | Off |
FlashGuideNumber | 0 |
FlashSyncSpeedAv | Auto |
FNumber (1) | 11 |
FNumber | 11.0 |
FocalLength (1) | 36 mm |
FocalLength | 36.0 mm |
FocalLength35efl | 36.0 mm (35 mm equivalent: 56.6 mm) |
FocalUnits | 1/mm |
FocusDistanceLower | 11.68 m |
FocusDistanceUpper | inf |
FocusMode | One-shot AF |
FocusRange | Not Known |
Format | image/jpeg |
FOV | 35.3 deg |
GrainAmount | 0 |
GreenHue | 0 |
GreenSaturation | 0 |
HasCrop | False |
HasSettings | True |
HighISONoiseReduction | Standard |
Highlights2012 | -11 |
HighlightTonePriority | Disable |
HueAdjustmentAqua | 0 |
HueAdjustmentBlue | 0 |
HueAdjustmentGreen | 0 |
HueAdjustmentMagenta | 0 |
HueAdjustmentOrange | 0 |
HueAdjustmentPurple | 0 |
HueAdjustmentRed | 0 |
HueAdjustmentYellow | 0 |
HyperfocalDistance | 6.17 m |
ImageHeight | 2011 |
ImageNumber | 0 |
ImageSize | 3886x2011 |
ImageWidth | 3886 |
IncrementalTemperature | 0 |
IncrementalTint | 0 |
InternalSerialNumber | ZA1747707 |
ISO (1) | 0 |
ISO | 100 |
ISOExpansion | Off |
LCDDisplayAtPowerOn | Display |
Lens (1) | 17-70mm |
Lens | 17.0 - 70.0 mm |
Lens35efl | 17.0 - 70.0 mm (35 mm equivalent: 26.7 - 110.1 mm) |
LensID (1) | 131 |
LensID | Sigma 17-70mm f/2.8-4.5 DC Macro |
LensInfo | 17-70mm f/? |
LensManualDistortionAmount | 0 |
LensModel | 17-70mm |
LensProfileEnable | 0 |
LensProfileSetup | LensDefaults |
LensType | Canon EF 28-80mm f/2.8-4L USM or Sigma Lens |
LightValue | 12.8 |
LiveViewShooting | Off |
LongExposureNoiseReduction | Off |
LongExposureNoiseReduction2 | Off |
LuminanceAdjustmentAqua | 0 |
LuminanceAdjustmentBlue | 0 |
LuminanceAdjustmentGreen | 0 |
LuminanceAdjustmentMagenta | 0 |
LuminanceAdjustmentOrange | 0 |
LuminanceAdjustmentPurple | 0 |
LuminanceAdjustmentRed | 0 |
LuminanceAdjustmentYellow | 0 |
LuminanceSmoothing | 0 |
MacroMode | Normal |
Make | Canon |
ManualFlashOutput | n/a |
MaxAperture | 3.8 |
MaxFocalLength | 70 mm |
MeasuredEV | 5.00 |
MeasuredRGGB | 571 1024 1024 548 |
Megapixels | 7.8 |
MeteringMode | Evaluative |
MinAperture | 29 |
MinFocalLength | 17 mm |
MirrorLockup | Disable |
Model | Canon EOS 600D |
ModifyDate | 2012:10:07 09:18:34 |
NDFilter | n/a |
NumAFPoints | 9 |
OpticalZoomCode | n/a |
Orientation | Horizontal (normal) |
OriginalImageHeight | 3456 |
OriginalImageWidth | 5184 |
OwnerName | |
ParametricDarks | 0 |
ParametricHighlights | 0 |
ParametricHighlightSplit | 75 |
ParametricLights | 0 |
ParametricMidtoneSplit | 50 |
ParametricShadows | 0 |
ParametricShadowSplit | 25 |
PeripheralIlluminationCorr | Off |
PeripheralLighting | Off |
PeripheralLightingValue | 0 |
PerspectiveAspect | 0 |
PerspectiveHorizontal | 0 |
PerspectiveRotate | 0.0 |
PerspectiveScale | 100 |
PerspectiveUpright | 0 |
PerspectiveVertical | 0 |
PictureStyle | Landscape |
PictureStylePC | None; None; None |
PictureStyleUserDef | Auto; Auto; Auto |
PostCropVignetteAmount | 0 |
ProcessVersion | 6.7 |
ProfileDescription | sRGB v1.31 (Canon) |
Quality | Fine |
Rating | 0 |
RawFileName | bjerkealleen xxkutt.JPG |
RawJpgSize | Large |
RecommendedExposureIndex | 100 |
RedHue | 0 |
RedSaturation | 0 |
RelatedImageHeight | 2011 |
RelatedImageWidth | 3886 |
Saturation (1) | -1 |
Saturation | Normal |
SaturationAdjustmentAqua | 0 |
SaturationAdjustmentBlue | 0 |
SaturationAdjustmentGreen | 0 |
SaturationAdjustmentMagenta | 0 |
SaturationAdjustmentOrange | 0 |
SaturationAdjustmentPurple | 0 |
SaturationAdjustmentRed | 0 |
SaturationAdjustmentYellow | 0 |
ScaleFactor35efl | 1.6 |
SceneCaptureType | Standard |
SelfTimer | Off |
SensitivityType | Recommended Exposure Index |
SensorBlueLevel | 0 |
SensorBottomBorder | 3511 |
SensorHeight | 3516 |
SensorLeftBorder | 152 |
SensorRedLevel | 0 |
SensorRightBorder | 5335 |
SensorTopBorder | 56 |
SensorWidth | 5344 |
SequenceNumber | 0 |
SerialNumber | 123063012664 |
SetButtonWhenShooting | Normal (disabled) |
Shadows2012 | +20 |
ShadowTint | 0 |
SharpenDetail | 25 |
SharpenEdgeMasking | 0 |
SharpenRadius | +1.0 |
Sharpness (1) | 0 |
Sharpness | 4 |
SharpnessFrequency | n/a |
ShootingMode | Aperture-priority AE |
Shutter-AELock | AF/AE lock |
ShutterSpeed | 1/60 |
ShutterSpeedValue | 1/64 |
SlowShutter | None |
Software | Digital Photo Professional |
SplitToningBalance | 0 |
SplitToningHighlightHue | 0 |
SplitToningHighlightSaturation | 0 |
SplitToningShadowHue | 0 |
SplitToningShadowSaturation | 0 |
SRAWQuality | n/a |
TargetAperture | 11 |
TargetExposureTime | 1/64 |
ToneCurve (1) | Standard |
ToneCurve | 0, 0, 255, 255 |
ToneCurveBlue | 0, 0, 255, 255 |
ToneCurveGreen | 0, 0, 255, 255 |
ToneCurveName | Linear |
ToneCurveName2012 | Linear |
ToneCurvePV2012 | 0, 0, 255, 255 |
ToneCurvePV2012Blue | 0, 0, 255, 255 |
ToneCurvePV2012Green | 0, 0, 255, 255 |
ToneCurvePV2012Red | 0, 0, 255, 255 |
ToneCurveRed | 0, 0, 255, 255 |
UserComment | |
ValidAFPoints | 9 |
Version | 8.5 |
Vibrance | 0 |
VignetteAmount | 0 |
VignettingCorrVersion | 0 |
WBBracketMode | Off |
WBBracketValueAB | 0 |
WBBracketValueGM | 0 |
WBShiftAB | 0 |
WBShiftGM | 0 |
WhiteBalance (1) | Manual |
WhiteBalance (2) | As Shot |
WhiteBalance | Daylight |
WhiteBalanceBlue | 0 |
WhiteBalanceRed | 0 |
Whites2012 | 0 |
ZoomSourceWidth | 0 |
ZoomTargetWidth | 0 |