Felt | Verdi |
AlreadyApplied | True |
Aperture | 22.0 |
ApertureValue | 22.0 |
Artist | Picasa |
AutoLateralCA | 1 |
AutoWhiteVersion | 134348800 |
BitsPerSample | 8 |
Blacks2012 | +25 |
BlueHue | 0 |
BlueSaturation | 0 |
BrightnessValue | 6.52890625 |
By-line | Picasa |
CameraProfile | Embedded |
CircleOfConfusion | 0.020 mm |
Clarity2012 | 0 |
ColorComponents | 3 |
ColorNoiseReduction | 0 |
ColorSpace | sRGB |
ColorTemperature | 5750 |
Contrast | Normal |
Contrast2012 | +1 |
ConvertToGrayscale | False |
CreateDate | 2014:07:11 23:47:30 |
Creator | Picasa |
CreatorTool | Adobe Photoshop Lightroom 5.5 (Windows) |
CropAngle | -0.2 |
CropBottom | 0.854889 |
CropConstrainToWarp | 0 |
CropLeft | 0.092537 |
CropRight | 0.903935 |
CropTop | 0.049621 |
CustomRendered | Normal |
DateCreated (1) | 2014:07:11 23:47:30 |
DateCreated | 2014:07:11 |
DateTimeOriginal | 2014:07:11 23:47:30 |
DefringeGreenAmount | 0 |
DefringeGreenHueHi | 60 |
DefringeGreenHueLo | 40 |
DefringePurpleAmount | 0 |
DefringePurpleHueHi | 70 |
DefringePurpleHueLo | 30 |
DigitalZoomRatio | 1 |
ExifImageHeight | 2247 |
ExifImageWidth | 3973 |
Exposure2012 | +0.55 |
ExposureCompensation | 0 |
ExposureMode | Auto |
ExposureProgram | Aperture-priority AE |
ExposureTime | 1/25 |
Flash | Off, Did not fire |
FNumber | 22.0 |
FocalLength | 16.0 mm |
FocalLength35efl | 16.0 mm (35 mm equivalent: 24.0 mm) |
FocalLengthIn35mmFormat | 24 mm |
Format | image/jpeg |
FOV | 73.7 deg |
GradientBasedCorrActive | true |
GradientBasedCorrAmount | 1.000000 |
GradientBasedCorrBrightness | 0.000000 |
GradientBasedCorrClarity2012 | 0.000000 |
GradientBasedCorrContrast2012 | 0.057470 |
GradientBasedCorrDefringe | 0.000000 |
GradientBasedCorrExposure2012 | -0.333250 |
GradientBasedCorrHighlights2012 | 0.000000 |
GradientBasedCorrHue | 0.000000 |
GradientBasedCorrLuminanceNoise | 0.000000 |
GradientBasedCorrMaskFullX | 0.542979 |
GradientBasedCorrMaskFullY | 0.320700 |
GradientBasedCorrMaskValue | 1.000000 |
GradientBasedCorrMaskWhat | Mask/Gradient |
GradientBasedCorrMaskZeroX | 0.552448 |
GradientBasedCorrMaskZeroY | 0.574042 |
GradientBasedCorrMoire | 0.000000 |
GradientBasedCorrSaturation | 0.000000 |
GradientBasedCorrShadows2012 | 0.000000 |
GradientBasedCorrSharpness | 0.000000 |
GradientBasedCorrTemperature | -0.540230 |
GradientBasedCorrTint | 0.000000 |
GradientBasedCorrWhat | Correction |
GrainAmount | 0 |
GreenHue | 0 |
GreenSaturation | 0 |
HasCrop | True |
HasSettings | True |
Highlights2012 | -50 |
HueAdjustmentAqua | 0 |
HueAdjustmentBlue | 0 |
HueAdjustmentGreen | 0 |
HueAdjustmentMagenta | 0 |
HueAdjustmentOrange | 0 |
HueAdjustmentPurple | 0 |
HueAdjustmentRed | 0 |
HueAdjustmentYellow | 0 |
HyperfocalDistance | 0.58 m |
ImageHeight | 2247 |
ImageSize | 3973x2247 |
ImageWidth | 3973 |
ISO | 200 |
Lens | E PZ 16-50mm F3.5-5.6 OSS |
LensDistortInfo | 34275/32768 -189730491/1073741824 104656077/1073741824 -38438836/1073741824 |
LensInfo | 16-50mm f/3.5-5.6 |
LensManualDistortionAmount | 0 |
LensModel | E PZ 16-50mm F3.5-5.6 OSS |
LensProfileChromaticAberrationScale | 100 |
LensProfileDistortionScale | 100 |
LensProfileEnable | 1 |
LensProfileFilename | SONY (Sony E 16-50mm F3.5-5.6 OSS) - RAW.lcp |
LensProfileName | Adobe (Sony E 16-50mm F3.5-5.6 OSS) |
LensProfileSetup | LensDefaults |
LensProfileVignettingScale | 100 |
LightSource | Unknown |
LightValue | 12.6 |
LuminanceAdjustmentAqua | 0 |
LuminanceAdjustmentBlue | 0 |
LuminanceAdjustmentGreen | 0 |
LuminanceAdjustmentMagenta | 0 |
LuminanceAdjustmentOrange | 0 |
LuminanceAdjustmentPurple | 0 |
LuminanceAdjustmentRed | 0 |
LuminanceAdjustmentYellow | 0 |
LuminanceNoiseReductionContrast | 0 |
LuminanceNoiseReductionDetail | 50 |
LuminanceSmoothing | 31 |
Make | SONY |
MaxApertureValue | 3.5 |
Megapixels | 8.9 |
MeteringMode | Spot |
Model | NEX-6 |
ModifyDate (1) | 2014:07:12 12:08:51+02:00 |
ModifyDate | 2014:07:12 12:08:51 |
ParametricDarks | +15 |
ParametricHighlights | 0 |
ParametricHighlightSplit | 75 |
ParametricLights | -63 |
ParametricMidtoneSplit | 50 |
ParametricShadows | -71 |
ParametricShadowSplit | 25 |
PerspectiveAspect | 0 |
PerspectiveHorizontal | 0 |
PerspectiveRotate | 0.0 |
PerspectiveScale | 100 |
PerspectiveUpright | 0 |
PerspectiveVertical | 0 |
PostCropVignetteAmount | 0 |
ProcessVersion | 6.7 |
RecommendedExposureIndex | 200 |
RedHue | 0 |
RedSaturation | 0 |
RelatedImageHeight | 2642 |
RelatedImageWidth | 3976 |
Saturation (1) | 0 |
Saturation | Normal |
SaturationAdjustmentAqua | 0 |
SaturationAdjustmentBlue | 0 |
SaturationAdjustmentGreen | 0 |
SaturationAdjustmentMagenta | 0 |
SaturationAdjustmentOrange | +30 |
SaturationAdjustmentPurple | 0 |
SaturationAdjustmentRed | +30 |
SaturationAdjustmentYellow | +10 |
ScaleFactor35efl | 1.5 |
SceneCaptureType | Standard |
SceneType | Directly photographed |
SensitivityType | Recommended Exposure Index |
Shadows2012 | +50 |
ShadowTint | 0 |
SharpenDetail | 25 |
SharpenEdgeMasking | 0 |
SharpenRadius | +1.0 |
Sharpness (1) | 0 |
Sharpness | Normal |
ShutterSpeed | 1/25 |
ShutterSpeedValue | 1/25 |
Software | Adobe Photoshop Lightroom 5.5 (Windows) |
SplitToningBalance | 0 |
SplitToningHighlightHue | 0 |
SplitToningHighlightSaturation | 0 |
SplitToningShadowHue | 0 |
SplitToningShadowSaturation | 0 |
Tint | +5 |
ToneCurve | 0, 0, 255, 255 |
ToneCurveBlue | 0, 0, 255, 255 |
ToneCurveGreen | 0, 0, 255, 255 |
ToneCurveName | Linear |
ToneCurveName2012 | Linear |
ToneCurvePV2012 | 0, 0, 255, 255 |
ToneCurvePV2012Blue | 0, 0, 255, 255 |
ToneCurvePV2012Green | 0, 0, 255, 255 |
ToneCurvePV2012Red | 0, 0, 255, 255 |
ToneCurveRed | 0, 0, 255, 255 |
Version | 8.5 |
Vibrance | +38 |
VignetteAmount | 0 |
WhiteBalance (1) | As Shot |
WhiteBalance | Auto |
Whites2012 | +5 |