Felt | Verdi |
AlreadyApplied | True |
Aperture | 16.0 |
ApertureValue | 16.0 |
ApproximateFocusDistance | 4294967295 |
AutoLateralCA | 1 |
AutoWhiteVersion | 134348800 |
BitsPerSample | 8 |
Blacks2012 | 0 |
BlueHue | 0 |
BlueSaturation | 0 |
CameraProfile | Adobe Standard |
CFAPattern | [Red,Green][Green,Blue] |
CircleOfConfusion | 0.030 mm |
Clarity2012 | -35 |
ColorComponents | 3 |
ColorNoiseReduction | 25 |
ColorNoiseReductionDetail | 50 |
ColorNoiseReductionSmoothness | 50 |
ColorTemperature | 5800 |
ColorTransform | YCbCr |
Contrast | Normal |
Contrast2012 | +58 |
ConvertToGrayscale | False |
CreateDate (1) | 2013:08:05 09:27:14.24 |
CreateDate | 2013:08:05 09:27:14 |
CreatorTool | Adobe Photoshop Lightroom 5.5 (Macintosh) |
CropAngle | 0 |
CropBottom | 0.944672 |
CropConstrainToWarp | 1 |
CropLeft | 0.089056 |
CropRight | 1 |
CropTop | 0.033728 |
CustomRendered | Normal |
DateCreated (1) | 2013:08:05 |
DateCreated | 2013:08:05 09:27:14.24 |
DateTimeOriginal | 2013:08:05 09:27:14 |
DefringeGreenAmount | 0 |
DefringeGreenHueHi | 60 |
DefringeGreenHueLo | 40 |
DefringePurpleAmount | 0 |
DefringePurpleHueHi | 70 |
DefringePurpleHueLo | 30 |
DigitalZoomRatio | 1 |
DOF | inf (2.55 m - inf) |
Exposure2012 | +0.15 |
ExposureCompensation | 0 |
ExposureMode | Manual |
ExposureProgram | Manual |
ExposureTime | 1/250 |
Flash | No Flash |
FNumber | 16.0 |
FocalLength | 35.0 mm |
FocalLength35efl | 35.0 mm (35 mm equivalent: 35.0 mm) |
FocalLengthIn35mmFormat | 35 mm |
Format | image/jpeg |
FOV | 54.4 deg |
GainControl | Low gain up |
GrainAmount | 0 |
GreenHue | 0 |
GreenSaturation | 0 |
HasCrop | True |
HasExtendedXMP | F0D6FCC78E8BA87E32AD9CB665D0A433 |
HasSettings | True |
Highlights2012 | -40 |
HueAdjustmentAqua | 0 |
HueAdjustmentBlue | 0 |
HueAdjustmentGreen | -4 |
HueAdjustmentMagenta | 0 |
HueAdjustmentOrange | 0 |
HueAdjustmentPurple | 0 |
HueAdjustmentRed | 0 |
HueAdjustmentYellow | 0 |
HyperfocalDistance | 2.55 m |
ImageHeight | 2580 |
ImageNumber | 79528 |
ImageSize | 3877x2580 |
ImageWidth | 3877 |
ISO | 500 |
Lens | 16.0-35.0 mm f/4.0 |
LensID (1) | 163 |
LensID | AF-S Nikkor 16-35mm f/4G ED VR |
LensInfo | 16-35mm f/4 |
LensManualDistortionAmount | 0 |
LensModel | 16.0-35.0 mm f/4.0 |
LensProfileChromaticAberrationScale | 100 |
LensProfileDistortionScale | 100 |
LensProfileEnable | 1 |
LensProfileFilename | NIKON D3X (Nikon AF-S NIKKOR 16-35mm f4G ED VR) - RAW.lcp |
LensProfileName | Adobe (Nikon AF-S NIKKOR 16-35mm f/4G ED VR) |
LensProfileSetup | LensDefaults |
LensProfileVignettingScale | 100 |
LightSource | Fine Weather |
LightValue | 13.6 |
LuminanceAdjustmentAqua | 0 |
LuminanceAdjustmentBlue | 0 |
LuminanceAdjustmentGreen | -27 |
LuminanceAdjustmentMagenta | 0 |
LuminanceAdjustmentOrange | 0 |
LuminanceAdjustmentPurple | 0 |
LuminanceAdjustmentRed | 0 |
LuminanceAdjustmentYellow | 0 |
LuminanceSmoothing | 0 |
Make | NIKON CORPORATION |
MaxApertureValue | 4.0 |
Megapixels | 10.0 |
MeteringMode | Multi-segment |
Model | NIKON D3S |
ModifyDate (1) | 2014:07:17 13:32:51+02:00 |
ModifyDate | 2014:07:17 13:32:51 |
PaintCorrectionActive | true |
PaintCorrectionAmount | 1.000000 |
PaintCorrectionBrightness (5) | 0.320225 |
PaintCorrectionBrightness | 0.000000 |
PaintCorrectionClarity2012 (1) | 0.820225 |
PaintCorrectionClarity2012 (10) | 0.370787 |
PaintCorrectionClarity2012 (11) | 0.016591 |
PaintCorrectionClarity2012 (2) | 0.191011 |
PaintCorrectionClarity2012 (20) | 0.732093 |
PaintCorrectionClarity2012 (21) | 0.000000 |
PaintCorrectionClarity2012 (3) | -0.033708 |
PaintCorrectionClarity2012 (5) | 0.258427 |
PaintCorrectionClarity2012 (6) | 0.393258 |
PaintCorrectionClarity2012 (7) | 0.280899 |
PaintCorrectionClarity2012 (9) | 0.451018 |
PaintCorrectionClarity2012 | 0.318294 |
PaintCorrectionContrast2012 (1) | 0.393258 |
PaintCorrectionContrast2012 (10) | 0.348315 |
PaintCorrectionContrast2012 (15) | 0.229508 |
PaintCorrectionContrast2012 (16) | 0.245902 |
PaintCorrectionContrast2012 (17) | 0.209006 |
PaintCorrectionContrast2012 (2) | 0.330758 |
PaintCorrectionContrast2012 (20) | 0.555565 |
PaintCorrectionContrast2012 (4) | 0.011236 |
PaintCorrectionContrast2012 (5) | 0.528090 |
PaintCorrectionContrast2012 (6) | 0.615169 |
PaintCorrectionContrast2012 (7) | 0.662921 |
PaintCorrectionContrast2012 (9) | 0.284059 |
PaintCorrectionContrast2012 | 0.000000 |
PaintCorrectionDefringe (10) | -0.011236 |
PaintCorrectionDefringe | 0.000000 |
PaintCorrectionExposure2012 (1) | -0.233936 |
PaintCorrectionExposure2012 (11) | 0.057409 |
PaintCorrectionExposure2012 (12) | 0.098297 |
PaintCorrectionExposure2012 (13) | 0.086194 |
PaintCorrectionExposure2012 (14) | 0.000000 |
PaintCorrectionExposure2012 (17) | 0.032918 |
PaintCorrectionExposure2012 (19) | 0.249122 |
PaintCorrectionExposure2012 (21) | -0.291871 |
PaintCorrectionExposure2012 (3) | 0.107971 |
PaintCorrectionExposure2012 (4) | -0.103143 |
PaintCorrectionExposure2012 (5) | -0.050474 |
PaintCorrectionExposure2012 (7) | 0.099719 |
PaintCorrectionExposure2012 (8) | 0.137114 |
PaintCorrectionExposure2012 (9) | 0.125527 |
PaintCorrectionExposure2012 | 0.300825 |
PaintCorrectionHighlights2012 (1) | -0.318030 |
PaintCorrectionHighlights2012 (10) | 0.011236 |
PaintCorrectionHighlights2012 (11) | 0.403353 |
PaintCorrectionHighlights2012 (13) | 0.016393 |
PaintCorrectionHighlights2012 (14) | -0.634041 |
PaintCorrectionHighlights2012 (16) | -0.590164 |
PaintCorrectionHighlights2012 (17) | 0.322331 |
PaintCorrectionHighlights2012 (19) | 0.000000 |
PaintCorrectionHighlights2012 (2) | -0.191977 |
PaintCorrectionHighlights2012 (4) | -0.005794 |
PaintCorrectionHighlights2012 (7) | 0.190660 |
PaintCorrectionHighlights2012 (8) | 0.276071 |
PaintCorrectionHighlights2012 (9) | -0.021243 |
PaintCorrectionHighlights2012 | 0.364203 |
PaintCorrectionHue (10) | 233.000000 |
PaintCorrectionHue | 0.000000 |
PaintCorrectionLuminanceNoise (10) | 0.258427 |
PaintCorrectionLuminanceNoise (11) | 0.011236 |
PaintCorrectionLuminanceNoise (13) | 0.012039 |
PaintCorrectionLuminanceNoise (3) | -0.011236 |
PaintCorrectionLuminanceNoise (9) | 0.055499 |
PaintCorrectionLuminanceNoise | 0.000000 |
PaintCorrectionMaskCenterWeight (144) | 0.108834 |
PaintCorrectionMaskCenterWeight (203) | 0.255232 |
PaintCorrectionMaskCenterWeight (28) | 0.224934 |
PaintCorrectionMaskCenterWeight (294) | 0.014734 |
PaintCorrectionMaskCenterWeight (301) | 0.354082 |
PaintCorrectionMaskCenterWeight (442) | 0.000000 |
PaintCorrectionMaskCenterWeight (60) | 0.004367 |
PaintCorrectionMaskCenterWeight | 0.122458 |
PaintCorrectionMaskFlow (278) | 1.000000 |
PaintCorrectionMaskFlow | 0.580261 |
PaintCorrectionMaskRadius (106) | 0.127644 |
PaintCorrectionMaskRadius (135) | 0.031446 |
PaintCorrectionMaskRadius (174) | 0.009332 |
PaintCorrectionMaskRadius (192) | 0.003187 |
PaintCorrectionMaskRadius (21) | 0.070542 |
PaintCorrectionMaskRadius (290) | 0.022910 |
PaintCorrectionMaskRadius (291) | 0.013415 |
PaintCorrectionMaskRadius (297) | 0.006278 |
PaintCorrectionMaskRadius (334) | 0.004764 |
PaintCorrectionMaskRadius (338) | 0.006027 |
PaintCorrectionMaskRadius (346) | 0.028403 |
PaintCorrectionMaskRadius (364) | 0.014920 |
PaintCorrectionMaskRadius (409) | 0.003535 |
PaintCorrectionMaskRadius (420) | 0.077621 |
PaintCorrectionMaskRadius (424) | 0.017637 |
PaintCorrectionMaskRadius (438) | 0.009990 |
PaintCorrectionMaskRadius (439) | 0.009985 |
PaintCorrectionMaskRadius (440) | 0.009977 |
PaintCorrectionMaskRadius (441) | 0.009995 |
PaintCorrectionMaskRadius (442) | 0.134999 |
PaintCorrectionMaskRadius (443) | 0.134897 |
PaintCorrectionMaskRadius (444) | 0.025256 |
PaintCorrectionMaskRadius (445) | 0.025120 |
PaintCorrectionMaskRadius (446) | 0.025264 |
PaintCorrectionMaskRadius (447) | 0.025247 |
PaintCorrectionMaskRadius (448) | 0.025088 |
PaintCorrectionMaskRadius (449) | 0.025351 |
PaintCorrectionMaskRadius (450) | 0.025055 |
PaintCorrectionMaskRadius (451) | 0.025066 |
PaintCorrectionMaskRadius (452) | 0.009691 |
PaintCorrectionMaskRadius (453) | 0.009705 |
PaintCorrectionMaskRadius (454) | 0.009718 |
PaintCorrectionMaskRadius (455) | 0.009674 |
PaintCorrectionMaskRadius (456) | 0.009710 |
PaintCorrectionMaskRadius (457) | 0.009667 |
PaintCorrectionMaskRadius (458) | 0.009665 |
PaintCorrectionMaskRadius (459) | 0.009661 |
PaintCorrectionMaskRadius (461) | 0.009684 |
PaintCorrectionMaskRadius (462) | 0.009677 |
PaintCorrectionMaskRadius (54) | 0.121135 |
PaintCorrectionMaskRadius (66) | 0.103289 |
PaintCorrectionMaskRadius (77) | 0.059833 |
PaintCorrectionMaskRadius | 0.009692 |
PaintCorrectionMaskValue (295) | 0.384615 |
PaintCorrectionMaskValue (403) | 1.000000 |
PaintCorrectionMaskValue | 0.545931 |
PaintCorrectionMaskWhat | Mask/Paint |
PaintCorrectionMoire (10) | -0.005442 |
PaintCorrectionMoire (9) | -0.005376 |
PaintCorrectionMoire | 0.000000 |
PaintCorrectionSaturation (1) | 0.191011 |
PaintCorrectionSaturation (17) | 0.033300 |
PaintCorrectionSaturation (3) | -0.033708 |
PaintCorrectionSaturation (35) | -0.331724 |
PaintCorrectionSaturation (43) | 0.341731 |
PaintCorrectionSaturation | 0.000000 |
PaintCorrectionShadows2012 (1) | -0.460674 |
PaintCorrectionShadows2012 (10) | 0.033708 |
PaintCorrectionShadows2012 (11) | 0.006145 |
PaintCorrectionShadows2012 (12) | 0.098297 |
PaintCorrectionShadows2012 (2) | 0.181268 |
PaintCorrectionShadows2012 (4) | -0.214361 |
PaintCorrectionShadows2012 (7) | -0.258427 |
PaintCorrectionShadows2012 (8) | 0.011236 |
PaintCorrectionShadows2012 (9) | 0.006071 |
PaintCorrectionShadows2012 | 0.000000 |
PaintCorrectionSharpness (10) | 0.348315 |
PaintCorrectionSharpness (11) | 0.011236 |
PaintCorrectionSharpness (3) | -0.011236 |
PaintCorrectionSharpness (7) | 0.235955 |
PaintCorrectionSharpness (9) | 0.055499 |
PaintCorrectionSharpness | 0.000000 |
PaintCorrectionTemperature (1) | -0.191450 |
PaintCorrectionTemperature (10) | 0.153792 |
PaintCorrectionTemperature (11) | 0.235955 |
PaintCorrectionTemperature (13) | 0.000000 |
PaintCorrectionTemperature (18) | 0.030723 |
PaintCorrectionTemperature (2) | -0.078564 |
PaintCorrectionTemperature (6) | -0.011236 |
PaintCorrectionTemperature (8) | 0.213659 |
PaintCorrectionTemperature (9) | 0.144297 |
PaintCorrectionTemperature | 0.108497 |
PaintCorrectionTint (4) | -0.011236 |
PaintCorrectionTint (9) | -0.011100 |
PaintCorrectionTint | 0.000000 |
PaintCorrectionWhat | Correction |
ParametricDarks | 0 |
ParametricHighlights | -13 |
ParametricHighlightSplit | 75 |
ParametricLights | +32 |
ParametricMidtoneSplit | 50 |
ParametricShadows | +2 |
ParametricShadowSplit | 25 |
PerspectiveAspect | 0 |
PerspectiveHorizontal | 0 |
PerspectiveRotate | 0.0 |
PerspectiveScale | 100 |
PerspectiveUpright | 0 |
PerspectiveVertical | 0 |
PostCropVignetteAmount | 0 |
ProcessVersion | 6.7 |
ProfileDescription | sRGB IEC61966-2.1 |
Rating | 5 |
RedHue | 0 |
RedSaturation | 0 |
Saturation (1) | +7 |
Saturation | Normal |
SaturationAdjustmentAqua | 0 |
SaturationAdjustmentBlue | 0 |
SaturationAdjustmentGreen | 0 |
SaturationAdjustmentMagenta | 0 |
SaturationAdjustmentOrange | 0 |
SaturationAdjustmentPurple | 0 |
SaturationAdjustmentRed | 0 |
SaturationAdjustmentYellow | 0 |
ScaleFactor35efl | 1.0 |
SceneCaptureType | Standard |
SceneType | Directly photographed |
SensingMethod | One-chip color area |
SerialNumber | 2058033 |
Shadows2012 | +68 |
ShadowTint | 0 |
SharpenDetail | 25 |
SharpenEdgeMasking | 0 |
SharpenRadius | +1.0 |
Sharpness (1) | 25 |
Sharpness | Normal |
ShutterSpeed | 1/250 |
ShutterSpeedValue | 1/250 |
Software | Adobe Photoshop Lightroom 5.5 (Macintosh) |
SplitToningBalance | 0 |
SplitToningHighlightHue | 0 |
SplitToningHighlightSaturation | 0 |
SplitToningShadowHue | 0 |
SplitToningShadowSaturation | 0 |
SubjectDistanceRange | Unknown |
Tint | +10 |
ToneCurve | 0, 0, 255, 255 |
ToneCurveBlue | 0, 0, 255, 255 |
ToneCurveGreen | 0, 0, 255, 255 |
ToneCurveName | Linear |
ToneCurveName2012 | Linear |
ToneCurvePV2012 | 0, 0, 255, 255 |
ToneCurvePV2012Blue | 0, 0, 255, 255 |
ToneCurvePV2012Green | 0, 0, 255, 255 |
ToneCurvePV2012Red | 0, 0, 255, 255 |
ToneCurveRed | 0, 0, 255, 255 |
Version | 8.5 |
Vibrance | +4 |
VignetteAmount | 0 |
WhiteBalance (1) | Custom |
WhiteBalance | Manual |
Whites2012 | +24 |