Felt | Verdi |
AlreadyApplied | True |
Aperture | 5.6 |
ApertureValue | 5.6 |
ApproximateFocusDistance | 4294967295 |
Artist | Picasa |
AutoLateralCA | 0 |
AutoWhiteVersion | 134348800 |
BitsPerSample | 8 |
Blacks2012 | -50 |
BlueHue | 0 |
BlueSaturation | 0 |
By-line | Picasa |
CameraProfile | Adobe Standard |
CFAPattern | [Red,Green][Green,Blue] |
CircleOfConfusion | 0.020 mm |
Clarity2012 | +50 |
ColorComponents | 3 |
ColorNoiseReduction | 31 |
ColorNoiseReductionDetail | 50 |
ColorNoiseReductionSmoothness | 50 |
ColorTemperature | 5400 |
Contrast | Normal |
Contrast2012 | -62 |
ConvertToGrayscale | False |
CreateDate (1) | 2014:07:18 15:52:19.20 |
CreateDate | 2014:07:18 15:52:19 |
Creator | Picasa |
CreatorTool | Adobe Photoshop Lightroom 5.5 (Windows) |
CropAngle | 0 |
CropBottom | 0.947467 |
CropConstrainToWarp | 0 |
CropLeft | 0 |
CropRight | 1 |
CropTop | 0 |
CustomRendered | Normal |
DateCreated (1) | 2014:07:18 15:52:19.20 |
DateCreated | 2014:07:18 |
DateTimeOriginal | 2014:07:18 15:52:19 |
DefringeGreenAmount | 0 |
DefringeGreenHueHi | 60 |
DefringeGreenHueLo | 40 |
DefringePurpleAmount | 0 |
DefringePurpleHueHi | 70 |
DefringePurpleHueLo | 30 |
DigitalZoomRatio | 1 |
DOF | inf (2.53 m - inf) |
ExifImageHeight | 3093 |
ExifImageWidth | 4928 |
Exposure2012 | -0.12 |
ExposureCompensation | 0 |
ExposureMode | Auto |
ExposureProgram | Program AE |
ExposureTime | 1/125 |
Flash | Off, Did not fire |
FNumber | 5.6 |
FocalLength | 17.0 mm |
FocalLength35efl | 17.0 mm (35 mm equivalent: 25.0 mm) |
FocalLengthIn35mmFormat | 25 mm |
Format | image/jpeg |
FOV | 71.5 deg |
GainControl | None |
GradientBasedCorrActive | true |
GradientBasedCorrAmount | 1.000000 |
GradientBasedCorrBrightness | 0.000000 |
GradientBasedCorrClarity2012 | 0.011490 |
GradientBasedCorrContrast2012 | 0.126440 |
GradientBasedCorrDefringe | 0.000000 |
GradientBasedCorrExposure2012 | -0.402250 |
GradientBasedCorrHighlights2012 | -0.701150 |
GradientBasedCorrHue | 0.000000 |
GradientBasedCorrLuminanceNoise | 0.149430 |
GradientBasedCorrMaskFullX | 0.511189 |
GradientBasedCorrMaskFullY | 0.007111 |
GradientBasedCorrMaskValue | 1.000000 |
GradientBasedCorrMaskWhat | Mask/Gradient |
GradientBasedCorrMaskZeroX | 0.511189 |
GradientBasedCorrMaskZeroY | 0.689714 |
GradientBasedCorrMoire | 0.000000 |
GradientBasedCorrSaturation (1) | 0.379310 |
GradientBasedCorrSaturation | 0.000000 |
GradientBasedCorrShadows2012 | -0.126440 |
GradientBasedCorrSharpness | 0.356320 |
GradientBasedCorrTemperature | -0.172410 |
GradientBasedCorrTint | -0.149430 |
GradientBasedCorrWhat | Correction |
GrainAmount | 0 |
GreenHue | 0 |
GreenSaturation | 0 |
HasCrop | True |
HasSettings | True |
Highlights2012 | -67 |
HueAdjustmentAqua | 0 |
HueAdjustmentBlue | 0 |
HueAdjustmentGreen | 0 |
HueAdjustmentMagenta | 0 |
HueAdjustmentOrange | 0 |
HueAdjustmentPurple | 0 |
HueAdjustmentRed | 0 |
HueAdjustmentYellow | 0 |
HyperfocalDistance | 2.53 m |
ImageHeight | 3093 |
ImageNumber | 2363 |
ImageSize | 4928x3093 |
ImageWidth | 4928 |
ISO | 100 |
Lens | 10.0-24.0 mm f/3.5-4.5 |
LensID (1) | 161 |
LensID | AF-S DX Nikkor 10-24mm f/3.5-4.5G ED |
LensInfo | 10-24mm f/3.5-4.5 |
LensManualDistortionAmount | 0 |
LensModel | 10.0-24.0 mm f/3.5-4.5 |
LensProfileEnable | 0 |
LensProfileSetup | LensDefaults |
LightSource | Unknown |
LightValue | 11.9 |
LuminanceAdjustmentAqua | 0 |
LuminanceAdjustmentBlue | 0 |
LuminanceAdjustmentGreen | 0 |
LuminanceAdjustmentMagenta | 0 |
LuminanceAdjustmentOrange | 0 |
LuminanceAdjustmentPurple | 0 |
LuminanceAdjustmentRed | 0 |
LuminanceAdjustmentYellow | 0 |
LuminanceSmoothing | 0 |
Make | NIKON CORPORATION |
MaxApertureValue | 4.1 |
Megapixels | 15.2 |
MeteringMode | Multi-segment |
Model | NIKON D7000 |
ModifyDate (1) | 2014:07:21 13:38:15+02:00 |
ModifyDate | 2014:07:21 13:38:15 |
ParametricDarks | 0 |
ParametricHighlights | 0 |
ParametricHighlightSplit | 75 |
ParametricLights | 0 |
ParametricMidtoneSplit | 50 |
ParametricShadows | 0 |
ParametricShadowSplit | 25 |
PerspectiveAspect | 0 |
PerspectiveHorizontal | 0 |
PerspectiveRotate | 0.0 |
PerspectiveScale | 100 |
PerspectiveUpright | 0 |
PerspectiveVertical | 0 |
PostCropVignetteAmount | 0 |
ProcessVersion | 6.7 |
Rating | 5 |
RedHue | 0 |
RedSaturation | 0 |
RelatedImageHeight | 3093 |
RelatedImageWidth | 4928 |
Saturation (1) | +43 |
Saturation | Normal |
SaturationAdjustmentAqua | 0 |
SaturationAdjustmentBlue | 0 |
SaturationAdjustmentGreen | 0 |
SaturationAdjustmentMagenta | 0 |
SaturationAdjustmentOrange | 0 |
SaturationAdjustmentPurple | 0 |
SaturationAdjustmentRed | 0 |
SaturationAdjustmentYellow | 0 |
ScaleFactor35efl | 1.5 |
SceneCaptureType | Standard |
SceneType | Directly photographed |
SensingMethod | One-chip color area |
SensitivityType | Recommended Exposure Index |
SerialNumber | 6556200 |
Shadows2012 | +62 |
ShadowTint | 0 |
SharpenDetail | 25 |
SharpenEdgeMasking | 0 |
SharpenRadius | +1.0 |
Sharpness (1) | 25 |
Sharpness | Normal |
ShutterSpeed | 1/125 |
ShutterSpeedValue | 1/125 |
Software | Adobe Photoshop Lightroom 5.5 (Windows) |
SplitToningBalance | +14 |
SplitToningHighlightHue | 30 |
SplitToningHighlightSaturation | 7 |
SplitToningShadowHue | 0 |
SplitToningShadowSaturation | 0 |
SubjectDistanceRange | Unknown |
Tint | +22 |
ToneCurve | 0, 0, 255, 255 |
ToneCurveBlue | 0, 0, 255, 255 |
ToneCurveGreen | 0, 0, 255, 255 |
ToneCurveName | Linear |
ToneCurveName2012 | Linear |
ToneCurvePV2012 | 0, 0, 255, 255 |
ToneCurvePV2012Blue | 0, 0, 255, 255 |
ToneCurvePV2012Green | 0, 0, 255, 255 |
ToneCurvePV2012Red | 0, 0, 255, 255 |
ToneCurveRed | 0, 0, 255, 255 |
Version | 8.5 |
Vibrance | -17 |
VignetteAmount | 0 |
WhiteBalance (1) | As Shot |
WhiteBalance | Auto |
Whites2012 | -19 |