Felt | Verdi |
AlreadyApplied | True |
Aperture | 6.3 |
ApertureValue | 6.3 |
ApproximateFocusDistance | 4294967295 |
Artist | Tore Aasland |
AutoLateralCA | 1 |
AutoWhiteVersion | 134348800 |
BitsPerSample | 8 |
Blacks2012 | 0 |
BlueHue | 0 |
BlueSaturation | 0 |
By-line | Tore Aasland |
CameraProfile | Adobe Standard |
CircGradBasedCorrActive | true |
CircGradBasedCorrAmount | 1.000000 |
CircGradBasedCorrBrightness | 0.000000 |
CircGradBasedCorrClarity2012 | 0.944577 |
CircGradBasedCorrContrast2012 | 0.000000 |
CircGradBasedCorrDefringe | 0.000000 |
CircGradBasedCorrExposure2012 | -0.201471 |
CircGradBasedCorrHighlights2012 | 0.000000 |
CircGradBasedCorrHue | 57.000000 |
CircGradBasedCorrLuminanceNoise | 0.000000 |
CircGradBasedCorrMaskAngle | -8.709410 |
CircGradBasedCorrMaskBottom | 0.611175 |
CircGradBasedCorrMaskFeather | +50 |
CircGradBasedCorrMaskFlipped | false |
CircGradBasedCorrMaskLeft | 0.329740 |
CircGradBasedCorrMaskMidpoint | +50 |
CircGradBasedCorrMaskRight | 0.579547 |
CircGradBasedCorrMaskRoundness | 0 |
CircGradBasedCorrMaskTop | 0.489929 |
CircGradBasedCorrMaskValue | 1.000000 |
CircGradBasedCorrMaskVersion | +2 |
CircGradBasedCorrMaskWhat | Mask/CircularGradient |
CircGradBasedCorrMoire | 0.000000 |
CircGradBasedCorrSaturation (1) | 0.402849 |
CircGradBasedCorrSaturation | 0.000000 |
CircGradBasedCorrShadows2012 | -0.165165 |
CircGradBasedCorrSharpness | 0.000000 |
CircGradBasedCorrTemperature | 0.000000 |
CircGradBasedCorrTint | 0.000000 |
CircGradBasedCorrWhat | Correction |
CircleOfConfusion | 0.006 mm |
Clarity2012 | +92 |
ColorComponents | 3 |
ColorNoiseReduction | 78 |
ColorNoiseReductionDetail | 50 |
ColorNoiseReductionSmoothness | 50 |
ColorSpace | sRGB |
ColorTemperature | 4900 |
ColorTransform | YCbCr |
Contrast2012 | +52 |
ConvertToGrayscale | False |
Copyright | Tore Aasland |
CopyrightNotice | Tore Aasland |
CreateDate (1) | 2014:07:18 13:13:12.26 |
CreateDate | 2014:07:18 13:13:12 |
Creator | Tore Aasland |
CreatorTool | Adobe Photoshop Lightroom 5.5 (Macintosh) |
CropAngle | 0.8 |
CropBottom | 0.86694 |
CropConstrainToWarp | 0 |
CropLeft | 0.14144 |
CropRight | 0.992122 |
CropTop | 0.115389 |
CustomRendered | Normal |
DateCreated (1) | 2014:07:18 |
DateCreated | 2014:07:18 13:13:12.26 |
DateTimeOriginal | 2014:07:18 13:13:12 |
DefringeGreenAmount | 0 |
DefringeGreenHueHi | 60 |
DefringeGreenHueLo | 40 |
DefringePurpleAmount | 0 |
DefringePurpleHueHi | 70 |
DefringePurpleHueLo | 30 |
DOF | inf (15.25 m - inf) |
Exposure2012 | +0.30 |
ExposureCompensation | 0 |
ExposureMode | Auto |
ExposureProgram | Aperture-priority AE |
ExposureTime | 1/800 |
Firmware | 1.1.2 |
Flash | Off, Did not fire |
FlashCompensation | 0 |
FNumber | 6.3 |
FocalLength | 24.0 mm |
FocalLength35efl | 24.0 mm (35 mm equivalent: 120.3 mm) |
Format | image/jpeg |
FOV | 17.0 deg |
GrainAmount | 0 |
GreenHue | 0 |
GreenSaturation | 0 |
HasCrop | True |
HasSettings | True |
Highlights2012 | -100 |
HueAdjustmentAqua | 0 |
HueAdjustmentBlue | 0 |
HueAdjustmentGreen | 0 |
HueAdjustmentMagenta | 0 |
HueAdjustmentOrange | -25 |
HueAdjustmentPurple | 0 |
HueAdjustmentRed | 0 |
HueAdjustmentYellow | -14 |
HyperfocalDistance | 15.25 m |
ImageHeight | 1200 |
ImageNumber | 0 |
ImageSize | 684x1200 |
ImageWidth | 684 |
ISO | 400 |
Lens | 24-70mm |
LensID (1) | 137 |
LensID | Sigma 24-70mm f/2.8 IF EX DG HSM or Tamron SP 24-70mm f/2.8 Di VC USD |
LensInfo | 24-70mm f/? |
LensManualDistortionAmount | 0 |
LensModel | 24-70mm |
LensProfileEnable | 0 |
LensProfileSetup | LensDefaults |
LensSerialNumber | 0000000000 |
LightValue | 13.0 |
LuminanceAdjustmentAqua | 0 |
LuminanceAdjustmentBlue | 0 |
LuminanceAdjustmentGreen | 0 |
LuminanceAdjustmentMagenta | 0 |
LuminanceAdjustmentOrange | -21 |
LuminanceAdjustmentPurple | 0 |
LuminanceAdjustmentRed | 0 |
LuminanceAdjustmentYellow | -24 |
LuminanceSmoothing | 0 |
Make | Canon |
MaxApertureValue | 2.8 |
Megapixels | 0.821 |
MeteringMode | Multi-segment |
Model | Canon EOS 5D Mark III |
ModifyDate (1) | 2014:07:30 23:33:33+02:00 |
ModifyDate | 2014:07:30 23:33:33 |
PaintCorrectionActive | true |
PaintCorrectionAmount | 1.000000 |
PaintCorrectionBrightness | 0.000000 |
PaintCorrectionClarity2012 (1) | 0.310110 |
PaintCorrectionClarity2012 (2) | 0.463235 |
PaintCorrectionClarity2012 (4) | 0.000000 |
PaintCorrectionClarity2012 | 0.825000 |
PaintCorrectionContrast2012 (5) | 0.000000 |
PaintCorrectionContrast2012 | 0.253676 |
PaintCorrectionDefringe | 0.000000 |
PaintCorrectionExposure2012 (1) | 0.092279 |
PaintCorrectionExposure2012 (2) | -0.188695 |
PaintCorrectionExposure2012 (3) | 0.505699 |
PaintCorrectionExposure2012 (4) | 0.597794 |
PaintCorrectionExposure2012 (5) | 0.274449 |
PaintCorrectionExposure2012 (6) | 0.205239 |
PaintCorrectionExposure2012 (7) | 0.311397 |
PaintCorrectionExposure2012 | 0.115809 |
PaintCorrectionHighlights2012 (2) | -0.538879 |
PaintCorrectionHighlights2012 | 0.000000 |
PaintCorrectionHue | 57.000000 |
PaintCorrectionLuminanceNoise | 0.000000 |
PaintCorrectionMaskCenterWeight (16) | 0.019496 |
PaintCorrectionMaskCenterWeight (19) | 0.227147 |
PaintCorrectionMaskCenterWeight (20) | 0.000000 |
PaintCorrectionMaskCenterWeight (9) | 0.265021 |
PaintCorrectionMaskCenterWeight | 0.363263 |
PaintCorrectionMaskFlow | 1.000000 |
PaintCorrectionMaskRadius (1) | 0.018818 |
PaintCorrectionMaskRadius (10) | 0.023447 |
PaintCorrectionMaskRadius (12) | 0.005012 |
PaintCorrectionMaskRadius (14) | 0.030540 |
PaintCorrectionMaskRadius (15) | 0.025501 |
PaintCorrectionMaskRadius (16) | 0.076483 |
PaintCorrectionMaskRadius (19) | 0.005359 |
PaintCorrectionMaskRadius (21) | 0.044063 |
PaintCorrectionMaskRadius (22) | 0.020766 |
PaintCorrectionMaskRadius (23) | 0.008693 |
PaintCorrectionMaskRadius (6) | 0.005441 |
PaintCorrectionMaskRadius (7) | 0.058228 |
PaintCorrectionMaskRadius (8) | 0.047866 |
PaintCorrectionMaskRadius (9) | 0.037844 |
PaintCorrectionMaskRadius | 0.024941 |
PaintCorrectionMaskValue | 1.000000 |
PaintCorrectionMaskWhat | Mask/Paint |
PaintCorrectionMoire | 0.000000 |
PaintCorrectionSaturation | 0.000000 |
PaintCorrectionShadows2012 (1) | 0.418934 |
PaintCorrectionShadows2012 | 0.000000 |
PaintCorrectionSharpness | 0.000000 |
PaintCorrectionTemperature | 0.000000 |
PaintCorrectionTint | 0.000000 |
PaintCorrectionWhat | Correction |
ParametricDarks | 0 |
ParametricHighlights | 0 |
ParametricHighlightSplit | 75 |
ParametricLights | 0 |
ParametricMidtoneSplit | 50 |
ParametricShadows | 0 |
ParametricShadowSplit | 25 |
PerspectiveAspect | 0 |
PerspectiveHorizontal | 0 |
PerspectiveRotate | 0.0 |
PerspectiveScale | 100 |
PerspectiveUpright | 0 |
PerspectiveVertical | 0 |
PostCropVignetteAmount | -31 |
PostCropVignetteFeather | 50 |
PostCropVignetteHighlightContrast | 0 |
PostCropVignetteMidpoint | 50 |
PostCropVignetteRoundness | 0 |
PostCropVignetteStyle | 1 |
ProcessVersion | 6.7 |
ProfileDescription | sRGB IEC61966-2.1 |
RecommendedExposureIndex | 400 |
RedHue | 0 |
RedSaturation | 0 |
Rights | Tore Aasland |
Saturation | -31 |
SaturationAdjustmentAqua | 0 |
SaturationAdjustmentBlue | 0 |
SaturationAdjustmentGreen | 0 |
SaturationAdjustmentMagenta | 0 |
SaturationAdjustmentOrange | +28 |
SaturationAdjustmentPurple | 0 |
SaturationAdjustmentRed | 0 |
SaturationAdjustmentYellow | +34 |
ScaleFactor35efl | 5.0 |
SceneCaptureType | Standard |
SensitivityType | Recommended Exposure Index |
SerialNumber | 033023009120 |
Shadows2012 | +100 |
ShadowTint | +3 |
SharpenDetail | 25 |
SharpenEdgeMasking | 80 |
SharpenRadius | +1.0 |
Sharpness | 57 |
ShutterSpeed | 1/800 |
ShutterSpeedValue | 1/800 |
Software | Adobe Photoshop Lightroom 5.5 (Macintosh) |
SplitToningBalance | 0 |
SplitToningHighlightHue | 29 |
SplitToningHighlightSaturation | 20 |
SplitToningShadowHue | 191 |
SplitToningShadowSaturation | 13 |
Tint | +2 |
ToneCurve | 0, 0, 255, 255 |
ToneCurveBlue | 0, 0, 255, 255 |
ToneCurveGreen | 0, 0, 255, 255 |
ToneCurveName | Linear |
ToneCurveName2012 | Linear |
ToneCurvePV2012 | 0, 0, 255, 255 |
ToneCurvePV2012Blue | 0, 0, 255, 255 |
ToneCurvePV2012Green | 0, 0, 255, 255 |
ToneCurvePV2012Red | 0, 0, 255, 255 |
ToneCurveRed | 0, 0, 255, 255 |
Version | 8.5 |
Vibrance | +36 |
VignetteAmount | 0 |
WhiteBalance (1) | As Shot |
WhiteBalance | Auto |
Whites2012 | +28 |