Felt | Verdi |
AlreadyApplied | True |
Aperture | 2.8 |
ApertureValue | 2.8 |
ApproximateFocusDistance | 25.1 |
AutoLateralCA | 1 |
AutoWhiteVersion | 134348800 |
BitsPerSample | 8 |
Blacks2012 | 0 |
BlueHue | 0 |
BlueSaturation | 0 |
CameraProfile | Adobe Standard |
CFAPattern | [Red,Green][Green,Blue] |
CircleOfConfusion | 0.030 mm |
Clarity2012 | -74 |
ColorComponents | 3 |
ColorNoiseReduction | 25 |
ColorNoiseReductionDetail | 50 |
ColorNoiseReductionSmoothness | 50 |
ColorTemperature | 6994 |
ColorTransform | YCbCr |
Contrast | Normal |
Contrast2012 | +16 |
ConvertToGrayscale | False |
CreateDate (1) | 2014:08:01 19:38:58.98 |
CreateDate | 2014:08:01 19:38:58 |
CreatorTool | Adobe Photoshop Lightroom 5.5 (Macintosh) |
CropAngle | 0 |
CropBottom | 0.813935 |
CropConstrainToWarp | 1 |
CropLeft | 0.169906 |
CropRight | 0.760174 |
CropTop | 0.223667 |
CustomRendered | Normal |
DateCreated (1) | 2014:08:01 |
DateCreated | 2014:08:01 19:38:58.98 |
DateTimeOriginal | 2014:08:01 19:38:58 |
DefringeGreenAmount | 0 |
DefringeGreenHueHi | 60 |
DefringeGreenHueLo | 40 |
DefringePurpleAmount | 0 |
DefringePurpleHueHi | 70 |
DefringePurpleHueLo | 30 |
DigitalZoomRatio | 1 |
DOF | 1.16 m (24.53 - 25.70 m) |
Exposure2012 | +0.39 |
ExposureCompensation | -1/3 |
ExposureMode | Manual |
ExposureProgram | Manual |
ExposureTime | 1/250 |
Flash | No Flash |
FNumber | 2.8 |
FocalLength | 300.0 mm |
FocalLength35efl | 300.0 mm (35 mm equivalent: 300.0 mm) |
FocalLengthIn35mmFormat | 300 mm |
Format | image/jpeg |
FOV | 6.9 deg |
GainControl | High gain up |
GrainAmount | 0 |
GreenHue | 0 |
GreenSaturation | 0 |
HasCrop | True |
HasExtendedXMP | 4A5FB906DFDDF073A499B831AD89B657 |
HasSettings | True |
Highlights2012 | 0 |
HueAdjustmentAqua | 0 |
HueAdjustmentBlue | 0 |
HueAdjustmentGreen | 0 |
HueAdjustmentMagenta | 0 |
HueAdjustmentOrange | 0 |
HueAdjustmentPurple | 0 |
HueAdjustmentRed | 0 |
HueAdjustmentYellow | 0 |
HyperfocalDistance | 1069.78 m |
ImageHeight | 1672 |
ImageNumber | 119233 |
ImageSize | 2512x1672 |
ImageWidth | 2512 |
ISO | 2500 |
Lens | 120.0-300.0 mm f/2.8 |
LensID (1) | 141 |
LensID | Sigma 120-300mm F2.8 DG OS HSM Sports |
LensInfo | 120-300mm f/2.8 |
LensManualDistortionAmount | 0 |
LensModel | 120.0-300.0 mm f/2.8 |
LensProfileChromaticAberrationScale | 100 |
LensProfileDistortionScale | 100 |
LensProfileEnable | 1 |
LensProfileFilename | NIKON CORPORATION (SIGMA 120-300mm F2.8 DG OS HSM S013) - RAW.lcp |
LensProfileName | Adobe (SIGMA 120-300mm F2.8 DG OS HSM S013, NIKON CORPORATION) |
LensProfileSetup | LensDefaults |
LensProfileVignettingScale | 100 |
LightSource | Fine Weather |
LightValue | 6.3 |
LuminanceAdjustmentAqua | 0 |
LuminanceAdjustmentBlue | 0 |
LuminanceAdjustmentGreen | 0 |
LuminanceAdjustmentMagenta | 0 |
LuminanceAdjustmentOrange | 0 |
LuminanceAdjustmentPurple | 0 |
LuminanceAdjustmentRed | 0 |
LuminanceAdjustmentYellow | 0 |
LuminanceSmoothing | 0 |
Make | NIKON CORPORATION |
MaxApertureValue | 2.8 |
Megapixels | 4.2 |
MeteringMode | Center-weighted average |
Model | NIKON D3S |
ModifyDate (1) | 2014:08:02 22:21:50+02:00 |
ModifyDate | 2014:08:02 22:21:50 |
PaintCorrectionActive | true |
PaintCorrectionAmount | 1.000000 |
PaintCorrectionBrightness | 0.000000 |
PaintCorrectionClarity2012 (1) | 0.782479 |
PaintCorrectionClarity2012 (2) | 0.364993 |
PaintCorrectionClarity2012 (3) | 0.000000 |
PaintCorrectionClarity2012 (4) | -0.613764 |
PaintCorrectionClarity2012 (5) | 0.595330 |
PaintCorrectionClarity2012 (6) | -0.446278 |
PaintCorrectionClarity2012 | 0.000439 |
PaintCorrectionContrast2012 (1) | 0.481127 |
PaintCorrectionContrast2012 (7) | 0.018610 |
PaintCorrectionContrast2012 | 0.000000 |
PaintCorrectionDefringe | 0.000000 |
PaintCorrectionExposure2012 (1) | 0.200930 |
PaintCorrectionExposure2012 (2) | 0.070576 |
PaintCorrectionExposure2012 (4) | 0.000000 |
PaintCorrectionExposure2012 (7) | 0.011763 |
PaintCorrectionExposure2012 (8) | -0.072419 |
PaintCorrectionExposure2012 (9) | -0.122015 |
PaintCorrectionExposure2012 | -0.129038 |
PaintCorrectionHighlights2012 (4) | 0.285551 |
PaintCorrectionHighlights2012 (6) | 0.000000 |
PaintCorrectionHighlights2012 | -0.961201 |
PaintCorrectionHue | 240.000000 |
PaintCorrectionLuminanceNoise (1) | 0.449877 |
PaintCorrectionLuminanceNoise | 0.000000 |
PaintCorrectionMaskCenterWeight (12) | 0.008128 |
PaintCorrectionMaskCenterWeight (149) | 0.084907 |
PaintCorrectionMaskCenterWeight (157) | 0.002297 |
PaintCorrectionMaskCenterWeight (164) | 1.000000 |
PaintCorrectionMaskCenterWeight (171) | 0.023171 |
PaintCorrectionMaskCenterWeight (32) | 0.098077 |
PaintCorrectionMaskCenterWeight (41) | 0.214861 |
PaintCorrectionMaskCenterWeight (44) | 0.002509 |
PaintCorrectionMaskCenterWeight (62) | 0.000000 |
PaintCorrectionMaskCenterWeight | 0.988186 |
PaintCorrectionMaskFlow (168) | 0.548474 |
PaintCorrectionMaskFlow (39) | 0.457956 |
PaintCorrectionMaskFlow (55) | 0.523783 |
PaintCorrectionMaskFlow (89) | 1.000000 |
PaintCorrectionMaskFlow | 0.858274 |
PaintCorrectionMaskRadius (1) | 0.008082 |
PaintCorrectionMaskRadius (130) | 0.004961 |
PaintCorrectionMaskRadius (132) | 0.004965 |
PaintCorrectionMaskRadius (148) | 0.060681 |
PaintCorrectionMaskRadius (149) | 0.060700 |
PaintCorrectionMaskRadius (150) | 0.018057 |
PaintCorrectionMaskRadius (151) | 0.018055 |
PaintCorrectionMaskRadius (154) | 0.008851 |
PaintCorrectionMaskRadius (155) | 0.008853 |
PaintCorrectionMaskRadius (157) | 0.022451 |
PaintCorrectionMaskRadius (158) | 0.022457 |
PaintCorrectionMaskRadius (160) | 0.022456 |
PaintCorrectionMaskRadius (161) | 0.022447 |
PaintCorrectionMaskRadius (162) | 0.022454 |
PaintCorrectionMaskRadius (163) | 0.022437 |
PaintCorrectionMaskRadius (166) | 0.008852 |
PaintCorrectionMaskRadius (167) | 0.008856 |
PaintCorrectionMaskRadius (168) | 0.008850 |
PaintCorrectionMaskRadius (169) | 0.008849 |
PaintCorrectionMaskRadius (170) | 0.071763 |
PaintCorrectionMaskRadius (171) | 0.071707 |
PaintCorrectionMaskRadius (175) | 0.001955 |
PaintCorrectionMaskRadius (20) | 0.005048 |
PaintCorrectionMaskRadius (26) | 0.012091 |
PaintCorrectionMaskRadius (33) | 0.009538 |
PaintCorrectionMaskRadius (34) | 0.326191 |
PaintCorrectionMaskRadius (35) | 0.081850 |
PaintCorrectionMaskRadius (36) | 0.081923 |
PaintCorrectionMaskRadius (37) | 0.187267 |
PaintCorrectionMaskRadius (38) | 0.187499 |
PaintCorrectionMaskRadius (39) | 0.188908 |
PaintCorrectionMaskRadius (4) | 0.003261 |
PaintCorrectionMaskRadius (40) | 0.188209 |
PaintCorrectionMaskRadius (41) | 0.003833 |
PaintCorrectionMaskRadius (42) | 0.216511 |
PaintCorrectionMaskRadius (43) | 0.216391 |
PaintCorrectionMaskRadius (44) | 0.216865 |
PaintCorrectionMaskRadius (46) | 0.006933 |
PaintCorrectionMaskRadius (53) | 0.006932 |
PaintCorrectionMaskRadius (64) | 0.006930 |
PaintCorrectionMaskRadius (66) | 0.006931 |
PaintCorrectionMaskRadius (74) | 0.004962 |
PaintCorrectionMaskRadius (78) | 0.004963 |
PaintCorrectionMaskRadius (79) | 0.004964 |
PaintCorrectionMaskRadius (9) | 0.001683 |
PaintCorrectionMaskRadius | 0.000426 |
PaintCorrectionMaskValue | 1.000000 |
PaintCorrectionMaskWhat | Mask/Paint |
PaintCorrectionMoire | 0.000000 |
PaintCorrectionSaturation | 0.000000 |
PaintCorrectionShadows2012 (4) | -0.221735 |
PaintCorrectionShadows2012 (9) | -0.432672 |
PaintCorrectionShadows2012 | 0.000000 |
PaintCorrectionSharpness (1) | 0.519136 |
PaintCorrectionSharpness (4) | -0.637202 |
PaintCorrectionSharpness | 0.000000 |
PaintCorrectionTemperature (1) | -0.037570 |
PaintCorrectionTemperature | 0.000000 |
PaintCorrectionTint | 0.000000 |
PaintCorrectionWhat | Correction |
ParametricDarks | +13 |
ParametricHighlights | 0 |
ParametricHighlightSplit | 75 |
ParametricLights | +27 |
ParametricMidtoneSplit | 50 |
ParametricShadows | 0 |
ParametricShadowSplit | 25 |
PerspectiveAspect | 0 |
PerspectiveHorizontal | 0 |
PerspectiveRotate | 0.0 |
PerspectiveScale | 100 |
PerspectiveUpright | 0 |
PerspectiveVertical | 0 |
PostCropVignetteAmount | -51 |
PostCropVignetteFeather | 89 |
PostCropVignetteHighlightContrast | 0 |
PostCropVignetteMidpoint | 50 |
PostCropVignetteRoundness | +67 |
PostCropVignetteStyle | 1 |
ProcessVersion | 6.7 |
ProfileDescription | sRGB IEC61966-2.1 |
Rating | 5 |
RedHue | 0 |
RedSaturation | 0 |
Saturation (1) | +2 |
Saturation | Normal |
SaturationAdjustmentAqua | 0 |
SaturationAdjustmentBlue | 0 |
SaturationAdjustmentGreen | 0 |
SaturationAdjustmentMagenta | 0 |
SaturationAdjustmentOrange | 0 |
SaturationAdjustmentPurple | 0 |
SaturationAdjustmentRed | 0 |
SaturationAdjustmentYellow | 0 |
ScaleFactor35efl | 1.0 |
SceneCaptureType | Standard |
SceneType | Directly photographed |
SensingMethod | One-chip color area |
SerialNumber | 2058033 |
Shadows2012 | 0 |
ShadowTint | 0 |
SharpenDetail | 25 |
SharpenEdgeMasking | 0 |
SharpenRadius | +1.0 |
Sharpness (1) | 25 |
Sharpness | Normal |
ShutterSpeed | 1/250 |
ShutterSpeedValue | 1/250 |
Software | Adobe Photoshop Lightroom 5.5 (Macintosh) |
SplitToningBalance | 0 |
SplitToningHighlightHue | 0 |
SplitToningHighlightSaturation | 0 |
SplitToningShadowHue | 0 |
SplitToningShadowSaturation | 0 |
SubjectDistanceRange | Unknown |
Tint | +10 |
ToneCurve | 0, 0, 255, 255 |
ToneCurveBlue | 0, 0, 255, 255 |
ToneCurveGreen | 0, 0, 255, 255 |
ToneCurveName | Linear |
ToneCurveName2012 | Linear |
ToneCurvePV2012 | 0, 0, 255, 255 |
ToneCurvePV2012Blue | 0, 0, 255, 255 |
ToneCurvePV2012Green | 0, 0, 255, 255 |
ToneCurvePV2012Red | 0, 0, 255, 255 |
ToneCurveRed | 0, 0, 255, 255 |
Version | 8.5 |
Vibrance | +5 |
VignetteAmount | 0 |
WhiteBalance (1) | Custom |
WhiteBalance | Manual |
Whites2012 | +23 |