Felt | Verdi |
AlreadyApplied | True |
Aperture | 11.0 |
ApertureValue | 11.0 |
ApproximateFocusDistance | 4294967295 |
AutoLateralCA | 1 |
AutoWhiteVersion | 134348800 |
BitsPerSample | 8 |
Blacks2012 | 0 |
BlueHue | 0 |
BlueSaturation | 0 |
CameraProfile | Adobe Standard |
CFAPattern | [Red,Green][Green,Blue] |
CircleOfConfusion | 0.030 mm |
Clarity2012 | -74 |
ColorComponents | 3 |
ColorNoiseReduction | 25 |
ColorNoiseReductionDetail | 50 |
ColorNoiseReductionSmoothness | 50 |
ColorTemperature | 6230 |
ColorTransform | YCbCr |
Contrast | Normal |
Contrast2012 | +17 |
ConvertToGrayscale | False |
CreateDate (1) | 2014:08:05 19:17:22.74 |
CreateDate | 2014:08:05 19:17:22 |
CreatorTool | Adobe Photoshop Lightroom 5.5 (Macintosh) |
CropAngle | 0 |
CropBottom | 0.976619 |
CropConstrainToWarp | 1 |
CropLeft | 0 |
CropRight | 0.948049 |
CropTop | 0.02857 |
CustomRendered | Normal |
DateCreated (1) | 2014:08:05 |
DateCreated | 2014:08:05 19:17:22.74 |
DateTimeOriginal | 2014:08:05 19:17:22 |
DefringeGreenAmount | 0 |
DefringeGreenHueHi | 60 |
DefringeGreenHueLo | 40 |
DefringePurpleAmount | 0 |
DefringePurpleHueHi | 70 |
DefringePurpleHueLo | 30 |
DigitalZoomRatio | 1 |
DOF | inf (0.87 m - inf) |
Exposure2012 | +0.39 |
ExposureCompensation | -1/3 |
ExposureMode | Manual |
ExposureProgram | Manual |
ExposureTime | 1/100 |
Flash | No Flash |
FNumber | 11.0 |
FocalLength | 17.0 mm |
FocalLength35efl | 17.0 mm (35 mm equivalent: 17.0 mm) |
FocalLengthIn35mmFormat | 17 mm |
Format | image/jpeg |
FOV | 93.3 deg |
GainControl | High gain up |
GradientBasedCorrActive | true |
GradientBasedCorrAmount | 1.000000 |
GradientBasedCorrBrightness | 0.000000 |
GradientBasedCorrClarity2012 | -0.010183 |
GradientBasedCorrContrast2012 | 0.288975 |
GradientBasedCorrDefringe | 0.000000 |
GradientBasedCorrExposure2012 | 0.000000 |
GradientBasedCorrHighlights2012 | -0.353669 |
GradientBasedCorrHue | 240.000000 |
GradientBasedCorrLuminanceNoise | 0.000000 |
GradientBasedCorrMaskFullX | 0.427841 |
GradientBasedCorrMaskFullY | 0.188795 |
GradientBasedCorrMaskValue | 1.000000 |
GradientBasedCorrMaskWhat | Mask/Gradient |
GradientBasedCorrMaskZeroX | 0.430626 |
GradientBasedCorrMaskZeroY | 0.346827 |
GradientBasedCorrMoire | 0.000000 |
GradientBasedCorrSaturation | 0.000000 |
GradientBasedCorrShadows2012 | 0.000000 |
GradientBasedCorrSharpness | 0.000000 |
GradientBasedCorrTemperature | 0.000000 |
GradientBasedCorrTint | 0.000000 |
GradientBasedCorrWhat | Correction |
GrainAmount | 0 |
GreenHue | 0 |
GreenSaturation | 0 |
HasCrop | True |
HasExtendedXMP | F10033DB7FDA0DA7E4CD2E3FAB5DA4EA |
HasSettings | True |
Highlights2012 | -66 |
HueAdjustmentAqua | 0 |
HueAdjustmentBlue | 0 |
HueAdjustmentGreen | 0 |
HueAdjustmentMagenta | 0 |
HueAdjustmentOrange | 0 |
HueAdjustmentPurple | 0 |
HueAdjustmentRed | 0 |
HueAdjustmentYellow | 0 |
HyperfocalDistance | 0.87 m |
ImageHeight | 2685 |
ImageNumber | 120167 |
ImageSize | 4035x2685 |
ImageWidth | 4035 |
ISO | 1250 |
Lens | 16.0-35.0 mm f/4.0 |
LensID (1) | 163 |
LensID | AF-S Nikkor 16-35mm f/4G ED VR |
LensInfo | 16-35mm f/4 |
LensManualDistortionAmount | 0 |
LensModel | 16.0-35.0 mm f/4.0 |
LensProfileChromaticAberrationScale | 100 |
LensProfileDistortionScale | 100 |
LensProfileEnable | 1 |
LensProfileFilename | NIKON D3X (Nikon AF-S NIKKOR 16-35mm f4G ED VR) - RAW.lcp |
LensProfileName | Adobe (Nikon AF-S NIKKOR 16-35mm f/4G ED VR) |
LensProfileSetup | LensDefaults |
LensProfileVignettingScale | 100 |
LightSource | Fine Weather |
LightValue | 9.9 |
LuminanceAdjustmentAqua | 0 |
LuminanceAdjustmentBlue | 0 |
LuminanceAdjustmentGreen | 0 |
LuminanceAdjustmentMagenta | 0 |
LuminanceAdjustmentOrange | 0 |
LuminanceAdjustmentPurple | 0 |
LuminanceAdjustmentRed | 0 |
LuminanceAdjustmentYellow | 0 |
LuminanceSmoothing | 0 |
Make | NIKON CORPORATION |
MaxApertureValue | 4.0 |
Megapixels | 10.8 |
MeteringMode | Center-weighted average |
Model | NIKON D3S |
ModifyDate (1) | 2014:08:06 14:48:48+02:00 |
ModifyDate | 2014:08:06 14:48:48 |
PaintCorrectionActive | true |
PaintCorrectionAmount | 1.000000 |
PaintCorrectionBrightness | 0.000000 |
PaintCorrectionClarity2012 (1) | 0.937149 |
PaintCorrectionClarity2012 (2) | 0.841731 |
PaintCorrectionClarity2012 (3) | 0.718926 |
PaintCorrectionClarity2012 (4) | 0.354810 |
PaintCorrectionClarity2012 (5) | 0.414940 |
PaintCorrectionClarity2012 | 0.639045 |
PaintCorrectionContrast2012 (2) | 0.260270 |
PaintCorrectionContrast2012 | 0.000000 |
PaintCorrectionDefringe | 0.000000 |
PaintCorrectionExposure2012 (2) | 0.025281 |
PaintCorrectionExposure2012 (3) | 0.125263 |
PaintCorrectionExposure2012 (4) | 0.041608 |
PaintCorrectionExposure2012 (5) | 0.000000 |
PaintCorrectionExposure2012 | 0.043452 |
PaintCorrectionHighlights2012 (3) | -0.586289 |
PaintCorrectionHighlights2012 | 0.000000 |
PaintCorrectionHue | 240.000000 |
PaintCorrectionLuminanceNoise | 0.000000 |
PaintCorrectionMaskCenterWeight (11) | 1.000000 |
PaintCorrectionMaskCenterWeight (16) | 0.152448 |
PaintCorrectionMaskCenterWeight (3) | 0.001703 |
PaintCorrectionMaskCenterWeight (32) | 0.080787 |
PaintCorrectionMaskCenterWeight | 0.000000 |
PaintCorrectionMaskFlow (16) | 0.952064 |
PaintCorrectionMaskFlow | 0.968808 |
PaintCorrectionMaskRadius (13) | 0.136333 |
PaintCorrectionMaskRadius (14) | 0.027164 |
PaintCorrectionMaskRadius (17) | 0.013948 |
PaintCorrectionMaskRadius (18) | 0.047267 |
PaintCorrectionMaskRadius (19) | 0.047056 |
PaintCorrectionMaskRadius (2) | 0.122280 |
PaintCorrectionMaskRadius (20) | 0.041147 |
PaintCorrectionMaskRadius (21) | 0.040970 |
PaintCorrectionMaskRadius (22) | 0.040814 |
PaintCorrectionMaskRadius (23) | 0.040633 |
PaintCorrectionMaskRadius (24) | 0.041500 |
PaintCorrectionMaskRadius (25) | 0.040999 |
PaintCorrectionMaskRadius (26) | 0.039297 |
PaintCorrectionMaskRadius (27) | 0.040541 |
PaintCorrectionMaskRadius (28) | 0.038903 |
PaintCorrectionMaskRadius (29) | 0.040233 |
PaintCorrectionMaskRadius (30) | 0.008302 |
PaintCorrectionMaskRadius (31) | 0.008252 |
PaintCorrectionMaskRadius (32) | 0.008276 |
PaintCorrectionMaskRadius (33) | 0.041863 |
PaintCorrectionMaskRadius (34) | 0.008287 |
PaintCorrectionMaskRadius (35) | 0.008304 |
PaintCorrectionMaskRadius (36) | 0.025753 |
PaintCorrectionMaskRadius (37) | 0.025640 |
PaintCorrectionMaskRadius (38) | 0.025766 |
PaintCorrectionMaskRadius (39) | 0.029581 |
PaintCorrectionMaskRadius (40) | 0.030040 |
PaintCorrectionMaskRadius (41) | 0.030062 |
PaintCorrectionMaskRadius (42) | 0.030386 |
PaintCorrectionMaskRadius (43) | 0.030531 |
PaintCorrectionMaskRadius (44) | 0.011330 |
PaintCorrectionMaskRadius (45) | 0.011349 |
PaintCorrectionMaskRadius (5) | 0.202067 |
PaintCorrectionMaskRadius (9) | 0.079570 |
PaintCorrectionMaskRadius | 0.011345 |
PaintCorrectionMaskValue | 1.000000 |
PaintCorrectionMaskWhat | Mask/Paint |
PaintCorrectionMoire | 0.000000 |
PaintCorrectionSaturation | 0.000000 |
PaintCorrectionShadows2012 | 0.000000 |
PaintCorrectionSharpness | 0.000000 |
PaintCorrectionTemperature (1) | 0.000000 |
PaintCorrectionTemperature (3) | 0.209709 |
PaintCorrectionTemperature (4) | 0.325053 |
PaintCorrectionTemperature (5) | 0.188553 |
PaintCorrectionTemperature | 0.147384 |
PaintCorrectionTint | 0.000000 |
PaintCorrectionWhat | Correction |
ParametricDarks | 0 |
ParametricHighlights | 0 |
ParametricHighlightSplit | 75 |
ParametricLights | +42 |
ParametricMidtoneSplit | 50 |
ParametricShadows | 0 |
ParametricShadowSplit | 25 |
PerspectiveAspect | 0 |
PerspectiveHorizontal | 0 |
PerspectiveRotate | 0.0 |
PerspectiveScale | 100 |
PerspectiveUpright | 0 |
PerspectiveVertical | 0 |
PostCropVignetteAmount | -28 |
PostCropVignetteFeather | 100 |
PostCropVignetteHighlightContrast | 0 |
PostCropVignetteMidpoint | 50 |
PostCropVignetteRoundness | 0 |
PostCropVignetteStyle | 1 |
ProcessVersion | 6.7 |
ProfileDescription | sRGB IEC61966-2.1 |
Rating | 5 |
RedHue | 0 |
RedSaturation | 0 |
Saturation (1) | 0 |
Saturation | Normal |
SaturationAdjustmentAqua | 0 |
SaturationAdjustmentBlue | 0 |
SaturationAdjustmentGreen | 0 |
SaturationAdjustmentMagenta | 0 |
SaturationAdjustmentOrange | 0 |
SaturationAdjustmentPurple | 0 |
SaturationAdjustmentRed | 0 |
SaturationAdjustmentYellow | 0 |
ScaleFactor35efl | 1.0 |
SceneCaptureType | Standard |
SceneType | Directly photographed |
SensingMethod | One-chip color area |
SerialNumber | 2058033 |
Shadows2012 | +54 |
ShadowTint | 0 |
SharpenDetail | 25 |
SharpenEdgeMasking | 0 |
SharpenRadius | +1.0 |
Sharpness (1) | 25 |
Sharpness | Normal |
ShutterSpeed | 1/100 |
ShutterSpeedValue | 1/100 |
Software | Adobe Photoshop Lightroom 5.5 (Macintosh) |
SplitToningBalance | 0 |
SplitToningHighlightHue | 0 |
SplitToningHighlightSaturation | 0 |
SplitToningShadowHue | 0 |
SplitToningShadowSaturation | 0 |
SubjectDistanceRange | Unknown |
Tint | +15 |
ToneCurve | 0, 0, 255, 255 |
ToneCurveBlue | 0, 0, 255, 255 |
ToneCurveGreen | 0, 0, 255, 255 |
ToneCurveName | Linear |
ToneCurveName2012 | Linear |
ToneCurvePV2012 | 0, 0, 255, 255 |
ToneCurvePV2012Blue | 0, 0, 255, 255 |
ToneCurvePV2012Green | 0, 0, 255, 255 |
ToneCurvePV2012Red | 0, 0, 255, 255 |
ToneCurveRed | 0, 0, 255, 255 |
Version | 8.5 |
Vibrance | 0 |
VignetteAmount | 0 |
WhiteBalance (1) | Custom |
WhiteBalance | Manual |
Whites2012 | 0 |