Felt | Verdi |
AEBBracketValue | 0 |
AlreadyApplied | True |
Aperture | 9.0 |
ApertureValue | 9.0 |
ApproximateFocusDistance | 4294967295 |
Artist | |
AutoExposureBracketing | Off |
AutoISO | 100 |
AutoLateralCA | 0 |
AutoWhiteVersion | 134348800 |
BaseISO | 0 |
BitsPerSample | 8 |
BlackClip | 0.010000 |
Blacks2012 | 0 |
BlueHue | 0 |
BlueSaturation | 0 |
BulbDuration | 0 |
CameraProfile | Embedded |
CameraType | n/a |
CanonExposureMode | Unknown (-1) |
CanonFirmwareVersion | |
CanonFlashMode | n/a |
CanonImageSize | n/a |
CanonImageType | |
CircleOfConfusion | 0.008 mm |
Clarity2012 | +37 |
ColorComponents | 3 |
ColorMode | RGB |
ColorNoiseReduction | 0 |
ColorSaturation | 49.0 |
ColorSpace | sRGB |
ColorTemperature | 0.0 |
ContinuousDrive | Unknown (-1) |
Contrast2012 | 0 |
ControlMode | n/a |
ConvertToGrayscale | False |
CreateDate (1) | 2014:07:28 12:12:01+02:00 |
CreateDate | 2014:07:28 12:12:01 |
CreatorTool | Digital Photo Professional |
CustomRendered | Normal |
DateCreated | 2014:07:28 12:12:01 |
DateTimeOriginal | 2014:07:28 12:12:01 |
DefringeGreenAmount | 0 |
DefringeGreenHueHi | 60 |
DefringeGreenHueLo | 40 |
DefringePurpleAmount | 0 |
DefringePurpleHueHi | 70 |
DefringePurpleHueLo | 30 |
DigitalZoom | None |
DOF | inf (27.32 m - inf) |
DriveMode | Continuous Shooting |
EasyMode | Unknown (-1) |
ExifImageHeight | 1321 |
ExifImageWidth | 2200 |
Exposure2012 | 0.00 |
ExposureCompensation | 0 |
ExposureMode | Auto |
ExposureTime | 1/160 |
FileNumber | 0 |
Firmware | 1.0.1 |
Flash | Off, Did not fire |
FlashBits | (none) |
FlashCompensation | 0 |
FlashExposureComp | 0 |
FlashGuideNumber | 0 |
FNumber | 9.0 |
FocalLength | 44.0 mm |
FocalLength35efl | 44.0 mm (35 mm equivalent: 167.9 mm) |
FocalUnits | 32/mm |
FocusMode | Single |
FocusRange | Not Known |
Format | image/tiff |
FOV | 12.2 deg |
Gamma | 1.00 |
GrainAmount | 0 |
GreenHue | 0 |
GreenSaturation | 0 |
HasCrop | False |
HasSettings | True |
Highlights2012 | -63 |
HighlightsSmoothing | 0.0 |
HueAdjustmentAqua | 0 |
HueAdjustmentBlue | 0 |
HueAdjustmentGreen | 0 |
HueAdjustmentMagenta | 0 |
HueAdjustmentOrange | 0 |
HueAdjustmentPurple | 0 |
HueAdjustmentRed | 0 |
HueAdjustmentYellow | 0 |
HyperfocalDistance | 27.32 m |
ICCProfileName | sRGB IEC61966-2.1 |
ImageHeight | 1321 |
ImageNumber | 0 |
ImageSize | 2200x1321 |
ImageWidth | 2200 |
IncrementalTemperature | -3 |
IncrementalTint | 0 |
ISO (1) | 0 |
ISO | 400 |
IsPano360 | No |
Lens (1) | 17-70mm |
Lens | 0.0 mm |
Lens35efl | 0.0 mm (35 mm equivalent: 0.0 mm) |
LensID (1) | 131 |
LensID | n/a |
LensInfo | 17-70mm f/? |
LensManualDistortionAmount | 0 |
LensModel | 17-70mm |
LensProfileEnable | 0 |
LensProfileSetup | LensDefaults |
LensType | n/a |
LightValue | 11.7 |
LuminanceAdjustmentAqua | 0 |
LuminanceAdjustmentBlue | 0 |
LuminanceAdjustmentGreen | 0 |
LuminanceAdjustmentMagenta | 0 |
LuminanceAdjustmentOrange | 0 |
LuminanceAdjustmentPurple | 0 |
LuminanceAdjustmentRed | 0 |
LuminanceAdjustmentYellow | 0 |
LuminanceSmoothing | 0 |
Luminosity | 8.9 |
MacroMode | Unknown (0) |
Make | Canon |
ManualFlashOutput | n/a |
MaxFocalLength | 0 mm |
MeasuredEV | 5.00 |
Megapixels | 2.9 |
MeteringMode | Unknown (-1) |
Method | Details Enhancer |
Microcontrast | 3.4 |
Microsmoothing | 3.0 |
MinFocalLength | 0 mm |
Model | Canon EOS 600D |
ModifyDate (1) | 2014:08:10 17:50:30+02:00 |
ModifyDate | 2014:07:28 12:12:01 |
NDFilter | n/a |
OpticalZoomCode | n/a |
Orientation | Horizontal (normal) |
OwnerName | |
ParametricDarks | 0 |
ParametricHighlights | 0 |
ParametricHighlightSplit | 75 |
ParametricLights | 0 |
ParametricMidtoneSplit | 50 |
ParametricShadows | 0 |
ParametricShadowSplit | 25 |
PerspectiveAspect | 0 |
PerspectiveHorizontal | 0 |
PerspectiveRotate | 0.0 |
PerspectiveScale | 100 |
PerspectiveUpright | 0 |
PerspectiveVertical | 0 |
PostCropVignetteAmount | 0 |
ProcessVersion | 6.7 |
ProfileDescription | sRGB v1.31 (Canon) |
Quality | Fine |
Rating | 0 |
RawFileName | IMG_7099x2_o kanarettl klonet.JPG |
RecommendedExposureIndex | 400 |
RedHue | 0 |
RedSaturation | 0 |
RelatedImageHeight | 1321 |
RelatedImageWidth | 2200 |
Saturation | +8 |
SaturationAdjustmentAqua | 0 |
SaturationAdjustmentBlue | 0 |
SaturationAdjustmentGreen | 0 |
SaturationAdjustmentMagenta | 0 |
SaturationAdjustmentOrange | 0 |
SaturationAdjustmentPurple | 0 |
SaturationAdjustmentRed | 0 |
SaturationAdjustmentYellow | 0 |
SaturationHighlights | 0.0 |
SaturationShadows | 0.0 |
ScaleFactor35efl | 3.8 |
SceneCaptureType | Standard |
SelfTimer | Off |
SensitivityType | Recommended Exposure Index |
SequenceNumber | 0 |
SerialNumber | 123063012664 |
Shadows2012 | +23 |
ShadowsClipping | 0.0 |
ShadowsSmoothing | 0.0 |
ShadowTint | 0 |
SharpenDetail | 25 |
SharpenEdgeMasking | 0 |
SharpenRadius | +1.0 |
Sharpness | 0 |
ShootingMode | Unknown (-1) |
ShutterSpeed | 1/160 |
ShutterSpeedValue | 1/160 |
SlowShutter | None |
Smoothing | 7.4 |
SmoothingMode | Slider |
Software | Digital Photo Professional |
SplitToningBalance | 0 |
SplitToningHighlightHue | 0 |
SplitToningHighlightSaturation | 0 |
SplitToningShadowHue | 0 |
SplitToningShadowSaturation | 0 |
SRAWQuality | n/a |
Strength | 77.0 |
TargetAperture | 9 |
TargetExposureTime | 1/159 |
ToneCurve | 0, 0, 255, 255 |
ToneCurveBlue | 0, 0, 255, 255 |
ToneCurveGreen | 0, 0, 255, 255 |
ToneCurveName | Linear |
ToneCurveName2012 | Linear |
ToneCurvePV2012 | 0, 0, 255, 255 |
ToneCurvePV2012Blue | 0, 0, 255, 255 |
ToneCurvePV2012Green | 0, 0, 255, 255 |
ToneCurvePV2012Red | 0, 0, 255, 255 |
ToneCurveRed | 0, 0, 255, 255 |
UserComment | |
Version (1) | 5.0 |
Version | 8.5 |
Vibrance | +5 |
VignetteAmount | 0 |
WhiteBalance (1) | Manual |
WhiteBalance (2) | Custom |
WhiteBalance | Unknown (-1) |
WhiteClip | 1.786568 |
Whites2012 | 0 |
ZoomSourceWidth | 0 |
ZoomTargetWidth | 0 |