Felt | Verdi |
AlreadyApplied | True |
Aperture | 13.0 |
ApertureValue | 13.0 |
ApproximateFocusDistance | 4294967295 |
AutoLateralCA | 1 |
AutoWhiteVersion | 134348800 |
BitsPerSample | 8 |
Blacks2012 | 0 |
BlueHue | 0 |
BlueSaturation | 0 |
CameraProfile | Adobe Standard |
CFAPattern | [Red,Green][Green,Blue] |
CircleOfConfusion | 0.030 mm |
Clarity2012 | -32 |
ColorComponents | 3 |
ColorNoiseReduction | 56 |
ColorNoiseReductionDetail | 57 |
ColorNoiseReductionSmoothness | 50 |
ColorTemperature | 5100 |
ColorTransform | YCbCr |
Contrast | Normal |
Contrast2012 | +10 |
ConvertToGrayscale | False |
CreateDate (1) | 2014:08:02 07:43:50.32 |
CreateDate | 2014:08:02 07:43:50 |
CreatorTool | Adobe Photoshop Lightroom 5.5 (Macintosh) |
CropAngle | 1.9 |
CropBottom | 0.947845 |
CropConstrainToWarp | 1 |
CropLeft | 0.089525 |
CropRight | 0.934241 |
CropTop | 0.040999 |
CustomRendered | Normal |
DateCreated (1) | 2014:08:02 |
DateCreated | 2014:08:02 07:43:50.32 |
DateTimeOriginal | 2014:08:02 07:43:50 |
DefringeGreenAmount | 0 |
DefringeGreenHueHi | 60 |
DefringeGreenHueLo | 40 |
DefringePurpleAmount | 0 |
DefringePurpleHueHi | 70 |
DefringePurpleHueLo | 30 |
DigitalZoomRatio | 1 |
DOF | inf (0.66 m - inf) |
Exposure2012 | +0.42 |
ExposureCompensation | -1/3 |
ExposureMode | Manual |
ExposureProgram | Manual |
ExposureTime | 1/250 |
Flash | No Flash |
FNumber | 13.0 |
FocalLength | 16.0 mm |
FocalLength35efl | 16.0 mm (35 mm equivalent: 16.0 mm) |
FocalLengthIn35mmFormat | 16 mm |
Format | image/jpeg |
FOV | 96.7 deg |
GainControl | Low gain up |
GradientBasedCorrActive | true |
GradientBasedCorrAmount | 1.000000 |
GradientBasedCorrBrightness | 0.000000 |
GradientBasedCorrClarity2012 | 0.000000 |
GradientBasedCorrContrast2012 | 0.000000 |
GradientBasedCorrDefringe | 0.000000 |
GradientBasedCorrExposure2012 | 0.067504 |
GradientBasedCorrHighlights2012 | 0.000000 |
GradientBasedCorrHue | 240.000000 |
GradientBasedCorrLuminanceNoise | 0.000000 |
GradientBasedCorrMaskFullX | 0.547312 |
GradientBasedCorrMaskFullY | 0.732304 |
GradientBasedCorrMaskValue | 1.000000 |
GradientBasedCorrMaskWhat | Mask/Gradient |
GradientBasedCorrMaskZeroX | 0.548912 |
GradientBasedCorrMaskZeroY | 0.503687 |
GradientBasedCorrMoire | 0.000000 |
GradientBasedCorrSaturation | 0.000000 |
GradientBasedCorrShadows2012 | 0.354284 |
GradientBasedCorrSharpness | 0.000000 |
GradientBasedCorrTemperature | 0.000000 |
GradientBasedCorrTint | 0.000000 |
GradientBasedCorrWhat | Correction |
GrainAmount | 0 |
GreenHue | 0 |
GreenSaturation | 0 |
HasCrop | True |
HasExtendedXMP | C5E0906E2D854E0A084868FA6A817174 |
HasSettings | True |
Highlights2012 | -60 |
HueAdjustmentAqua | 0 |
HueAdjustmentBlue | 0 |
HueAdjustmentGreen | 0 |
HueAdjustmentMagenta | 0 |
HueAdjustmentOrange | 0 |
HueAdjustmentPurple | 0 |
HueAdjustmentRed | 0 |
HueAdjustmentYellow | 0 |
HyperfocalDistance | 0.66 m |
ImageHeight | 2447 |
ImageNumber | 119412 |
ImageSize | 3677x2447 |
ImageWidth | 3677 |
ISO | 400 |
Lens | 16.0-35.0 mm f/4.0 |
LensID (1) | 163 |
LensID | AF-S Nikkor 16-35mm f/4G ED VR |
LensInfo | 16-35mm f/4 |
LensManualDistortionAmount | +56 |
LensModel | 16.0-35.0 mm f/4.0 |
LensProfileChromaticAberrationScale | 100 |
LensProfileDistortionScale | 100 |
LensProfileEnable | 1 |
LensProfileFilename | NIKON D3X (Nikon AF-S NIKKOR 16-35mm f4G ED VR) - RAW.lcp |
LensProfileName | Adobe (Nikon AF-S NIKKOR 16-35mm f/4G ED VR) |
LensProfileSetup | LensDefaults |
LensProfileVignettingScale | 100 |
LightSource | Fine Weather |
LightValue | 13.4 |
LuminanceAdjustmentAqua | 0 |
LuminanceAdjustmentBlue | 0 |
LuminanceAdjustmentGreen | 0 |
LuminanceAdjustmentMagenta | 0 |
LuminanceAdjustmentOrange | 0 |
LuminanceAdjustmentPurple | 0 |
LuminanceAdjustmentRed | 0 |
LuminanceAdjustmentYellow | 0 |
LuminanceNoiseReductionContrast | 44 |
LuminanceNoiseReductionDetail | 50 |
LuminanceSmoothing | 38 |
Make | NIKON CORPORATION |
MaxApertureValue | 4.0 |
Megapixels | 9.0 |
MeteringMode | Center-weighted average |
Model | NIKON D3S |
ModifyDate (1) | 2014:08:11 16:15:46+02:00 |
ModifyDate | 2014:08:11 16:15:46 |
PaintCorrectionActive | true |
PaintCorrectionAmount | 1.000000 |
PaintCorrectionBrightness | 0.000000 |
PaintCorrectionClarity2012 (2) | 0.549772 |
PaintCorrectionClarity2012 (3) | 0.750000 |
PaintCorrectionClarity2012 (4) | 0.581812 |
PaintCorrectionClarity2012 (5) | 0.370523 |
PaintCorrectionClarity2012 (8) | 0.484287 |
PaintCorrectionClarity2012 (9) | 0.202247 |
PaintCorrectionClarity2012 | 0.000000 |
PaintCorrectionContrast2012 (1) | 0.599544 |
PaintCorrectionContrast2012 (8) | 0.265713 |
PaintCorrectionContrast2012 | 0.000000 |
PaintCorrectionDefringe | 0.000000 |
PaintCorrectionExposure2012 (6) | 0.038272 |
PaintCorrectionExposure2012 (7) | -0.011324 |
PaintCorrectionExposure2012 (9) | 0.097349 |
PaintCorrectionExposure2012 | 0.000000 |
PaintCorrectionHighlights2012 (1) | -0.405284 |
PaintCorrectionHighlights2012 | 0.000000 |
PaintCorrectionHue | 240.000000 |
PaintCorrectionLuminanceNoise | 0.000000 |
PaintCorrectionMaskCenterWeight (200) | 0.780537 |
PaintCorrectionMaskCenterWeight (218) | 0.154956 |
PaintCorrectionMaskCenterWeight (225) | 0.000000 |
PaintCorrectionMaskCenterWeight (258) | 0.271351 |
PaintCorrectionMaskCenterWeight (288) | 0.300134 |
PaintCorrectionMaskCenterWeight (295) | 0.032510 |
PaintCorrectionMaskCenterWeight (298) | 1.000000 |
PaintCorrectionMaskCenterWeight (307) | 0.363755 |
PaintCorrectionMaskCenterWeight (318) | 0.041162 |
PaintCorrectionMaskCenterWeight (319) | 0.797244 |
PaintCorrectionMaskCenterWeight (324) | 0.051239 |
PaintCorrectionMaskCenterWeight | 0.369257 |
PaintCorrectionMaskFlow (190) | 0.876547 |
PaintCorrectionMaskFlow (223) | 0.543884 |
PaintCorrectionMaskFlow (224) | 0.923166 |
PaintCorrectionMaskFlow (246) | 0.975012 |
PaintCorrectionMaskFlow | 0.494631 |
PaintCorrectionMaskRadius (1) | 0.025642 |
PaintCorrectionMaskRadius (102) | 0.034331 |
PaintCorrectionMaskRadius (150) | 0.007770 |
PaintCorrectionMaskRadius (176) | 0.032487 |
PaintCorrectionMaskRadius (18) | 0.022566 |
PaintCorrectionMaskRadius (180) | 0.005616 |
PaintCorrectionMaskRadius (188) | 0.007830 |
PaintCorrectionMaskRadius (217) | 0.044554 |
PaintCorrectionMaskRadius (219) | 0.167912 |
PaintCorrectionMaskRadius (224) | 0.047031 |
PaintCorrectionMaskRadius (225) | 0.004134 |
PaintCorrectionMaskRadius (226) | 0.224280 |
PaintCorrectionMaskRadius (227) | 0.154748 |
PaintCorrectionMaskRadius (228) | 0.213549 |
PaintCorrectionMaskRadius (229) | 0.071940 |
PaintCorrectionMaskRadius (230) | 0.068841 |
PaintCorrectionMaskRadius (231) | 0.029340 |
PaintCorrectionMaskRadius (232) | 0.059591 |
PaintCorrectionMaskRadius (233) | 0.060971 |
PaintCorrectionMaskRadius (234) | 0.068452 |
PaintCorrectionMaskRadius (235) | 0.069851 |
PaintCorrectionMaskRadius (236) | 0.072064 |
PaintCorrectionMaskRadius (237) | 0.065942 |
PaintCorrectionMaskRadius (238) | 0.061072 |
PaintCorrectionMaskRadius (239) | 0.059871 |
PaintCorrectionMaskRadius (240) | 0.058501 |
PaintCorrectionMaskRadius (241) | 0.057211 |
PaintCorrectionMaskRadius (242) | 0.066766 |
PaintCorrectionMaskRadius (243) | 0.055542 |
PaintCorrectionMaskRadius (244) | 0.064095 |
PaintCorrectionMaskRadius (245) | 0.028883 |
PaintCorrectionMaskRadius (246) | 0.029823 |
PaintCorrectionMaskRadius (247) | 0.029561 |
PaintCorrectionMaskRadius (248) | 0.013694 |
PaintCorrectionMaskRadius (249) | 0.013767 |
PaintCorrectionMaskRadius (250) | 0.007270 |
PaintCorrectionMaskRadius (251) | 0.007342 |
PaintCorrectionMaskRadius (252) | 0.007346 |
PaintCorrectionMaskRadius (253) | 0.007372 |
PaintCorrectionMaskRadius (254) | 0.007574 |
PaintCorrectionMaskRadius (255) | 0.007667 |
PaintCorrectionMaskRadius (256) | 0.007670 |
PaintCorrectionMaskRadius (257) | 0.007601 |
PaintCorrectionMaskRadius (258) | 0.007615 |
PaintCorrectionMaskRadius (259) | 0.019611 |
PaintCorrectionMaskRadius (260) | 0.019621 |
PaintCorrectionMaskRadius (261) | 0.007606 |
PaintCorrectionMaskRadius (262) | 0.012547 |
PaintCorrectionMaskRadius (263) | 0.006772 |
PaintCorrectionMaskRadius (264) | 0.007152 |
PaintCorrectionMaskRadius (265) | 0.006050 |
PaintCorrectionMaskRadius (266) | 0.006115 |
PaintCorrectionMaskRadius (267) | 0.017499 |
PaintCorrectionMaskRadius (268) | 0.019213 |
PaintCorrectionMaskRadius (269) | 0.019207 |
PaintCorrectionMaskRadius (270) | 0.017509 |
PaintCorrectionMaskRadius (271) | 0.020594 |
PaintCorrectionMaskRadius (272) | 0.007768 |
PaintCorrectionMaskRadius (273) | 0.008077 |
PaintCorrectionMaskRadius (274) | 0.008123 |
PaintCorrectionMaskRadius (275) | 0.008612 |
PaintCorrectionMaskRadius (276) | 0.008858 |
PaintCorrectionMaskRadius (277) | 0.008951 |
PaintCorrectionMaskRadius (278) | 0.009019 |
PaintCorrectionMaskRadius (279) | 0.009245 |
PaintCorrectionMaskRadius (280) | 0.008903 |
PaintCorrectionMaskRadius (281) | 0.008876 |
PaintCorrectionMaskRadius (282) | 0.009333 |
PaintCorrectionMaskRadius (283) | 0.009437 |
PaintCorrectionMaskRadius (284) | 0.009410 |
PaintCorrectionMaskRadius (285) | 0.009491 |
PaintCorrectionMaskRadius (286) | 0.071884 |
PaintCorrectionMaskRadius (287) | 0.067124 |
PaintCorrectionMaskRadius (288) | 0.035047 |
PaintCorrectionMaskRadius (289) | 0.033010 |
PaintCorrectionMaskRadius (290) | 0.040527 |
PaintCorrectionMaskRadius (291) | 0.036024 |
PaintCorrectionMaskRadius (292) | 0.031541 |
PaintCorrectionMaskRadius (294) | 0.071245 |
PaintCorrectionMaskRadius (295) | 0.065132 |
PaintCorrectionMaskRadius (296) | 0.060268 |
PaintCorrectionMaskRadius (297) | 0.057865 |
PaintCorrectionMaskRadius (298) | 0.009744 |
PaintCorrectionMaskRadius (299) | 0.009545 |
PaintCorrectionMaskRadius (300) | 0.009565 |
PaintCorrectionMaskRadius (301) | 0.009784 |
PaintCorrectionMaskRadius (302) | 0.007314 |
PaintCorrectionMaskRadius (303) | 0.007357 |
PaintCorrectionMaskRadius (304) | 0.007231 |
PaintCorrectionMaskRadius (305) | 0.008089 |
PaintCorrectionMaskRadius (306) | 0.008067 |
PaintCorrectionMaskRadius (307) | 0.007964 |
PaintCorrectionMaskRadius (308) | 0.053268 |
PaintCorrectionMaskRadius (309) | 0.003636 |
PaintCorrectionMaskRadius (310) | 0.003650 |
PaintCorrectionMaskRadius (311) | 0.003657 |
PaintCorrectionMaskRadius (312) | 0.034900 |
PaintCorrectionMaskRadius (313) | 0.006500 |
PaintCorrectionMaskRadius (314) | 0.002005 |
PaintCorrectionMaskRadius (315) | 0.002045 |
PaintCorrectionMaskRadius (316) | 0.002053 |
PaintCorrectionMaskRadius (317) | 0.052184 |
PaintCorrectionMaskRadius (318) | 0.108980 |
PaintCorrectionMaskRadius (319) | 0.051669 |
PaintCorrectionMaskRadius (320) | 0.044215 |
PaintCorrectionMaskRadius (321) | 0.004926 |
PaintCorrectionMaskRadius (322) | 0.004955 |
PaintCorrectionMaskRadius (323) | 0.005259 |
PaintCorrectionMaskRadius (324) | 0.005219 |
PaintCorrectionMaskRadius (325) | 0.005200 |
PaintCorrectionMaskRadius (326) | 0.005208 |
PaintCorrectionMaskRadius (327) | 0.012190 |
PaintCorrectionMaskRadius (329) | 0.012297 |
PaintCorrectionMaskRadius (330) | 0.012181 |
PaintCorrectionMaskRadius (89) | 0.008555 |
PaintCorrectionMaskRadius (9) | 0.004507 |
PaintCorrectionMaskRadius | 0.002809 |
PaintCorrectionMaskValue | 1.000000 |
PaintCorrectionMaskWhat | Mask/Paint |
PaintCorrectionMoire | 0.000000 |
PaintCorrectionSaturation (19) | 0.355952 |
PaintCorrectionSaturation | 0.000000 |
PaintCorrectionShadows2012 (6) | 0.089449 |
PaintCorrectionShadows2012 (7) | -0.077247 |
PaintCorrectionShadows2012 | 0.000000 |
PaintCorrectionSharpness | 0.000000 |
PaintCorrectionTemperature (1) | -0.137640 |
PaintCorrectionTemperature (9) | 0.305565 |
PaintCorrectionTemperature | 0.000000 |
PaintCorrectionTint | 0.000000 |
PaintCorrectionWhat | Correction |
ParametricDarks | 0 |
ParametricHighlights | -22 |
ParametricHighlightSplit | 75 |
ParametricLights | +29 |
ParametricMidtoneSplit | 50 |
ParametricShadows | +13 |
ParametricShadowSplit | 25 |
PerspectiveAspect | +32 |
PerspectiveHorizontal | 0 |
PerspectiveRotate | 0.0 |
PerspectiveScale | 100 |
PerspectiveUpright | 0 |
PerspectiveVertical | -3 |
PostCropVignetteAmount | 0 |
ProcessVersion | 6.7 |
ProfileDescription | sRGB IEC61966-2.1 |
Rating | 5 |
RedHue | 0 |
RedSaturation | 0 |
Saturation (1) | 0 |
Saturation | Normal |
SaturationAdjustmentAqua | 0 |
SaturationAdjustmentBlue | 0 |
SaturationAdjustmentGreen | 0 |
SaturationAdjustmentMagenta | 0 |
SaturationAdjustmentOrange | 0 |
SaturationAdjustmentPurple | 0 |
SaturationAdjustmentRed | 0 |
SaturationAdjustmentYellow | 0 |
ScaleFactor35efl | 1.0 |
SceneCaptureType | Standard |
SceneType | Directly photographed |
SensingMethod | One-chip color area |
SerialNumber | 2058033 |
Shadows2012 | +60 |
ShadowTint | 0 |
SharpenDetail | 58 |
SharpenEdgeMasking | 28 |
SharpenRadius | +1.9 |
Sharpness (1) | 82 |
Sharpness | Normal |
ShutterSpeed | 1/250 |
ShutterSpeedValue | 1/250 |
Software | Adobe Photoshop Lightroom 5.5 (Macintosh) |
SplitToningBalance | 0 |
SplitToningHighlightHue | 0 |
SplitToningHighlightSaturation | 0 |
SplitToningShadowHue | 0 |
SplitToningShadowSaturation | 0 |
SubjectDistanceRange | Unknown |
Tint | +10 |
ToneCurve | 0, 0, 255, 255 |
ToneCurveBlue | 0, 0, 255, 255 |
ToneCurveGreen | 0, 0, 255, 255 |
ToneCurveName | Linear |
ToneCurveName2012 | Linear |
ToneCurvePV2012 | 0, 0, 255, 255 |
ToneCurvePV2012Blue | 0, 0, 255, 255 |
ToneCurvePV2012Green | 0, 0, 255, 255 |
ToneCurvePV2012Red | 0, 0, 255, 255 |
ToneCurveRed | 0, 0, 255, 255 |
Version | 8.5 |
Vibrance | 0 |
VignetteAmount | 0 |
WhiteBalance (1) | As Shot |
WhiteBalance | Manual |
Whites2012 | 0 |