Felt | Verdi |
AlreadyApplied | True |
Aperture | 4.0 |
ApertureValue | 4.0 |
ApproximateFocusDistance | 0.52 |
Artist | Anne Birthe Vindenes |
AutoLateralCA | 0 |
AutoWhiteVersion | 134348800 |
BitsPerSample | 8 |
Blacks2012 | -40 |
BlueHue | 0 |
BlueSaturation | 0 |
By-line | Anne Birthe Vindenes |
CameraProfile | Adobe Standard |
CircleOfConfusion | 0.018 mm |
Clarity2012 | +44 |
ColorComponents | 3 |
ColorNoiseReduction | 25 |
ColorNoiseReductionDetail | 50 |
ColorNoiseReductionSmoothness | 57 |
ColorSpace | sRGB |
ColorTemperature | 5150 |
ColorTransform | YCbCr |
Contrast2012 | +18 |
ConvertToGrayscale | False |
Copyright | Anne Birthe Vindenes |
CopyrightNotice | Anne Birthe Vindenes |
CreateDate (1) | 2014:08:26 14:08:23.74 |
CreateDate | 2014:08:26 14:08:23 |
Creator | Anne Birthe Vindenes |
CreatorAddress | Træsvegen 26 |
CreatorCity | Ågotnes |
CreatorCountry | Norway |
CreatorPostalCode | 5363 Ågotnes |
CreatorTool | Adobe Photoshop Lightroom 5.3 (Windows) |
CreatorWorkTelephone | 0047 48284128 |
CropAngle | 0 |
CropBottom | 0.925926 |
CropConstrainToWarp | 0 |
CropLeft | 0 |
CropRight | 1 |
CropTop | 0 |
CustomRendered | Normal |
DateCreated (1) | 2014:08:26 |
DateCreated | 2014:08:26 14:08:23.74 |
DateTimeOriginal | 2014:08:26 14:08:23 |
DefringeGreenAmount | 0 |
DefringeGreenHueHi | 60 |
DefringeGreenHueLo | 40 |
DefringePurpleAmount | 0 |
DefringePurpleHueHi | 70 |
DefringePurpleHueLo | 30 |
DOF | 0.010 m (0.515 - 0.525 m) |
Exposure2012 | 0.00 |
ExposureCompensation | 0 |
ExposureMode | Manual |
ExposureProgram | Manual |
ExposureTime | 1/100 |
Firmware | 1.1.1 |
Flash | Off, Did not fire |
FlashCompensation | 0 |
FNumber | 4.0 |
FocalLength | 60.0 mm |
FocalLength35efl | 60.0 mm (35 mm equivalent: 99.0 mm) |
Format | image/jpeg |
FOV | 20.6 deg |
GrainAmount | 0 |
GreenHue | 0 |
GreenSaturation | 0 |
HasCrop | True |
HasSettings | True |
Highlights2012 | 0 |
HueAdjustmentAqua | 0 |
HueAdjustmentBlue | 0 |
HueAdjustmentGreen | 0 |
HueAdjustmentMagenta | 0 |
HueAdjustmentOrange | 0 |
HueAdjustmentPurple | 0 |
HueAdjustmentRed | 0 |
HueAdjustmentYellow | 0 |
HyperfocalDistance | 49.42 m |
ImageHeight | 3378 |
ImageNumber | 0 |
ImageSize | 5472x3378 |
ImageWidth | 5472 |
ISO | 100 |
Lens | EF-S60mm f/2.8 Macro USM |
LensID (1) | 236 |
LensID | Canon EF-S 60mm f/2.8 Macro USM |
LensInfo | 60mm f/? |
LensManualDistortionAmount | 0 |
LensModel | EF-S60mm f/2.8 Macro USM |
LensProfileEnable | 0 |
LensProfileSetup | LensDefaults |
LensSerialNumber | 0000039330 |
LightValue | 10.6 |
LuminanceAdjustmentAqua | 0 |
LuminanceAdjustmentBlue | 0 |
LuminanceAdjustmentGreen | 0 |
LuminanceAdjustmentMagenta | 0 |
LuminanceAdjustmentOrange | 0 |
LuminanceAdjustmentPurple | 0 |
LuminanceAdjustmentRed | 0 |
LuminanceAdjustmentYellow | 0 |
LuminanceNoiseReductionContrast | 0 |
LuminanceNoiseReductionDetail | 50 |
LuminanceSmoothing | 55 |
Make | Canon |
MaxApertureValue | 2.8 |
Megapixels | 18.5 |
MeteringMode | Multi-segment |
Model | Canon EOS 70D |
ModifyDate (1) | 2014:08:26 15:36:47+02:00 |
ModifyDate | 2014:08:26 15:36:47 |
ParametricDarks | 0 |
ParametricHighlights | 0 |
ParametricHighlightSplit | 75 |
ParametricLights | 0 |
ParametricMidtoneSplit | 50 |
ParametricShadows | 0 |
ParametricShadowSplit | 25 |
PerspectiveAspect | 0 |
PerspectiveHorizontal | 0 |
PerspectiveRotate | 0.0 |
PerspectiveScale | 100 |
PerspectiveUpright | 0 |
PerspectiveVertical | 0 |
PostCropVignetteAmount | 0 |
ProcessVersion | 6.7 |
ProfileDescription | Adobe RGB (1998) |
RecommendedExposureIndex | 100 |
RedHue | 0 |
RedSaturation | 0 |
Rights | Anne Birthe Vindenes |
Saturation | +15 |
SaturationAdjustmentAqua | 0 |
SaturationAdjustmentBlue | 0 |
SaturationAdjustmentGreen | 0 |
SaturationAdjustmentMagenta | 0 |
SaturationAdjustmentOrange | 0 |
SaturationAdjustmentPurple | 0 |
SaturationAdjustmentRed | 0 |
SaturationAdjustmentYellow | 0 |
ScaleFactor35efl | 1.6 |
SceneCaptureType | Standard |
SensitivityType | Recommended Exposure Index |
SerialNumber | 043021017952 |
Shadows2012 | 0 |
ShadowTint | 0 |
SharpenDetail | 25 |
SharpenEdgeMasking | 100 |
SharpenRadius | +1.0 |
Sharpness | 39 |
ShutterSpeed | 1/100 |
ShutterSpeedValue | 1/100 |
Software | Adobe Photoshop Lightroom 5.3 (Windows) |
SplitToningBalance | 0 |
SplitToningHighlightHue | 0 |
SplitToningHighlightSaturation | 0 |
SplitToningShadowHue | 0 |
SplitToningShadowSaturation | 0 |
Tint | +3 |
ToneCurveName2012 | Linear |
ToneCurvePV2012 | 0, 0, 255, 255 |
ToneCurvePV2012Blue | 0, 0, 255, 255 |
ToneCurvePV2012Green | 0, 0, 255, 255 |
ToneCurvePV2012Red | 0, 0, 255, 255 |
Version | 8.3 |
Vibrance | +15 |
VignetteAmount | 0 |
WhiteBalance (1) | As Shot |
WhiteBalance | Manual |
Whites2012 | 0 |