Felt | Verdi |
AlreadyApplied | True |
Aperture | 5.6 |
ApertureValue | 5.6 |
ApproximateFocusDistance | 13.5 |
AutoLateralCA | 1 |
AutoWhiteVersion | 134348800 |
BitsPerSample | 8 |
Blacks2012 | 0 |
BlueHue | 0 |
BlueSaturation | 0 |
CameraProfile | Embedded |
CircleOfConfusion | 0.020 mm |
Clarity2012 | -7 |
ColorComponents | 3 |
ColorNoiseReduction | 0 |
ColorTransform | YCbCr |
Contrast | High |
Contrast2012 | +9 |
ConvertToGrayscale | False |
CreateDate | 2011:02:20 11:17:00 |
CreatorTool | Adobe Photoshop Lightroom 5.6 (Macintosh) |
CropAngle | 0 |
CropBottom | 0.835862 |
CropConstrainToWarp | 1 |
CropLeft | 0.069267 |
CropRight | 0.628765 |
CropTop | 0.276364 |
CustomRendered | Normal |
DateCreated (1) | 2011:02:20 |
DateCreated | 2011:02:20 11:17 |
DateTimeOriginal | 2011:02:20 11:17:00 |
DefringeGreenAmount | 0 |
DefringeGreenHueHi | 60 |
DefringeGreenHueLo | 40 |
DefringePurpleAmount | 0 |
DefringePurpleHueHi | 70 |
DefringePurpleHueLo | 30 |
DOF | 1.01 m (13.01 - 14.02 m) |
Exposure2012 | +0.45 |
ExposureCompensation | 0 |
ExposureMode | Manual |
ExposureProgram | Manual |
ExposureTime | 1/8000 |
Flash | Off, Did not fire |
FNumber | 5.6 |
FocalLength | 200.0 mm |
FocalLength35efl | 200.0 mm (35 mm equivalent: 300.0 mm) |
FocalLengthIn35mmFormat | 300 mm |
Format | image/jpeg |
FOV | 6.9 deg |
GrainAmount | 0 |
GreenHue | 0 |
GreenSaturation | 0 |
HasCrop | True |
HasExtendedXMP | FFD1BE014C1C1FFD9798B8B12F52079E |
HasSettings | True |
Highlights2012 | -63 |
HueAdjustmentAqua | 0 |
HueAdjustmentBlue | 0 |
HueAdjustmentGreen | 0 |
HueAdjustmentMagenta | 0 |
HueAdjustmentOrange | 0 |
HueAdjustmentPurple | 0 |
HueAdjustmentRed | 0 |
HueAdjustmentYellow | 0 |
HyperfocalDistance | 356.59 m |
ImageHeight | 1826 |
ImageSize | 2757x1826 |
ImageWidth | 2757 |
IncrementalTemperature | -2 |
IncrementalTint | -20 |
ISO | 320 |
Keywords | ilsetrarype, printfil |
Lens | smc PENTAX-DA 50-200mm F4-5.6 ED WR |
LensID (1) | 7 217 |
LensID | smc PENTAX-DA 50-200mm F4-5.6 ED WR |
LensInfo | 50-200mm f/4-5.6 |
LensManualDistortionAmount | 0 |
LensModel | smc PENTAX-DA 50-200mm F4-5.6 ED WR |
LensProfileEnable | 1 |
LensProfileSetup | LensDefaults |
LightValue | 16.3 |
LuminanceAdjustmentAqua | 0 |
LuminanceAdjustmentBlue | 0 |
LuminanceAdjustmentGreen | 0 |
LuminanceAdjustmentMagenta | 0 |
LuminanceAdjustmentOrange | 0 |
LuminanceAdjustmentPurple | 0 |
LuminanceAdjustmentRed | 0 |
LuminanceAdjustmentYellow | 0 |
LuminanceSmoothing | 0 |
Make | PENTAX |
Megapixels | 5.0 |
MeteringMode | Center-weighted average |
Model | PENTAX K-5 |
ModifyDate (1) | 2014:08:29 23:14:35+02:00 |
ModifyDate | 2014:08:29 23:14:35 |
PaintCorrectionActive | true |
PaintCorrectionAmount | 1.000000 |
PaintCorrectionBrightness | 0.000000 |
PaintCorrectionClarity2012 (1) | 0.513255 |
PaintCorrectionClarity2012 (3) | 0.331022 |
PaintCorrectionClarity2012 | 0.013430 |
PaintCorrectionContrast2012 (1) | 0.536692 |
PaintCorrectionContrast2012 (2) | 0.000000 |
PaintCorrectionContrast2012 | -0.180653 |
PaintCorrectionDefringe | 0.000000 |
PaintCorrectionExposure2012 (1) | 0.071278 |
PaintCorrectionExposure2012 | 0.000000 |
PaintCorrectionHighlights2012 (1) | 0.000000 |
PaintCorrectionHighlights2012 | -0.891766 |
PaintCorrectionHue | 240.000000 |
PaintCorrectionLuminanceNoise | 0.000000 |
PaintCorrectionMaskCenterWeight (78) | 0.255857 |
PaintCorrectionMaskCenterWeight | 0.000000 |
PaintCorrectionMaskFlow | 1.000000 |
PaintCorrectionMaskRadius (102) | 0.007594 |
PaintCorrectionMaskRadius (107) | 0.001802 |
PaintCorrectionMaskRadius (108) | 0.075965 |
PaintCorrectionMaskRadius (16) | 0.011807 |
PaintCorrectionMaskRadius (19) | 0.002608 |
PaintCorrectionMaskRadius (27) | 0.001324 |
PaintCorrectionMaskRadius (3) | 0.001812 |
PaintCorrectionMaskRadius (35) | 0.000875 |
PaintCorrectionMaskRadius (56) | 0.003882 |
PaintCorrectionMaskRadius (63) | 0.002460 |
PaintCorrectionMaskRadius (76) | 0.001955 |
PaintCorrectionMaskRadius (8) | 0.003623 |
PaintCorrectionMaskRadius (80) | 0.007704 |
PaintCorrectionMaskRadius (92) | 0.002252 |
PaintCorrectionMaskRadius | 0.007255 |
PaintCorrectionMaskValue | 1.000000 |
PaintCorrectionMaskWhat | Mask/Paint |
PaintCorrectionMoire | 0.000000 |
PaintCorrectionSaturation | 0.000000 |
PaintCorrectionShadows2012 (1) | 0.327247 |
PaintCorrectionShadows2012 (2) | 0.035551 |
PaintCorrectionShadows2012 (3) | 0.000000 |
PaintCorrectionShadows2012 | 0.423104 |
PaintCorrectionSharpness | 0.000000 |
PaintCorrectionTemperature | 0.000000 |
PaintCorrectionTint | 0.000000 |
PaintCorrectionWhat | Correction |
ParametricDarks | 0 |
ParametricHighlights | 0 |
ParametricHighlightSplit | 75 |
ParametricLights | 0 |
ParametricMidtoneSplit | 50 |
ParametricShadows | 0 |
ParametricShadowSplit | 25 |
PerspectiveAspect | 0 |
PerspectiveHorizontal | 0 |
PerspectiveRotate | 0.0 |
PerspectiveScale | 100 |
PerspectiveUpright | 0 |
PerspectiveVertical | 0 |
PhotographicSensitivity | 320 |
PostCropVignetteAmount | +28 |
PostCropVignetteFeather | 100 |
PostCropVignetteMidpoint | 50 |
PostCropVignetteRoundness | 0 |
PostCropVignetteStyle | 1 |
ProcessVersion | 6.7 |
ProfileDescription | sRGB IEC61966-2.1 |
Rating | 5 |
RedHue | 0 |
RedSaturation | 0 |
Saturation (1) | -2 |
Saturation | Normal |
SaturationAdjustmentAqua | 0 |
SaturationAdjustmentBlue | -40 |
SaturationAdjustmentGreen | 0 |
SaturationAdjustmentMagenta | 0 |
SaturationAdjustmentOrange | 0 |
SaturationAdjustmentPurple | 0 |
SaturationAdjustmentRed | 0 |
SaturationAdjustmentYellow | 0 |
ScaleFactor35efl | 1.5 |
SceneCaptureType | Standard |
SceneType | Directly photographed |
SensingMethod | One-chip color area |
Shadows2012 | +53 |
ShadowTint | 0 |
SharpenDetail | 25 |
SharpenEdgeMasking | 0 |
SharpenRadius | +1.0 |
Sharpness (1) | 0 |
Sharpness | Hard |
ShutterSpeed | 1/8000 |
ShutterSpeedValue | 1/8000 |
Software | Adobe Photoshop Lightroom 5.6 (Macintosh) |
SplitToningBalance | 0 |
SplitToningHighlightHue | 0 |
SplitToningHighlightSaturation | 0 |
SplitToningShadowHue | 0 |
SplitToningShadowSaturation | 0 |
Subject | ilsetrarype, printfil |
SubjectDistanceRange | Distant |
ToneCurve | 0, 0, 255, 255 |
ToneCurveBlue | 0, 0, 255, 255 |
ToneCurveGreen | 0, 0, 255, 255 |
ToneCurveName | Linear |
ToneCurveName2012 | Linear |
ToneCurvePV2012 | 0, 0, 255, 255 |
ToneCurvePV2012Blue | 0, 0, 255, 255 |
ToneCurvePV2012Green | 0, 0, 255, 255 |
ToneCurvePV2012Red | 0, 0, 255, 255 |
ToneCurveRed | 0, 0, 255, 255 |
Version | 8.6 |
Vibrance | -4 |
VignetteAmount | 0 |
WhiteBalance (1) | Custom |
WhiteBalance | Manual |
Whites2012 | +22 |