Felt | Verdi |
AlreadyApplied | True |
Aperture | 14.0 |
ApertureValue | 14.0 |
ApproximateFocusDistance | 9.44 |
AutoLateralCA | 0 |
AutoWhiteVersion | 134348800 |
BitsPerSample | 8 |
Blacks2012 | 0 |
BlueHue | 0 |
BlueSaturation | 0 |
CameraProfile | Embedded |
CircleOfConfusion | 0.030 mm |
Clarity2012 | +5 |
ColorComponents | 3 |
ColorNoiseReduction | 0 |
ColorTransform | YCbCr |
Contrast | Normal |
Contrast2012 | +24 |
ConvertToGrayscale | False |
CreateDate | 2014:08:22 12:45:16 |
CreatorTool | Adobe Photoshop Lightroom 5.6 (Macintosh) |
CropAngle | 0 |
CropBottom | 0.863455 |
CropConstrainToWarp | 0 |
CropLeft | 0.136545 |
CropRight | 1 |
CropTop | 0 |
CustomRendered | Normal |
DateCreated (1) | 2014:08:22 |
DateCreated | 2014:08:22 12:45:16.004 |
DateTimeOriginal | 2014:08:22 12:45:16 |
DefringeGreenAmount | 0 |
DefringeGreenHueHi | 60 |
DefringeGreenHueLo | 40 |
DefringePurpleAmount | 0 |
DefringePurpleHueHi | 70 |
DefringePurpleHueLo | 30 |
DigitalZoomRatio | 1 |
DOF | inf (1.56 m - inf) |
Exposure2012 | +0.47 |
ExposureCompensation | -1/3 |
ExposureMode | Manual |
ExposureProgram | Manual |
ExposureTime | 1/80 |
Flash | No Flash |
FNumber | 14.0 |
FocalLength | 28.0 mm |
FocalLength35efl | 28.0 mm (35 mm equivalent: 28.0 mm) |
FocalLengthIn35mmFormat | 28 mm |
Format | image/jpeg |
FOV | 65.5 deg |
GainControl | None |
GrainAmount | 0 |
GreenHue | 0 |
GreenSaturation | 0 |
HasCrop | True |
HasExtendedXMP | BC92841F2E54919CB25AFBDEDDD7A413 |
HasSettings | True |
Highlights2012 | -59 |
HueAdjustmentAqua | 0 |
HueAdjustmentBlue | 0 |
HueAdjustmentGreen | 0 |
HueAdjustmentMagenta | 0 |
HueAdjustmentOrange | 0 |
HueAdjustmentPurple | 0 |
HueAdjustmentRed | 0 |
HueAdjustmentYellow | 0 |
HyperfocalDistance | 1.86 m |
ImageHeight | 2445 |
ImageNumber | 121047 |
ImageSize | 3674x2445 |
ImageWidth | 3674 |
IncrementalTemperature | +6 |
IncrementalTint | +2 |
ISO | 100 |
Lens | 28.0-300.0 mm f/3.5-5.6 |
LensID (1) | 165 |
LensID | AF-S Nikkor 28-300mm f/3.5-5.6G ED VR |
LensInfo | 28-300mm f/3.5-5.6 |
LensManualDistortionAmount | 0 |
LensModel | 28.0-300.0 mm f/3.5-5.6 |
LensProfileEnable | 0 |
LensProfileSetup | LensDefaults |
LightSource | Fine Weather |
LightValue | 13.9 |
LuminanceAdjustmentAqua | 0 |
LuminanceAdjustmentBlue | 0 |
LuminanceAdjustmentGreen | 0 |
LuminanceAdjustmentMagenta | 0 |
LuminanceAdjustmentOrange | 0 |
LuminanceAdjustmentPurple | 0 |
LuminanceAdjustmentRed | 0 |
LuminanceAdjustmentYellow | 0 |
LuminanceNoiseReductionContrast | 32 |
LuminanceNoiseReductionDetail | 50 |
LuminanceSmoothing | 28 |
Make | NIKON CORPORATION |
MaxApertureValue | 3.5 |
Megapixels | 9.0 |
MeteringMode | Center-weighted average |
Model | NIKON D3S |
ModifyDate (1) | 2014:08:30 23:45:39+02:00 |
ModifyDate | 2014:08:30 23:45:39 |
PaintCorrectionActive | true |
PaintCorrectionAmount | 1.000000 |
PaintCorrectionBrightness | 0.000000 |
PaintCorrectionClarity2012 (1) | 0.281864 |
PaintCorrectionClarity2012 (2) | 0.118855 |
PaintCorrectionClarity2012 (3) | 0.206987 |
PaintCorrectionClarity2012 (5) | 0.344364 |
PaintCorrectionClarity2012 | 0.013430 |
PaintCorrectionContrast2012 | 0.000000 |
PaintCorrectionDefringe | 0.000000 |
PaintCorrectionExposure2012 (2) | 0.027739 |
PaintCorrectionExposure2012 (4) | 0.053546 |
PaintCorrectionExposure2012 (5) | 0.059515 |
PaintCorrectionExposure2012 | 0.000000 |
PaintCorrectionHighlights2012 (1) | -0.536868 |
PaintCorrectionHighlights2012 (2) | 0.240871 |
PaintCorrectionHighlights2012 (3) | -0.431004 |
PaintCorrectionHighlights2012 | 0.000000 |
PaintCorrectionHue | 240.000000 |
PaintCorrectionLuminanceNoise | 0.000000 |
PaintCorrectionMaskCenterWeight (110) | 0.445625 |
PaintCorrectionMaskCenterWeight (155) | 0.000000 |
PaintCorrectionMaskCenterWeight (156) | 0.092102 |
PaintCorrectionMaskCenterWeight (18) | 0.906965 |
PaintCorrectionMaskCenterWeight (26) | 1.000000 |
PaintCorrectionMaskCenterWeight (38) | 0.003651 |
PaintCorrectionMaskCenterWeight (51) | 0.826682 |
PaintCorrectionMaskCenterWeight (79) | 0.008537 |
PaintCorrectionMaskCenterWeight | 0.066843 |
PaintCorrectionMaskFlow (24) | 0.449967 |
PaintCorrectionMaskFlow (34) | 0.470875 |
PaintCorrectionMaskFlow (4) | 0.809615 |
PaintCorrectionMaskFlow (80) | 0.580474 |
PaintCorrectionMaskFlow (89) | 0.489956 |
PaintCorrectionMaskFlow (91) | 0.533303 |
PaintCorrectionMaskFlow | 1.000000 |
PaintCorrectionMaskRadius (1) | 0.028624 |
PaintCorrectionMaskRadius (103) | 0.005680 |
PaintCorrectionMaskRadius (108) | 0.014487 |
PaintCorrectionMaskRadius (110) | 0.006421 |
PaintCorrectionMaskRadius (112) | 0.010822 |
PaintCorrectionMaskRadius (117) | 0.008100 |
PaintCorrectionMaskRadius (133) | 0.002700 |
PaintCorrectionMaskRadius (136) | 0.021289 |
PaintCorrectionMaskRadius (150) | 0.003678 |
PaintCorrectionMaskRadius (154) | 0.017673 |
PaintCorrectionMaskRadius (155) | 0.053019 |
PaintCorrectionMaskRadius (156) | 0.017114 |
PaintCorrectionMaskRadius (157) | 0.012926 |
PaintCorrectionMaskRadius (164) | 0.004309 |
PaintCorrectionMaskRadius (18) | 0.003630 |
PaintCorrectionMaskRadius (25) | 0.002469 |
PaintCorrectionMaskRadius (26) | 0.005042 |
PaintCorrectionMaskRadius (39) | 0.003247 |
PaintCorrectionMaskRadius (57) | 0.004647 |
PaintCorrectionMaskRadius (61) | 0.036638 |
PaintCorrectionMaskRadius (80) | 0.003134 |
PaintCorrectionMaskRadius (83) | 0.005364 |
PaintCorrectionMaskRadius (9) | 0.010891 |
PaintCorrectionMaskRadius (95) | 0.002694 |
PaintCorrectionMaskRadius | 0.052395 |
PaintCorrectionMaskValue | 1.000000 |
PaintCorrectionMaskWhat | Mask/Paint |
PaintCorrectionMoire | 0.000000 |
PaintCorrectionSaturation (5) | 0.047226 |
PaintCorrectionSaturation | 0.000000 |
PaintCorrectionShadows2012 | 0.000000 |
PaintCorrectionSharpness (3) | 0.107795 |
PaintCorrectionSharpness | 0.000000 |
PaintCorrectionTemperature (1) | -0.275105 |
PaintCorrectionTemperature (2) | 0.000000 |
PaintCorrectionTemperature (3) | -0.079793 |
PaintCorrectionTemperature (5) | 0.071629 |
PaintCorrectionTemperature | 0.187939 |
PaintCorrectionTint (3) | 0.000000 |
PaintCorrectionTint | 0.060305 |
PaintCorrectionWhat | Correction |
ParametricDarks | 0 |
ParametricHighlights | 0 |
ParametricHighlightSplit | 75 |
ParametricLights | +16 |
ParametricMidtoneSplit | 50 |
ParametricShadows | +3 |
ParametricShadowSplit | 25 |
PerspectiveAspect | 0 |
PerspectiveHorizontal | 0 |
PerspectiveRotate | 0.0 |
PerspectiveScale | 100 |
PerspectiveUpright | 0 |
PerspectiveVertical | 0 |
PostCropVignetteAmount | 0 |
ProcessVersion | 6.7 |
ProfileDescription | sRGB IEC61966-2.1 |
Rating | 5 |
RedHue | 0 |
RedSaturation | 0 |
Saturation (1) | 0 |
Saturation | Normal |
SaturationAdjustmentAqua | +24 |
SaturationAdjustmentBlue | +37 |
SaturationAdjustmentGreen | 0 |
SaturationAdjustmentMagenta | 0 |
SaturationAdjustmentOrange | 0 |
SaturationAdjustmentPurple | 0 |
SaturationAdjustmentRed | 0 |
SaturationAdjustmentYellow | 0 |
ScaleFactor35efl | 1.0 |
SceneCaptureType | Standard |
SceneType | Directly photographed |
SensingMethod | One-chip color area |
SerialNumber | 2058033 |
Shadows2012 | +60 |
ShadowTint | 0 |
SharpenDetail | 54 |
SharpenEdgeMasking | 27 |
SharpenRadius | +1.9 |
Sharpness (1) | 69 |
Sharpness | Normal |
ShutterSpeed | 1/80 |
ShutterSpeedValue | 1/80 |
Software | Adobe Photoshop Lightroom 5.6 (Macintosh) |
SplitToningBalance | 0 |
SplitToningHighlightHue | 0 |
SplitToningHighlightSaturation | 0 |
SplitToningShadowHue | 0 |
SplitToningShadowSaturation | 0 |
SubjectDistanceRange | Unknown |
ToneCurve | 0, 0, 255, 255 |
ToneCurveBlue | 0, 0, 255, 255 |
ToneCurveGreen | 0, 0, 255, 255 |
ToneCurveName | Linear |
ToneCurveName2012 | Linear |
ToneCurvePV2012 | 0, 0, 255, 255 |
ToneCurvePV2012Blue | 0, 0, 255, 255 |
ToneCurvePV2012Green | 0, 0, 255, 255 |
ToneCurvePV2012Red | 0, 0, 255, 255 |
ToneCurveRed | 0, 0, 255, 255 |
Version | 8.6 |
Vibrance | 0 |
VignetteAmount | 0 |
WhiteBalance (1) | Custom |
WhiteBalance | Manual |
Whites2012 | +8 |