Felt | Verdi |
AlreadyApplied | True |
Aperture | 22.0 |
ApertureValue | 22.0 |
Artist | Nanco Hoogstad |
AutoLateralCA | 0 |
AutoWhiteVersion | 134348800 |
BitsPerSample | 8 |
Blacks2012 | -29 |
BlueHue | 0 |
BlueSaturation | 0 |
By-line | Nanco Hoogstad |
CameraProfile | Adobe Standard |
CircleOfConfusion | 0.015 mm |
Clarity2012 | -23 |
ColorComponents | 3 |
ColorNoiseReduction | 25 |
ColorNoiseReductionDetail | 11 |
ColorNoiseReductionSmoothness | 11 |
ColorTemperature | 2323 |
ColorTransform | YCbCr |
Contrast | Normal |
Contrast2012 | +37 |
ConvertToGrayscale | True |
Copyright | Nanco Hoogstad |
CopyrightFlag | True |
CopyrightNotice | Nanco Hoogstad |
CreateDate | 2014:09:13 16:48:20 |
Creator | Nanco Hoogstad |
CreatorCity | Sandnes |
CreatorCountry | Norway |
CreatorPostalCode | 4324 |
CreatorTool | Adobe Photoshop Lightroom 5.0 (Windows) |
CropAngle | -0.23103 |
CropBottom | 0.758778 |
CropConstrainToWarp | 0 |
CropLeft | 0.152049 |
CropRight | 0.715138 |
CropTop | 0.200405 |
CustomRendered | Normal |
DateCreated (1) | 2014:02:27 |
DateCreated | 2014:02:27 18:16:51 |
DateTimeOriginal | 2014:09:13 16:48:20 |
DigitalZoomRatio | 0 |
Exposure2012 | -0.56 |
ExposureCompensation | 0 |
ExposureMode | Manual |
ExposureProgram | Manual |
ExposureTime | 25 |
Flash | Off, Did not fire |
FNumber | 22.0 |
FocalLength | 36.0 mm |
FocalLength35efl | 36.0 mm (35 mm equivalent: 72.0 mm) |
FocalLengthIn35mmFormat | 72 mm |
Format | image/jpeg |
FOV | 28.1 deg |
GainControl | Low gain up |
GrainAmount | 0 |
GrayMixerAqua | -43 |
GrayMixerBlue | -9 |
GrayMixerGreen | -40 |
GrayMixerMagenta | -62 |
GrayMixerOrange | -20 |
GrayMixerPurple | -66 |
GrayMixerRed | +3 |
GrayMixerYellow | -46 |
GreenHue | 0 |
GreenSaturation | 0 |
HasCrop | True |
HasSettings | True |
Highlights2012 | -100 |
HyperfocalDistance | 3.92 m |
ImageHeight | 2578 |
ImageSize | 1936x2578 |
ImageWidth | 1936 |
ISO | 160 |
Lens | LUMIX G VARIO 14-42/F3.5-5.6 |
LensManualDistortionAmount | 0 |
LensModel | LUMIX G VARIO 14-42/F3.5-5.6 |
LensProfileEnable | 0 |
LensProfileSetup | LensDefaults |
LensSerialNumber | 41FG41403841 |
LightSource | Fine Weather |
LightValue | 3.6 |
LuminanceNoiseReductionContrast | 6 |
LuminanceNoiseReductionDetail | 23 |
LuminanceSmoothing | 6 |
Make | Panasonic |
Marked | True |
MaxApertureValue | 5.4 |
Megapixels | 5.0 |
MeteringMode | Multi-segment |
Model | DMC-G3 |
ModifyDate (1) | 2014:09:14 00:01:10+02:00 |
ModifyDate | 2014:09:14 00:01:10 |
PaintCorrectionActive | true |
PaintCorrectionAmount | 1.000000 |
PaintCorrectionBrightness | 0.000000 |
PaintCorrectionClarity2012 | -0.622050 |
PaintCorrectionContrast2012 | -1.000000 |
PaintCorrectionDefringe | -0.086610 |
PaintCorrectionExposure2012 | -0.354250 |
PaintCorrectionHighlights2012 | -0.653540 |
PaintCorrectionHue | 0.000000 |
PaintCorrectionLuminanceNoise | -0.779530 |
PaintCorrectionMaskCenterWeight | 0.023897 |
PaintCorrectionMaskFlow | 0.969000 |
PaintCorrectionMaskRadius | 0.101937 |
PaintCorrectionMaskValue | 1.000000 |
PaintCorrectionMaskWhat | Mask/Paint |
PaintCorrectionMoire | -0.763780 |
PaintCorrectionSaturation (1) | -0.165350 |
PaintCorrectionSaturation | 0.000000 |
PaintCorrectionShadows2012 | -0.732280 |
PaintCorrectionSharpness | -0.811020 |
PaintCorrectionTemperature | 0.921260 |
PaintCorrectionTint | 0.016130 |
PaintCorrectionWhat | Correction |
ParametricDarks | 0 |
ParametricHighlights | 0 |
ParametricHighlightSplit | 75 |
ParametricLights | 0 |
ParametricMidtoneSplit | 50 |
ParametricShadows | 0 |
ParametricShadowSplit | 25 |
PerspectiveAspect | 0 |
PerspectiveHorizontal | 0 |
PerspectiveRotate | 0.0 |
PerspectiveScale | 100 |
PerspectiveUpright | 0 |
PerspectiveVertical | 0 |
PostCropVignetteAmount | -100 |
PostCropVignetteFeather | 35 |
PostCropVignetteHighlightContrast | 0 |
PostCropVignetteMidpoint | 42 |
PostCropVignetteRoundness | -29 |
PostCropVignetteStyle | 1 |
ProcessVersion | 6.7 |
ProfileDescription | sRGB IEC61966-2.1 |
RedHue | 0 |
RedSaturation | 0 |
Rights | Nanco Hoogstad |
Saturation | Normal |
ScaleFactor35efl | 2.0 |
SceneCaptureType | Standard |
SceneType | Directly photographed |
SensingMethod | One-chip color area |
Shadows2012 | +10 |
ShadowTint | 0 |
SharpenDetail | 25 |
SharpenEdgeMasking | 12 |
SharpenRadius | +1.0 |
Sharpness (1) | 41 |
Sharpness | Normal |
ShutterSpeed | 25 |
ShutterSpeedValue | 25 |
Software | Adobe Photoshop Lightroom 5.0 (Windows) |
SplitToningBalance | 0 |
SplitToningHighlightHue | 44 |
SplitToningHighlightSaturation | 26 |
SplitToningShadowHue | 44 |
SplitToningShadowSaturation | 12 |
Tint | -10 |
ToneCurveName2012 | Linear |
ToneCurvePV2012 | 0, 0, 255, 255 |
ToneCurvePV2012Blue | 0, 0, 255, 255 |
ToneCurvePV2012Green | 0, 0, 255, 255 |
ToneCurvePV2012Red | 0, 0, 255, 255 |
UserComment | Panasonic Lumix |
Version | 8.2 |
VignetteAmount | 0 |
WhiteBalance (1) | Custom |
WhiteBalance | Manual |
Whites2012 | +81 |