Felt | Verdi |
AlreadyApplied | True |
AutoLateralCA | 0 |
AutoWhiteVersion | 134348800 |
BitsPerSample | 8 |
Blacks2012 | 0 |
BlueHue | 0 |
BlueSaturation | 0 |
CameraProfile | Embedded |
Clarity2012 | -7 |
ColorComponents | 3 |
ColorNoiseReduction | 0 |
ColorTransform | YCbCr |
Contrast2012 | +16 |
ConvertToGrayscale | False |
CreateDate (1) | 2014:09:09 21:53:54+02:00 |
CreateDate | 2014:09:09 21:53:54 |
CreatorTool | Adobe Photoshop Lightroom 5.6 (Macintosh) |
CropAngle | 1.56078 |
CropBottom | 0.941306 |
CropConstrainToWarp | 0 |
CropLeft | 0.176639 |
CropRight | 0.984192 |
CropTop | 0.033219 |
DefringeGreenAmount | 0 |
DefringeGreenHueHi | 60 |
DefringeGreenHueLo | 40 |
DefringePurpleAmount | 0 |
DefringePurpleHueHi | 70 |
DefringePurpleHueLo | 30 |
Exposure2012 | 0.00 |
Format | image/jpeg |
GradientBasedCorrActive | true |
GradientBasedCorrAmount | 1.000000 |
GradientBasedCorrBrightness | 0.000000 |
GradientBasedCorrClarity2012 (1) | 0.014835 |
GradientBasedCorrClarity2012 (3) | 0.093574 |
GradientBasedCorrClarity2012 | 0.004565 |
GradientBasedCorrContrast2012 (1) | 0.321980 |
GradientBasedCorrContrast2012 | -0.005355 |
GradientBasedCorrDefringe | 0.000000 |
GradientBasedCorrExposure2012 (3) | 0.000000 |
GradientBasedCorrExposure2012 (4) | 0.036254 |
GradientBasedCorrExposure2012 | -0.034937 |
GradientBasedCorrHighlights2012 (1) | -0.202774 |
GradientBasedCorrHighlights2012 | 0.000000 |
GradientBasedCorrHue | 240.000000 |
GradientBasedCorrLuminanceNoise | 0.000000 |
GradientBasedCorrMaskFullX (1) | 0.936358 |
GradientBasedCorrMaskFullX (2) | 0.278712 |
GradientBasedCorrMaskFullX (3) | 0.512668 |
GradientBasedCorrMaskFullX (4) | 0.566351 |
GradientBasedCorrMaskFullX | 0.625560 |
GradientBasedCorrMaskFullY (1) | 0.349514 |
GradientBasedCorrMaskFullY (2) | 0.267618 |
GradientBasedCorrMaskFullY (3) | 0.721196 |
GradientBasedCorrMaskFullY (4) | 0.718408 |
GradientBasedCorrMaskFullY | 0.391785 |
GradientBasedCorrMaskValue | 1.000000 |
GradientBasedCorrMaskWhat | Mask/Gradient |
GradientBasedCorrMaskZeroX (1) | 0.682765 |
GradientBasedCorrMaskZeroX (2) | 0.430397 |
GradientBasedCorrMaskZeroX (3) | 0.508749 |
GradientBasedCorrMaskZeroX (4) | 0.547782 |
GradientBasedCorrMaskZeroX | 0.624296 |
GradientBasedCorrMaskZeroY (1) | 0.682480 |
GradientBasedCorrMaskZeroY (2) | 0.573807 |
GradientBasedCorrMaskZeroY (3) | 0.486151 |
GradientBasedCorrMaskZeroY (4) | 0.484343 |
GradientBasedCorrMaskZeroY | 0.576560 |
GradientBasedCorrMoire | 0.000000 |
GradientBasedCorrSaturation | 0.000000 |
GradientBasedCorrShadows2012 (3) | 0.160376 |
GradientBasedCorrShadows2012 | 0.000000 |
GradientBasedCorrSharpness | 0.000000 |
GradientBasedCorrTemperature (1) | 0.089624 |
GradientBasedCorrTemperature (2) | -0.069435 |
GradientBasedCorrTemperature | 0.000000 |
GradientBasedCorrTint | 0.060305 |
GradientBasedCorrWhat | Correction |
GrainAmount | 0 |
GreenHue | 0 |
GreenSaturation | 0 |
HasCrop | True |
HasSettings | True |
Highlights2012 | -32 |
HueAdjustmentAqua | 0 |
HueAdjustmentBlue | 0 |
HueAdjustmentGreen | 0 |
HueAdjustmentMagenta | 0 |
HueAdjustmentOrange | 0 |
HueAdjustmentPurple | 0 |
HueAdjustmentRed | 0 |
HueAdjustmentYellow | 0 |
ImageHeight | 5483 |
ImageSize | 7885x5483 |
ImageWidth | 7885 |
IncrementalTemperature | +2 |
IncrementalTint | 0 |
LensManualDistortionAmount | 0 |
LensProfileEnable | 0 |
LensProfileSetup | LensDefaults |
LuminanceAdjustmentAqua | 0 |
LuminanceAdjustmentBlue | 0 |
LuminanceAdjustmentGreen | 0 |
LuminanceAdjustmentMagenta | 0 |
LuminanceAdjustmentOrange | 0 |
LuminanceAdjustmentPurple | 0 |
LuminanceAdjustmentRed | 0 |
LuminanceAdjustmentYellow | 0 |
LuminanceSmoothing | 0 |
Megapixels | 43.2 |
ModifyDate (1) | 2014:09:14 21:40:24+02:00 |
ModifyDate | 2014:09:14 21:40:24 |
PaintCorrectionActive | true |
PaintCorrectionAmount | 1.000000 |
PaintCorrectionBrightness | 0.000000 |
PaintCorrectionClarity2012 (1) | 0.464098 |
PaintCorrectionClarity2012 (2) | 0.120611 |
PaintCorrectionClarity2012 (3) | 0.091994 |
PaintCorrectionClarity2012 | 0.004565 |
PaintCorrectionContrast2012 (1) | 0.416257 |
PaintCorrectionContrast2012 (3) | 0.000176 |
PaintCorrectionContrast2012 | -0.005355 |
PaintCorrectionDefringe | 0.000000 |
PaintCorrectionExposure2012 (2) | 0.000000 |
PaintCorrectionExposure2012 (3) | 0.035990 |
PaintCorrectionExposure2012 | 0.155636 |
PaintCorrectionHighlights2012 (3) | -0.219540 |
PaintCorrectionHighlights2012 | 0.000000 |
PaintCorrectionHue | 240.000000 |
PaintCorrectionLuminanceNoise | 0.000000 |
PaintCorrectionMaskCenterWeight (11) | 0.032399 |
PaintCorrectionMaskCenterWeight (13) | 0.000000 |
PaintCorrectionMaskCenterWeight | 0.226357 |
PaintCorrectionMaskFlow (7) | 1.000000 |
PaintCorrectionMaskFlow | 0.913987 |
PaintCorrectionMaskRadius (12) | 0.017509 |
PaintCorrectionMaskRadius (13) | 0.013242 |
PaintCorrectionMaskRadius (17) | 0.015089 |
PaintCorrectionMaskRadius (2) | 0.167368 |
PaintCorrectionMaskRadius (8) | 0.029642 |
PaintCorrectionMaskRadius | 0.007545 |
PaintCorrectionMaskValue | 1.000000 |
PaintCorrectionMaskWhat | Mask/Paint |
PaintCorrectionMoire | 0.000000 |
PaintCorrectionSaturation (5) | 0.081724 |
PaintCorrectionSaturation (7) | -0.165555 |
PaintCorrectionSaturation | 0.000000 |
PaintCorrectionShadows2012 (1) | 0.000000 |
PaintCorrectionShadows2012 | 0.148789 |
PaintCorrectionSharpness (2) | 0.252370 |
PaintCorrectionSharpness | 0.000000 |
PaintCorrectionTemperature | 0.000000 |
PaintCorrectionTint | 0.060305 |
PaintCorrectionWhat | Correction |
ParametricDarks | 0 |
ParametricHighlights | -20 |
ParametricHighlightSplit | 75 |
ParametricLights | +41 |
ParametricMidtoneSplit | 50 |
ParametricShadows | +21 |
ParametricShadowSplit | 25 |
PerspectiveAspect | 0 |
PerspectiveHorizontal | 0 |
PerspectiveRotate | 0.0 |
PerspectiveScale | 100 |
PerspectiveUpright | 0 |
PerspectiveVertical | 0 |
PostCropVignetteAmount | 0 |
ProcessVersion | 6.7 |
ProfileDescription | sRGB IEC61966-2.1 |
Rating | 5 |
RedHue | 0 |
RedSaturation | 0 |
Saturation | +8 |
SaturationAdjustmentAqua | 0 |
SaturationAdjustmentBlue | 0 |
SaturationAdjustmentGreen | 0 |
SaturationAdjustmentMagenta | 0 |
SaturationAdjustmentOrange | 0 |
SaturationAdjustmentPurple | 0 |
SaturationAdjustmentRed | 0 |
SaturationAdjustmentYellow | 0 |
Shadows2012 | +53 |
ShadowTint | 0 |
SharpenDetail | 25 |
SharpenEdgeMasking | 0 |
SharpenRadius | +1.0 |
Sharpness | 0 |
Software | Adobe Photoshop Lightroom 5.6 (Macintosh) |
SplitToningBalance | 0 |
SplitToningHighlightHue | 0 |
SplitToningHighlightSaturation | 0 |
SplitToningShadowHue | 0 |
SplitToningShadowSaturation | 0 |
ToneCurve | 0, 0, 255, 255 |
ToneCurveBlue | 0, 0, 255, 255 |
ToneCurveGreen | 0, 0, 255, 255 |
ToneCurveName | Linear |
ToneCurveName2012 | Linear |
ToneCurvePV2012 | 0, 0, 255, 255 |
ToneCurvePV2012Blue | 0, 0, 255, 255 |
ToneCurvePV2012Green | 0, 0, 255, 255 |
ToneCurvePV2012Red | 0, 0, 255, 255 |
ToneCurveRed | 0, 0, 255, 255 |
Version | 8.6 |
Vibrance | +4 |
VignetteAmount | 0 |
WhiteBalance | Custom |
Whites2012 | 0 |