Felt | Verdi |
AlreadyApplied | True |
Aperture | 10.0 |
ApertureValue | 10.0 |
AutoLateralCA | 0 |
AutoWhiteVersion | 134348800 |
BitsPerSample (1) | 8 8 8 |
BitsPerSample | 8 |
Blacks2012 | +55 |
BlueHue | 0 |
BlueSaturation | 0 |
BrightnessValue | 10.14609375 |
CameraProfile | Adobe Standard |
CircleOfConfusion | 0.020 mm |
Clarity2012 | +33 |
ColorComponents | 3 |
ColorMode | RGB |
ColorNoiseReduction | 55 |
ColorNoiseReductionDetail | 54 |
ColorNoiseReductionSmoothness | 50 |
ColorSpace | sRGB |
ColorTemperature | 5450 |
ColorTransform | YCbCr |
Contrast | High |
Contrast2012 | +29 |
ConvertToGrayscale | False |
CreateDate (1) | 2014:09:14 14:12:40+02:00 |
CreateDate | 2014:09:14 14:12:40 |
CreatorTool | Adobe Photoshop Elements 12.0 Windows |
CropAngle | 0 |
CropBottom | 0.925532 |
CropConstrainToWarp | 0 |
CropLeft | 0 |
CropRight | 1 |
CropTop | 0.06117 |
CustomRendered | Normal |
DateCreated (1) | 2014:09:14 |
DateCreated | 2014:09:14 14:12:40 |
DateTimeOriginal | 2014:09:14 14:12:40 |
DefringeGreenAmount | 0 |
DefringeGreenHueHi | 60 |
DefringeGreenHueLo | 40 |
DefringePurpleAmount | 0 |
DefringePurpleHueHi | 70 |
DefringePurpleHueLo | 30 |
DigitalZoomRatio | 1 |
ExifImageHeight | 750 |
ExifImageWidth | 1229 |
Exposure2012 | +0.24 |
ExposureCompensation | 0 |
ExposureMode | Auto |
ExposureProgram | Aperture-priority AE |
ExposureTime | 1/500 |
Flash | Off, Did not fire |
FNumber | 10.0 |
FocalLength | 280.0 mm |
FocalLength35efl | 280.0 mm (35 mm equivalent: 420.0 mm) |
FocalLengthIn35mmFormat | 420 mm |
Format | image/jpeg |
FOV | 4.9 deg |
GrainAmount | 0 |
GreenHue | 0 |
GreenSaturation | 0 |
HasCrop | True |
HasSettings | True |
Highlights2012 | +5 |
HueAdjustmentAqua | 0 |
HueAdjustmentBlue | 0 |
HueAdjustmentGreen | 0 |
HueAdjustmentMagenta | 0 |
HueAdjustmentOrange | 0 |
HueAdjustmentPurple | 0 |
HueAdjustmentRed | 0 |
HueAdjustmentYellow | 0 |
HyperfocalDistance | 391.40 m |
ICCProfileName | sRGB IEC61966-2.1 |
ImageHeight (1) | 3457 |
ImageHeight | 750 |
ImageSize | 1229x750 |
ImageWidth (1) | 5999 |
ImageWidth | 1229 |
ISO | 200 |
Label | Red |
Lens | 70-400mm F4-5.6 G SSM |
LensDistortInfo | 1065423052/1073741824 8082475/1073741824 270895/1073741824 -70138/1073741824 |
LensID (1) | 53 |
LensID | Sony 70-400mm F4-5.6 G SSM (SAL70400G) |
LensInfo | 70-400mm f/4-5.6 |
LensManualDistortionAmount | 0 |
LensModel | 70-400mm F4-5.6 G SSM |
LensProfileEnable | 0 |
LensProfileSetup | LensDefaults |
LightSource | Unknown |
LightValue | 14.6 |
LuminanceAdjustmentAqua | 0 |
LuminanceAdjustmentBlue | 0 |
LuminanceAdjustmentGreen | 0 |
LuminanceAdjustmentMagenta | 0 |
LuminanceAdjustmentOrange | 0 |
LuminanceAdjustmentPurple | 0 |
LuminanceAdjustmentRed | 0 |
LuminanceAdjustmentYellow | 0 |
LuminanceNoiseReductionContrast | 0 |
LuminanceNoiseReductionDetail | 58 |
LuminanceSmoothing | 56 |
Make | SONY |
MaxApertureValue | 5.6 |
Megapixels | 0.922 |
MeteringMode | Center-weighted average |
Model | ILCA-77M2 |
ModifyDate (1) | 2014:09:17 15:35:46+02:00 |
ModifyDate | 2014:09:17 15:35:46 |
Orientation | Horizontal (normal) |
ParametricDarks | 0 |
ParametricHighlights | -13 |
ParametricHighlightSplit | 75 |
ParametricLights | 0 |
ParametricMidtoneSplit | 50 |
ParametricShadows | -30 |
ParametricShadowSplit | 25 |
PerspectiveAspect | 0 |
PerspectiveHorizontal | 0 |
PerspectiveRotate | 0.0 |
PerspectiveScale | 100 |
PerspectiveUpright | 0 |
PerspectiveVertical | 0 |
PhotometricInterpretation | RGB |
PostCropVignetteAmount | 0 |
ProcessVersion | 6.7 |
ProfileDescription | sRGB IEC61966-2.1 |
RecommendedExposureIndex | 200 |
RedHue | 0 |
RedSaturation | 0 |
SamplesPerPixel | 3 |
Saturation (1) | 0 |
Saturation | High |
SaturationAdjustmentAqua | 0 |
SaturationAdjustmentBlue | 0 |
SaturationAdjustmentGreen | 0 |
SaturationAdjustmentMagenta | 0 |
SaturationAdjustmentOrange | +22 |
SaturationAdjustmentPurple | 0 |
SaturationAdjustmentRed | +33 |
SaturationAdjustmentYellow | +13 |
ScaleFactor35efl | 1.5 |
SceneCaptureType | Standard |
SceneType | Directly photographed |
SensitivityType | Recommended Exposure Index |
Shadows2012 | -64 |
ShadowTint | 0 |
SharpenDetail | 25 |
SharpenEdgeMasking | 56 |
SharpenRadius | +1.3 |
Sharpness (1) | 64 |
Sharpness | Hard |
ShutterSpeed | 1/500 |
ShutterSpeedValue | 1/500 |
Software | Adobe Photoshop Elements 12.0 Windows |
SplitToningBalance | 0 |
SplitToningHighlightHue | 0 |
SplitToningHighlightSaturation | 0 |
SplitToningShadowHue | 0 |
SplitToningShadowSaturation | 0 |
Tint | +7 |
ToneCurve | 0, 0, 255, 255 |
ToneCurveBlue | 0, 0, 255, 255 |
ToneCurveGreen | 0, 0, 255, 255 |
ToneCurveName | Linear |
ToneCurveName2012 | Linear |
ToneCurvePV2012 | 0, 0, 255, 255 |
ToneCurvePV2012Blue | 0, 0, 255, 255 |
ToneCurvePV2012Green | 0, 0, 255, 255 |
ToneCurvePV2012Red | 0, 0, 255, 255 |
ToneCurveRed | 0, 0, 255, 255 |
URL_List | |
Version | 8.6 |
Vibrance | +10 |
VignetteAmount | 0 |
WhiteBalance (1) | As Shot |
WhiteBalance | Auto |
Whites2012 | -24 |