Felt | Verdi |
AlreadyApplied | True |
Aperture | 9.0 |
ApertureValue | 9.0 |
Artist | Nanco Hoogstad |
AutoLateralCA | 0 |
AutoWhiteVersion | 134348800 |
BitsPerSample | 8 |
Blacks2012 | -8 |
BlueHue | 0 |
BlueSaturation | 0 |
By-line | Nanco Hoogstad |
CameraProfile | Adobe Standard |
CircleOfConfusion | 0.015 mm |
Clarity2012 | +31 |
ColorComponents | 3 |
ColorNoiseReduction | 90 |
ColorNoiseReductionDetail | 5 |
ColorNoiseReductionSmoothness | 46 |
ColorTemperature | 6032 |
ColorTransform | YCbCr |
Contrast | Normal |
Contrast2012 | -29 |
ConvertToGrayscale | False |
Copyright | Nanco Hoogstad |
CopyrightFlag | True |
CopyrightNotice | Nanco Hoogstad |
CreateDate | 2014:09:21 18:13:26 |
Creator | Nanco Hoogstad |
CreatorCity | Sandnes |
CreatorCountry | Norway |
CreatorPostalCode | 4324 |
CreatorTool | Adobe Photoshop Lightroom 5.0 (Windows) |
CropAngle | -1.79303 |
CropBottom | 0.772179 |
CropConstrainToWarp | 0 |
CropLeft | 0 |
CropRight | 0.751832 |
CropTop | 0.068238 |
CustomRendered | Normal |
DateCreated (1) | 2014:02:27 |
DateCreated | 2014:02:27 18:16:51 |
DateTimeOriginal | 2014:09:21 18:13:26 |
DefringeGreenAmount | 0 |
DefringeGreenHueHi | 60 |
DefringeGreenHueLo | 40 |
DefringePurpleAmount | 0 |
DefringePurpleHueHi | 70 |
DefringePurpleHueLo | 30 |
DigitalZoomRatio | 0 |
Exposure2012 | +0.56 |
ExposureCompensation | 0 |
ExposureMode | Manual |
ExposureProgram | Manual |
ExposureTime | 1/640 |
Flash | Off, Did not fire |
FNumber | 9.0 |
FocalLength | 147.0 mm |
FocalLength35efl | 147.0 mm (35 mm equivalent: 294.0 mm) |
FocalLengthIn35mmFormat | 294 mm |
Format | image/jpeg |
FOV | 7.0 deg |
GainControl | Low gain up |
GrainAmount | 0 |
GreenHue | 0 |
GreenSaturation | 0 |
HasCrop | True |
HasSettings | True |
Highlights2012 | +65 |
HueAdjustmentAqua | 0 |
HueAdjustmentBlue | 0 |
HueAdjustmentGreen | 0 |
HueAdjustmentMagenta | 0 |
HueAdjustmentOrange | 0 |
HueAdjustmentPurple | 0 |
HueAdjustmentRed | 0 |
HueAdjustmentYellow | 0 |
HyperfocalDistance | 159.82 m |
ImageHeight | 2534 |
ImageSize | 3375x2534 |
ImageWidth | 3375 |
ISO | 160 |
Lens | LUMIX G VARIO 45-200/F4.0-5.6 |
LensManualDistortionAmount | 0 |
LensModel | LUMIX G VARIO 45-200/F4.0-5.6 |
LensProfileEnable | 0 |
LensProfileSetup | LensDefaults |
LensSerialNumber | 11120402733 |
LightSource | Fine Weather |
LightValue | 15.0 |
LuminanceAdjustmentAqua | 0 |
LuminanceAdjustmentBlue | 0 |
LuminanceAdjustmentGreen | 0 |
LuminanceAdjustmentMagenta | 0 |
LuminanceAdjustmentOrange | 0 |
LuminanceAdjustmentPurple | 0 |
LuminanceAdjustmentRed | 0 |
LuminanceAdjustmentYellow | 0 |
LuminanceNoiseReductionContrast | 10 |
LuminanceNoiseReductionDetail | 50 |
LuminanceSmoothing | 81 |
Make | Panasonic |
Marked | True |
MaxApertureValue | 5.2 |
Megapixels | 8.6 |
MeteringMode | Multi-segment |
Model | DMC-G3 |
ModifyDate (1) | 2014:09:21 20:46:02+02:00 |
ModifyDate | 2014:09:21 20:46:02 |
ParametricDarks | 0 |
ParametricHighlights | 0 |
ParametricHighlightSplit | 75 |
ParametricLights | 0 |
ParametricMidtoneSplit | 50 |
ParametricShadows | 0 |
ParametricShadowSplit | 25 |
PerspectiveAspect | 0 |
PerspectiveHorizontal | 0 |
PerspectiveRotate | 0.0 |
PerspectiveScale | 100 |
PerspectiveUpright | 0 |
PerspectiveVertical | 0 |
PostCropVignetteAmount | 0 |
ProcessVersion | 6.7 |
ProfileDescription | sRGB IEC61966-2.1 |
RedHue | 0 |
RedSaturation | 0 |
Rights | Nanco Hoogstad |
Saturation (1) | +13 |
Saturation | Normal |
SaturationAdjustmentAqua | -25 |
SaturationAdjustmentBlue | -48 |
SaturationAdjustmentGreen | +15 |
SaturationAdjustmentMagenta | 0 |
SaturationAdjustmentOrange | +14 |
SaturationAdjustmentPurple | 0 |
SaturationAdjustmentRed | +12 |
SaturationAdjustmentYellow | +14 |
ScaleFactor35efl | 2.0 |
SceneCaptureType | Standard |
SceneType | Directly photographed |
SensingMethod | One-chip color area |
Shadows2012 | +90 |
ShadowTint | 0 |
SharpenDetail | 25 |
SharpenEdgeMasking | 4 |
SharpenRadius | +1.0 |
Sharpness (1) | 19 |
Sharpness | Normal |
ShutterSpeed | 1/640 |
ShutterSpeedValue | 1/640 |
Software | Adobe Photoshop Lightroom 5.0 (Windows) |
SplitToningBalance | 0 |
SplitToningHighlightHue | 0 |
SplitToningHighlightSaturation | 0 |
SplitToningShadowHue | 0 |
SplitToningShadowSaturation | 0 |
Tint | +8 |
ToneCurveName2012 | Linear |
ToneCurvePV2012 | 0, 0, 255, 255 |
ToneCurvePV2012Blue | 0, 0, 255, 255 |
ToneCurvePV2012Green | 0, 0, 255, 255 |
ToneCurvePV2012Red | 0, 0, 255, 255 |
UserComment | Panasonic Lumix |
Version | 8.2 |
Vibrance | +11 |
VignetteAmount | 0 |
WhiteBalance (1) | Custom |
WhiteBalance | Manual |
Whites2012 | +58 |