Felt | Verdi |
AlreadyApplied | True |
Aperture | 10.0 |
ApertureValue | 10.0 |
ApproximateFocusDistance | 8 |
Artist | StinniFoto |
AutoLateralCA | 1 |
AutoWhiteVersion | 134348800 |
BitsPerSample | 8 |
Blacks2012 | -49 |
BlueHue | 0 |
BlueSaturation | 0 |
By-line | StinniFoto |
CameraProfile | Adobe Standard |
CircleOfConfusion | 0.039 mm |
Clarity2012 | +23 |
ColorComponents | 3 |
ColorMode | RGB |
ColorNoiseReduction | 25 |
ColorNoiseReductionDetail | 50 |
ColorNoiseReductionSmoothness | 50 |
ColorSpace | Uncalibrated |
ColorTemperature | 5300 |
ColorTransform | YCbCr |
Contrast | Normal |
Contrast2012 | +4 |
ConvertToGrayscale | False |
Copyright | StinniFoto |
CopyrightNotice | StinniFoto |
CreateDate | 2014:10:05 09:22:45 |
Creator | StinniFoto |
CreatorTool | 645D Ver 1.30 |
CropAngle | 0 |
CropBottom | 1 |
CropConstrainToWarp | 0 |
CropLeft | 0 |
CropRight | 1 |
CropTop | 0 |
CustomRendered | Normal |
DateCreated (1) | 2014:10:05 |
DateCreated | 2014:10:05 09:22:45 |
DateTimeOriginal | 2014:10:05 09:22:45 |
DefringeGreenAmount | 0 |
DefringeGreenHueHi | 60 |
DefringeGreenHueLo | 40 |
DefringePurpleAmount | 0 |
DefringePurpleHueHi | 70 |
DefringePurpleHueLo | 30 |
DOF | inf (3.18 m - inf) |
ExifImageHeight | 2836 |
ExifImageWidth | 2000 |
Exposure2012 | +0.40 |
ExposureCompensation | 0 |
ExposureMode | Auto |
ExposureProgram | Shutter speed priority AE |
ExposureTime | 1/50 |
Flash | Off, Did not fire |
FNumber | 10.0 |
FocalLength | 45.0 mm |
FocalLength35efl | 45.0 mm (35 mm equivalent: 35.0 mm) |
FocalLengthIn35mmFormat | 35 mm |
Format | image/jpeg |
FOV | 54.4 deg |
GrainAmount | 0 |
GreenHue | 0 |
GreenSaturation | 0 |
HasCrop | True |
HasSettings | True |
Highlights2012 | -46 |
HueAdjustmentAqua | 0 |
HueAdjustmentBlue | 0 |
HueAdjustmentGreen | 0 |
HueAdjustmentMagenta | 0 |
HueAdjustmentOrange | 0 |
HueAdjustmentPurple | -47 |
HueAdjustmentRed | 0 |
HueAdjustmentYellow | 0 |
HyperfocalDistance | 5.24 m |
ICCProfileName | Adobe RGB (1998) |
ImageHeight | 2836 |
ImageSize | 2000x2836 |
ImageWidth | 2000 |
ISO | 200 |
Label | |
Lens | smc PENTAX-FA645 45-85mm F4.5 |
LensID (1) | 11 4 |
LensID | smc PENTAX-FA 645 45-85mm F4.5 |
LensInfo | 45-85mm f/4.5 |
LensManualDistortionAmount | 0 |
LensModel | smc PENTAX-FA645 45-85mm F4.5 |
LensProfileChromaticAberrationScale | 100 |
LensProfileDistortionScale | 100 |
LensProfileEnable | 1 |
LensProfileFilename | PENTAX (smc PENTAX-FA645 45-85mmF4.5) - RAW.lcp |
LensProfileName | Adobe (smc PENTAX-FA645 45-85mmF4.5) |
LensProfileSetup | LensDefaults |
LensProfileVignettingScale | 100 |
LightValue | 11.3 |
LuminanceAdjustmentAqua | 0 |
LuminanceAdjustmentBlue | -25 |
LuminanceAdjustmentGreen | +51 |
LuminanceAdjustmentMagenta | 0 |
LuminanceAdjustmentOrange | 0 |
LuminanceAdjustmentPurple | 0 |
LuminanceAdjustmentRed | 0 |
LuminanceAdjustmentYellow | 0 |
LuminanceNoiseReductionContrast | 0 |
LuminanceNoiseReductionDetail | 50 |
LuminanceSmoothing | 24 |
Make | PENTAX |
Megapixels | 5.7 |
MeteringMode | Multi-segment |
Model | PENTAX 645D |
ModifyDate (1) | 2014:10:05 17:25:21+02:00 |
ModifyDate | 2014:10:05 17:25:21 |
Orientation | Horizontal (normal) |
ParametricDarks | -6 |
ParametricHighlights | 0 |
ParametricHighlightSplit | 75 |
ParametricLights | +8 |
ParametricMidtoneSplit | 50 |
ParametricShadows | 0 |
ParametricShadowSplit | 25 |
PerspectiveAspect | 0 |
PerspectiveHorizontal | 0 |
PerspectiveRotate | 0.0 |
PerspectiveScale | 100 |
PerspectiveUpright | 0 |
PerspectiveVertical | 0 |
PostCropVignetteAmount | -1 |
PostCropVignetteFeather | 50 |
PostCropVignetteHighlightContrast | 0 |
PostCropVignetteMidpoint | 50 |
PostCropVignetteRoundness | 0 |
PostCropVignetteStyle | 1 |
ProcessVersion | 6.7 |
ProfileDescription | Adobe RGB (1998) |
Rating | 0 |
RawFileName | _6452343.DNG |
RedHue | 0 |
RedSaturation | 0 |
Rights | StinniFoto |
Saturation (1) | 0 |
Saturation | Normal |
SaturationAdjustmentAqua | 0 |
SaturationAdjustmentBlue | +36 |
SaturationAdjustmentGreen | 0 |
SaturationAdjustmentMagenta | 0 |
SaturationAdjustmentOrange | 0 |
SaturationAdjustmentPurple | 0 |
SaturationAdjustmentRed | 0 |
SaturationAdjustmentYellow | 0 |
ScaleFactor35efl | 0.8 |
SceneCaptureType | Standard |
SensingMethod | One-chip color area |
Shadows2012 | +59 |
ShadowTint | 0 |
SharpenDetail | 25 |
SharpenEdgeMasking | 28 |
SharpenRadius | +1.0 |
Sharpness (1) | 55 |
Sharpness | Normal |
ShutterSpeed | 1/50 |
ShutterSpeedValue | 1/50 |
Software | Adobe Photoshop CS6 (Macintosh) |
SplitToningBalance | 0 |
SplitToningHighlightHue | 54 |
SplitToningHighlightSaturation | 13 |
SplitToningShadowHue | 0 |
SplitToningShadowSaturation | 0 |
SubjectDistanceRange | Distant |
Tint | +8 |
ToneCurveName2012 | Linear |
ToneCurvePV2012 | 0, 0, 255, 255 |
ToneCurvePV2012Blue | 0, 0, 255, 255 |
ToneCurvePV2012Green | 0, 0, 255, 255 |
ToneCurvePV2012Red | 0, 0, 255, 255 |
Transformation | Perspective |
URL_List | |
Version | 8.2 |
Vibrance | +27 |
VignetteAmount | 0 |
VirtualFocalLength | 0.756937 |
VirtualImageXCenter | 0.708467 |
VirtualImageYCenter | 0.474384 |
WhiteBalance (1) | Custom |
WhiteBalance | Auto |
Whites2012 | -27 |