Felt | Verdi |
AlreadyApplied | True |
Aperture | 4.0 |
ApertureValue | 4.0 |
AutoLateralCA | 0 |
AutoWhiteVersion | 134348800 |
BitsPerSample | 8 |
Blacks2012 | -10 |
BlueHue | 0 |
BlueSaturation | 0 |
CameraProfile | Adobe Standard |
CircGradBasedCorrActive | true |
CircGradBasedCorrAmount | 1.000000 |
CircGradBasedCorrBrightness | 0.000000 |
CircGradBasedCorrClarity2012 (1) | 0.016130 |
CircGradBasedCorrClarity2012 (5) | -0.086610 |
CircGradBasedCorrClarity2012 (7) | -0.070870 |
CircGradBasedCorrClarity2012 | 0.000000 |
CircGradBasedCorrContrast2012 (2) | 0.196850 |
CircGradBasedCorrContrast2012 (7) | 0.133860 |
CircGradBasedCorrContrast2012 | 0.000000 |
CircGradBasedCorrDefringe (2) | 0.055120 |
CircGradBasedCorrDefringe | 0.000000 |
CircGradBasedCorrExposure2012 (1) | 0.275500 |
CircGradBasedCorrExposure2012 (2) | -0.102250 |
CircGradBasedCorrExposure2012 (5) | -0.291250 |
CircGradBasedCorrExposure2012 | 0.000000 |
CircGradBasedCorrHighlights2012 (5) | 0.086610 |
CircGradBasedCorrHighlights2012 | 0.000000 |
CircGradBasedCorrHue | 0.000000 |
CircGradBasedCorrLuminanceNoise (1) | -0.039370 |
CircGradBasedCorrLuminanceNoise (2) | -0.023620 |
CircGradBasedCorrLuminanceNoise | 0.000000 |
CircGradBasedCorrMaskAngle (1) | 13.247900 |
CircGradBasedCorrMaskAngle (2) | 24.882000 |
CircGradBasedCorrMaskAngle (4) | 7.417760 |
CircGradBasedCorrMaskAngle | 0.000000 |
CircGradBasedCorrMaskBottom (1) | 0.879013 |
CircGradBasedCorrMaskBottom (2) | 1.103360 |
CircGradBasedCorrMaskBottom (3) | 1.065550 |
CircGradBasedCorrMaskBottom (4) | 1.063440 |
CircGradBasedCorrMaskBottom (5) | 0.208043 |
CircGradBasedCorrMaskBottom (6) | 1.039160 |
CircGradBasedCorrMaskBottom (7) | 1.016820 |
CircGradBasedCorrMaskBottom | 0.813782 |
CircGradBasedCorrMaskFeather (3) | +75 |
CircGradBasedCorrMaskFeather (4) | +79 |
CircGradBasedCorrMaskFeather (6) | +64 |
CircGradBasedCorrMaskFeather | +80 |
CircGradBasedCorrMaskFlipped (2) | false |
CircGradBasedCorrMaskFlipped | true |
CircGradBasedCorrMaskLeft (1) | 0.250347 |
CircGradBasedCorrMaskLeft (2) | 0.583187 |
CircGradBasedCorrMaskLeft (3) | -0.005022 |
CircGradBasedCorrMaskLeft (4) | 0.829760 |
CircGradBasedCorrMaskLeft (5) | 0.114499 |
CircGradBasedCorrMaskLeft (6) | 0.294433 |
CircGradBasedCorrMaskLeft (7) | -0.047476 |
CircGradBasedCorrMaskLeft | -0.057275 |
CircGradBasedCorrMaskMidpoint | +50 |
CircGradBasedCorrMaskRight (1) | 0.426603 |
CircGradBasedCorrMaskRight (2) | 0.740586 |
CircGradBasedCorrMaskRight (3) | 0.456992 |
CircGradBasedCorrMaskRight (4) | 0.974106 |
CircGradBasedCorrMaskRight (5) | 0.614680 |
CircGradBasedCorrMaskRight (6) | 0.481284 |
CircGradBasedCorrMaskRight (7) | 0.181625 |
CircGradBasedCorrMaskRight | 0.126092 |
CircGradBasedCorrMaskRoundness | 0 |
CircGradBasedCorrMaskTop (1) | 0.230036 |
CircGradBasedCorrMaskTop (2) | 0.200999 |
CircGradBasedCorrMaskTop (3) | 0.554524 |
CircGradBasedCorrMaskTop (4) | 0.695758 |
CircGradBasedCorrMaskTop (5) | 0.002027 |
CircGradBasedCorrMaskTop (6) | 0.833796 |
CircGradBasedCorrMaskTop (7) | 0.812621 |
CircGradBasedCorrMaskTop | 0.540547 |
CircGradBasedCorrMaskValue | 1.000000 |
CircGradBasedCorrMaskVersion | +2 |
CircGradBasedCorrMaskWhat | Mask/CircularGradient |
CircGradBasedCorrMoire | 0.000000 |
CircGradBasedCorrSaturation (1) | -0.118110 |
CircGradBasedCorrSaturation (13) | -1.000000 |
CircGradBasedCorrSaturation (3) | -0.322830 |
CircGradBasedCorrSaturation (9) | -0.291340 |
CircGradBasedCorrSaturation | 0.000000 |
CircGradBasedCorrShadows2012 (1) | -0.275590 |
CircGradBasedCorrShadows2012 (2) | 0.338580 |
CircGradBasedCorrShadows2012 | 0.000000 |
CircGradBasedCorrSharpness (1) | 0.102360 |
CircGradBasedCorrSharpness (2) | 0.275590 |
CircGradBasedCorrSharpness (5) | 0.086610 |
CircGradBasedCorrSharpness | 0.000000 |
CircGradBasedCorrTemperature (1) | 0.102360 |
CircGradBasedCorrTemperature (2) | -0.039370 |
CircGradBasedCorrTemperature (5) | -0.401570 |
CircGradBasedCorrTemperature | 0.000000 |
CircGradBasedCorrTint (1) | 0.016130 |
CircGradBasedCorrTint | 0.000000 |
CircGradBasedCorrWhat | Correction |
CircleOfConfusion | 0.015 mm |
Clarity2012 | +56 |
ColorComponents | 3 |
ColorNoiseReduction | 26 |
ColorNoiseReductionDetail | 50 |
ColorNoiseReductionSmoothness | 45 |
ColorTemperature | 6597 |
ColorTransform | YCbCr |
Contrast | Normal |
Contrast2012 | -8 |
ConvertToGrayscale | False |
CreateDate | 2014:04:18 14:14:05 |
CreatorTool | Adobe Photoshop Lightroom 5.0 (Windows) |
CropAngle | 0 |
CropBottom | 1 |
CropConstrainToWarp | 0 |
CropLeft | 0 |
CropRight | 0.955164 |
CropTop | 0.044836 |
CustomRendered | Normal |
DateCreated (1) | 2014:04:18 |
DateCreated | 2014:04:18 14:14:05 |
DateTimeOriginal | 2014:04:18 14:14:05 |
DefringeGreenAmount | 0 |
DefringeGreenHueHi | 60 |
DefringeGreenHueLo | 40 |
DefringePurpleAmount | 0 |
DefringePurpleHueHi | 70 |
DefringePurpleHueLo | 30 |
DigitalZoomRatio | 0 |
Exposure2012 | -0.40 |
ExposureCompensation | 0 |
ExposureMode | Auto |
ExposureProgram | Program AE |
ExposureTime | 1/160 |
Flash | Off, Did not fire |
FNumber | 4.0 |
FocalLength | 45.0 mm |
FocalLength35efl | 45.0 mm (35 mm equivalent: 90.0 mm) |
FocalLengthIn35mmFormat | 90 mm |
Format | image/jpeg |
FOV | 22.6 deg |
GainControl | Low gain up |
GrainAmount | 0 |
GreenHue | 0 |
GreenSaturation | 0 |
HasCrop | True |
HasSettings | True |
Highlights2012 | -90 |
HueAdjustmentAqua | -100 |
HueAdjustmentBlue | -100 |
HueAdjustmentGreen | -100 |
HueAdjustmentMagenta | +28 |
HueAdjustmentOrange | -12 |
HueAdjustmentPurple | +29 |
HueAdjustmentRed | +62 |
HueAdjustmentYellow | -42 |
HyperfocalDistance | 33.70 m |
ImageHeight | 3293 |
ImageSize | 4386x3293 |
ImageWidth | 4386 |
ISO | 160 |
Lens | LUMIX G VARIO 45-200/F4.0-5.6 |
LensManualDistortionAmount | 0 |
LensModel | LUMIX G VARIO 45-200/F4.0-5.6 |
LensProfileEnable | 0 |
LensProfileSetup | LensDefaults |
LensSerialNumber | 11120402733 |
LightSource | Unknown |
LightValue | 10.6 |
LuminanceAdjustmentAqua | -100 |
LuminanceAdjustmentBlue | -85 |
LuminanceAdjustmentGreen | -100 |
LuminanceAdjustmentMagenta | +12 |
LuminanceAdjustmentOrange | +37 |
LuminanceAdjustmentPurple | +9 |
LuminanceAdjustmentRed | +15 |
LuminanceAdjustmentYellow | -11 |
LuminanceNoiseReductionContrast | 10 |
LuminanceNoiseReductionDetail | 38 |
LuminanceSmoothing | 47 |
Make | Panasonic |
MaxApertureValue | 4.0 |
Megapixels | 14.4 |
MeteringMode | Multi-segment |
Model | DMC-G3 |
ModifyDate (1) | 2014:10:10 12:41:44+02:00 |
ModifyDate | 2014:10:10 12:41:44 |
ParametricDarks | 0 |
ParametricHighlights | 0 |
ParametricHighlightSplit | 75 |
ParametricLights | 0 |
ParametricMidtoneSplit | 50 |
ParametricShadows | 0 |
ParametricShadowSplit | 25 |
PerspectiveAspect | 0 |
PerspectiveHorizontal | 0 |
PerspectiveRotate | 0.0 |
PerspectiveScale | 100 |
PerspectiveUpright | 0 |
PerspectiveVertical | 0 |
PostCropVignetteAmount | -19 |
PostCropVignetteFeather | 89 |
PostCropVignetteHighlightContrast | 0 |
PostCropVignetteMidpoint | 36 |
PostCropVignetteRoundness | -56 |
PostCropVignetteStyle | 1 |
ProcessVersion | 6.7 |
ProfileDescription | sRGB IEC61966-2.1 |
RedHue | 0 |
RedSaturation | 0 |
Saturation (1) | +8 |
Saturation | Normal |
SaturationAdjustmentAqua | -100 |
SaturationAdjustmentBlue | -100 |
SaturationAdjustmentGreen | -100 |
SaturationAdjustmentMagenta | -68 |
SaturationAdjustmentOrange | +23 |
SaturationAdjustmentPurple | -62 |
SaturationAdjustmentRed | -14 |
SaturationAdjustmentYellow | -86 |
ScaleFactor35efl | 2.0 |
SceneCaptureType | Standard |
SceneType | Directly photographed |
SensingMethod | One-chip color area |
Shadows2012 | -8 |
ShadowTint | 0 |
SharpenDetail | 25 |
SharpenEdgeMasking | 7 |
SharpenRadius | +1.0 |
Sharpness (1) | 17 |
Sharpness | Normal |
ShutterSpeed | 1/160 |
ShutterSpeedValue | 1/160 |
Software | Adobe Photoshop Lightroom 5.0 (Windows) |
SplitToningBalance | +16 |
SplitToningHighlightHue | 0 |
SplitToningHighlightSaturation | 0 |
SplitToningShadowHue | 0 |
SplitToningShadowSaturation | 0 |
Tint | +7 |
ToneCurveName2012 | Linear |
ToneCurvePV2012 | 0, 0, 255, 255 |
ToneCurvePV2012Blue | 0, 0, 255, 255 |
ToneCurvePV2012Green | 0, 0, 255, 255 |
ToneCurvePV2012Red | 0, 0, 255, 255 |
Version | 8.2 |
Vibrance | +6 |
VignetteAmount | 0 |
WhiteBalance (1) | Custom |
WhiteBalance | Auto |
Whites2012 | -89 |