Felt | Verdi |
AlreadyApplied | True |
Aperture | 22.0 |
ApertureValue | 22.0 |
Artist | Nanco Hoogstad |
AutoLateralCA | 0 |
AutoWhiteVersion | 134348800 |
BitsPerSample | 8 |
Blacks2012 | +55 |
BlueHue | 0 |
BlueSaturation | 0 |
By-line | Nanco Hoogstad |
CameraProfile | Adobe Standard |
CircleOfConfusion | 0.015 mm |
Clarity2012 | -53 |
ColorComponents | 3 |
ColorNoiseReduction | 73 |
ColorNoiseReductionDetail | 0 |
ColorNoiseReductionSmoothness | 100 |
ColorTemperature | 5050 |
ColorTransform | YCbCr |
Contrast | Normal |
Contrast2012 | +92 |
ConvertToGrayscale | False |
Copyright | Nanco Hoogstad |
CopyrightFlag | True |
CopyrightNotice | Nanco Hoogstad |
CreateDate | 2014:10:14 19:50:34 |
Creator | Nanco Hoogstad |
CreatorCity | Sandnes |
CreatorCountry | Norway |
CreatorPostalCode | 4324 |
CreatorTool | Adobe Photoshop Lightroom 5.0 (Windows) |
CropAngle | 0.247496 |
CropBottom | 0.889872 |
CropConstrainToWarp | 0 |
CropLeft | 0.002746 |
CropRight | 0.847565 |
CropTop | 0.038414 |
CustomRendered | Normal |
DateCreated (1) | 2014:02:27 |
DateCreated | 2014:02:27 18:16:51 |
DateTimeOriginal | 2014:10:14 19:50:34 |
DefringeGreenAmount | 0 |
DefringeGreenHueHi | 60 |
DefringeGreenHueLo | 40 |
DefringePurpleAmount | 0 |
DefringePurpleHueHi | 70 |
DefringePurpleHueLo | 30 |
DigitalZoomRatio | 0 |
Exposure2012 | +0.81 |
ExposureCompensation | 0 |
ExposureMode | Manual |
ExposureProgram | Manual |
ExposureTime | 30 |
Flash | Off, Did not fire |
FNumber | 22.0 |
FocalLength | 128.0 mm |
FocalLength35efl | 128.0 mm (35 mm equivalent: 256.0 mm) |
FocalLengthIn35mmFormat | 256 mm |
Format | image/jpeg |
FOV | 8.0 deg |
GainControl | Low gain up |
GrainAmount | 0 |
GreenHue | 0 |
GreenSaturation | 0 |
HasCrop | True |
HasSettings | True |
Highlights2012 | -11 |
HueAdjustmentAqua | 0 |
HueAdjustmentBlue | -2 |
HueAdjustmentGreen | +5 |
HueAdjustmentMagenta | -3 |
HueAdjustmentOrange | -62 |
HueAdjustmentPurple | -3 |
HueAdjustmentRed | -40 |
HueAdjustmentYellow | -60 |
HyperfocalDistance | 49.57 m |
ImageHeight | 2919 |
ImageSize | 3892x2919 |
ImageWidth | 3892 |
ISO | 160 |
Lens | LUMIX G VARIO 45-200/F4.0-5.6 |
LensManualDistortionAmount | 0 |
LensModel | LUMIX G VARIO 45-200/F4.0-5.6 |
LensProfileEnable | 0 |
LensProfileSetup | LensDefaults |
LensSerialNumber | 11120402733 |
LightSource | Fine Weather |
LightValue | 3.3 |
LuminanceAdjustmentAqua | +100 |
LuminanceAdjustmentBlue | +100 |
LuminanceAdjustmentGreen | +14 |
LuminanceAdjustmentMagenta | -6 |
LuminanceAdjustmentOrange | -11 |
LuminanceAdjustmentPurple | -9 |
LuminanceAdjustmentRed | -12 |
LuminanceAdjustmentYellow | -12 |
LuminanceNoiseReductionContrast | 2 |
LuminanceNoiseReductionDetail | 15 |
LuminanceSmoothing | 100 |
Make | Panasonic |
Marked | True |
MaxApertureValue | 5.1 |
Megapixels | 11.4 |
MeteringMode | Center-weighted average |
Model | DMC-G3 |
ModifyDate (1) | 2014:10:14 20:48:37+02:00 |
ModifyDate | 2014:10:14 20:48:37 |
PaintCorrectionActive | true |
PaintCorrectionAmount | 1.000000 |
PaintCorrectionBrightness | 0.000000 |
PaintCorrectionClarity2012 (1) | 0.165350 |
PaintCorrectionClarity2012 | 0.000000 |
PaintCorrectionContrast2012 (1) | -0.354330 |
PaintCorrectionContrast2012 | 0.275590 |
PaintCorrectionDefringe (1) | -0.291340 |
PaintCorrectionDefringe | 0.000000 |
PaintCorrectionExposure2012 (1) | -0.464500 |
PaintCorrectionExposure2012 | -0.779500 |
PaintCorrectionHighlights2012 (1) | -0.212600 |
PaintCorrectionHighlights2012 | 0.000000 |
PaintCorrectionHue | 0.000000 |
PaintCorrectionLuminanceNoise (1) | -0.023620 |
PaintCorrectionLuminanceNoise | 0.000000 |
PaintCorrectionMaskCenterWeight (4) | 0.019331 |
PaintCorrectionMaskCenterWeight | 0.107094 |
PaintCorrectionMaskFlow (1) | 0.870000 |
PaintCorrectionMaskFlow (7) | 0.908000 |
PaintCorrectionMaskFlow | 0.945000 |
PaintCorrectionMaskRadius (1) | 0.025512 |
PaintCorrectionMaskRadius (2) | 0.023751 |
PaintCorrectionMaskRadius (7) | 0.015345 |
PaintCorrectionMaskRadius | 0.007222 |
PaintCorrectionMaskValue (1) | 0.845000 |
PaintCorrectionMaskValue (3) | 0.744000 |
PaintCorrectionMaskValue | 0.256000 |
PaintCorrectionMaskWhat | Mask/Paint |
PaintCorrectionMoire (1) | -0.464570 |
PaintCorrectionMoire | 0.000000 |
PaintCorrectionSaturation (1) | -1.000000 |
PaintCorrectionSaturation | 0.000000 |
PaintCorrectionShadows2012 | 0.000000 |
PaintCorrectionSharpness (1) | -0.055120 |
PaintCorrectionSharpness | 0.000000 |
PaintCorrectionTemperature (1) | 0.000000 |
PaintCorrectionTemperature | 0.622050 |
PaintCorrectionTint | 0.000000 |
PaintCorrectionWhat | Correction |
ParametricDarks | 0 |
ParametricHighlights | 0 |
ParametricHighlightSplit | 75 |
ParametricLights | 0 |
ParametricMidtoneSplit | 50 |
ParametricShadows | 0 |
ParametricShadowSplit | 25 |
PerspectiveAspect | 0 |
PerspectiveHorizontal | 0 |
PerspectiveRotate | 0.0 |
PerspectiveScale | 100 |
PerspectiveUpright | 0 |
PerspectiveVertical | 0 |
PostCropVignetteAmount | 0 |
ProcessVersion | 6.7 |
ProfileDescription | sRGB IEC61966-2.1 |
RedHue | 0 |
RedSaturation | 0 |
Rights | Nanco Hoogstad |
Saturation (1) | +6 |
Saturation | Normal |
SaturationAdjustmentAqua | -100 |
SaturationAdjustmentBlue | -100 |
SaturationAdjustmentGreen | -100 |
SaturationAdjustmentMagenta | -100 |
SaturationAdjustmentOrange | +6 |
SaturationAdjustmentPurple | -100 |
SaturationAdjustmentRed | +8 |
SaturationAdjustmentYellow | +6 |
ScaleFactor35efl | 2.0 |
SceneCaptureType | Standard |
SceneType | Directly photographed |
SensingMethod | One-chip color area |
Shadows2012 | -19 |
ShadowTint | 0 |
SharpenDetail | 25 |
SharpenEdgeMasking | 7 |
SharpenRadius | +1.0 |
Sharpness (1) | 16 |
Sharpness | Normal |
ShutterSpeed | 30 |
ShutterSpeedValue | 30 |
Software | Adobe Photoshop Lightroom 5.0 (Windows) |
SplitToningBalance | 0 |
SplitToningHighlightHue | 0 |
SplitToningHighlightSaturation | 0 |
SplitToningShadowHue | 0 |
SplitToningShadowSaturation | 0 |
Tint | +8 |
ToneCurveName2012 | Linear |
ToneCurvePV2012 | 0, 0, 255, 255 |
ToneCurvePV2012Blue | 0, 0, 255, 255 |
ToneCurvePV2012Green | 0, 0, 255, 255 |
ToneCurvePV2012Red | 0, 0, 255, 255 |
UserComment | Panasonic Lumix |
Version | 8.2 |
Vibrance | +23 |
VignetteAmount | 0 |
WhiteBalance (1) | Custom |
WhiteBalance | Manual |
Whites2012 | +95 |