Felt | Verdi |
AddOriginalDecisionData | Off |
AEBBracketValue | 0 |
AFAreaMode | Off (Manual Focus) |
AFAssistBeam | Emits |
AFImageHeight | 3456 |
AFImageWidth | 5184 |
AFPointsInFocus | (none) |
AFPointsSelected | 4 |
AlreadyApplied | False |
AngleAdj | 0 |
Aperture | 3.5 |
ApertureValue | 3.5 |
AspectRatio | 3:2 |
AutoExposureBracketing | Off |
AutoISO | 100 |
AutoLateralCA | 0 |
AutoLightingOptimizer (1) | Off |
AutoLightingOptimizer | n/a |
AutoLightingOptimizerOn | No |
AutoWhiteVersion | 134348800 |
BaseISO | 308 |
BitsPerSample | 8 |
BlackClip | 0.000000 |
BlackMaskBottomBorder | 0 |
BlackMaskLeftBorder | 0 |
BlackMaskRightBorder | 0 |
BlackMaskTopBorder | 0 |
Blacks2012 | -6 |
BlueBalance | 1.537109 |
BlueCurveLimits | 255 0 255 0 |
BlueHue | 0 |
BlueSaturation | 0 |
BracketMode | Off |
BracketShotNumber | 0 |
BracketValue | 0 |
Brightness | 0.0 |
BrightnessAdj | 4 |
BulbDuration | 0 |
CameraISO | Auto |
CameraOrientation | Horizontal (normal) |
CameraProfile | Embedded |
CameraTemperature | 26 C |
CameraType | EOS High-end |
CanonFlashMode | Off |
CanonImageHeight | 3456 |
CanonImageSize | n/a |
CanonImageType | Canon EOS 600D |
CanonImageWidth | 5184 |
CheckMark | Clear |
CheckMark2 | Clear |
ChromaticAberration | 100% |
ChromaticAberrationBlue | 0 |
ChromaticAberrationCorr | Off |
ChromaticAberrationOn | No |
ChromaticAberrationRed | 0 |
ChrominanceNoiseReduction | 0 |
ChrominanceNR_TIFF_JPEG | 0 |
CircleOfConfusion | 0.019 mm |
Clarity2012 | 0 |
ColorBlur | No |
ColorComponents | 3 |
ColorNoiseReduction | 0 |
ColorSpace | sRGB |
ColorTempAsShot | 5200 |
ColorTempAuto | 5050 |
ColorTempCloudy | 6000 |
ColorTempDaylight | 5200 |
ColorTemperature (2) | 0.0 |
ColorTemperature | 5200 |
ColorTempFlash | 6327 |
ColorTempFluorescent | 3729 |
ColorTempKelvin | 5200 |
ColorTempMeasured | 5050 |
ColorTempShade | 7000 |
ColorTempTungsten | 3200 |
ColorTone | -1 |
ColorToneAdj | 9 |
ColorToneAuto | 0 |
ColorToneFaithful | 0 |
ColorToneLandscape | -1 |
ColorToneNeutral | 0 |
ColorTonePortrait | 0 |
ColorToneStandard | 0 |
ColorToneUserDef1 | 0 |
ColorToneUserDef2 | 0 |
ColorToneUserDef3 | 0 |
ConstrainedCropHeight | 0 |
ConstrainedCropWidth | 0 |
ContinuousDrive | Single |
Contrast (1) | 0.0 |
Contrast | Normal |
Contrast2012 | +18 |
ContrastAdj | 0 |
ContrastAuto | 0 |
ContrastFaithful | 0 |
ContrastLandscape | 0 |
ContrastMonochrome | 0 |
ContrastNeutral | 0 |
ContrastPortrait | 0 |
ContrastStandard | 0 |
ContrastUserDef1 | 0 |
ContrastUserDef2 | 0 |
ContrastUserDef3 | 0 |
ConvertToGrayscale | False |
CreateDate | 2014:10:22 13:41:24 |
CropActive | No |
CropAspectRatio | Free |
CropBottomMargin | 0 |
CropCircleActive | No |
CropCircleRadius | 0 |
CropCircleX | 0 |
CropCircleY | 0 |
CropHeight | 0 |
CropLeft | 0 |
CropLeftMargin | 0 |
CroppedImageHeight | 3456 |
CroppedImageLeft | 0 |
CroppedImageTop | 0 |
CroppedImageWidth | 5184 |
CropRightMargin | 0 |
CropTop | 0 |
CropTopMargin | 0 |
CropWidth | 0 |
CustomColorTone | 0 |
CustomContrast | 0 |
CustomDefaultUnsharpFineness | 7 |
CustomDefaultUnsharpStrength | 0 |
CustomLinear | No |
CustomOutputHighlightPoint | 0 |
CustomOutputShadowPoint | 0 |
CustomPictureStyleFileName | |
CustomRawHighlight | 0 |
CustomRawHighlightPoint | 0 |
CustomRawShadow | 0 |
CustomRawShadowPoint | 0 |
CustomRendered | Normal |
CustomSaturation | 0 |
CustomSharpness | 0 |
CustomUnsharpMaskFineness | 7 |
CustomUnsharpMaskStrength | 0 |
CustomUnsharpMaskThreshold | 1 |
DateCreated | 2014:10:22 |
DefringeGreenAmount | 0 |
DefringeGreenHueHi | 60 |
DefringeGreenHueLo | 40 |
DefringePurpleAmount | 0 |
DefringePurpleHueHi | 70 |
DefringePurpleHueLo | 30 |
DigitalGain | 0 |
DigitalZoom | None |
DistortionCorrection (1) | Off |
DistortionCorrection | 100% |
DistortionCorrectionOn | No |
DistortionCorrectionValue | 0 |
DOF | inf (9.35 m - inf) |
DynamicRangeMax | 4095 |
DynamicRangeMin | 0 |
EasyMode | Manual |
Exposure2012 | -1.30 |
ExposureCompensation | 0 |
ExposureMode | Auto |
ExposureTime (1) | 1/161 |
ExposureTime (2) | 1/166 |
ExposureTime | 1/160 |
FaithfulOutputHighlightPoint | 0 |
FaithfulOutputShadowPoint | 0 |
FaithfulRawColorTone | 0 |
FaithfulRawContrast | 0 |
FaithfulRawHighlight | 0 |
FaithfulRawHighlightPoint | 0 |
FaithfulRawLinear | No |
FaithfulRawSaturation | 0 |
FaithfulRawShadow | 0 |
FaithfulRawShadowPoint | 0 |
FaithfulRawSharpness | 0 |
FaithfulUnsharpMaskFineness | 7 |
FaithfulUnsharpMaskStrength | 0 |
FaithfulUnsharpMaskThreshold | 1 |
FileIndex | 424 |
FileNumber | 101-0424 |
FilterEffectAuto | n/a |
FilterEffectMonochrome | None |
FilterEffectUserDef1 | None |
FilterEffectUserDef2 | None |
FilterEffectUserDef3 | None |
Firmware | 1.0.1 |
FirmwareVersion | 1.0.1 |
Flash | Off, Did not fire |
FlashActivity | 0 |
FlashBits | (none) |
FlashCompensation | 0 |
FlashExposureComp | 0 |
FlashExposureLock | Off |
FlashGuideNumber | 0 |
FlashMeteringMode | Off |
FlashSyncSpeedAv | Auto |
FNumber (1) | 3.6 |
FNumber | 3.5 |
FocalLength (2) | 25 mm |
FocalLength | 25.0 mm |
FocalUnits | 1/mm |
FocusDistanceLower | 11.68 m |
FocusDistanceUpper | inf |
FocusMode | Manual Focus (3) |
FocusRange | Not Known |
Format | image/jpeg |
FOV | 49.2 deg |
GrainAmount | 0 |
GreenCurveLimits | 255 0 255 0 |
GreenHue | 0 |
GreenSaturation | 0 |
HasCrop | False |
HasSettings | True |
HighISONoiseReduction | Standard |
Highlights2012 | 0 |
HighlightTonePriority (1) | Off |
HighlightTonePriority | Disable |
HueAdjustmentAqua | 0 |
HueAdjustmentBlue | 0 |
HueAdjustmentGreen | 0 |
HueAdjustmentMagenta | 0 |
HueAdjustmentOrange | 0 |
HueAdjustmentPurple | 0 |
HueAdjustmentRed | 0 |
HueAdjustmentYellow | 0 |
HyperfocalDistance | 9.35 m |
ImageHeight | 3465 |
ImageNumber | 0 |
ImageSize | 5202x3465 |
ImageWidth | 5202 |
IncrementalTemperature | +2 |
IncrementalTint | -13 |
InternalSerialNumber | ZA1747707 |
IsCustomPictureStyle | No |
ISO (2) | 308 |
ISO | 320 |
ISOExpansion | Off |
LandscapeOutputHighlightPoint | 0 |
LandscapeOutputShadowPoint | 0 |
LandscapeRawColorTone | 0 |
LandscapeRawContrast | 0 |
LandscapeRawHighlight | 0 |
LandscapeRawHighlightPoint | 0 |
LandscapeRawLinear | No |
LandscapeRawSaturation | 0 |
LandscapeRawShadow | 0 |
LandscapeRawShadowPoint | 0 |
LandscapeRawSharpness | 0 |
LandscapeUnsharpMaskFineness | 7 |
LandscapeUnsharpMaskStrength | 0 |
LandscapeUnsharpMaskThreshold | 1 |
LCDDisplayAtPowerOn | Display |
Lens (1) | 17-70mm |
Lens | 17.0 - 70.0 mm |
LensID (1) | 131 |
LensInfo | 17-70mm f/? |
LensManualDistortionAmount | 0 |
LensModel | 17-70mm |
LensProfileEnable | 0 |
LensProfileSetup | LensDefaults |
LensSerialNumber | 0000000000 |
LightValue | 9.3 |
LinearityUpperMargin | 10000 |
LiveViewShooting | Off |
LongExposureNoiseReduction | Off |
LongExposureNoiseReduction2 | Off |
LuminanceAdjustmentAqua | 0 |
LuminanceAdjustmentBlue | 0 |
LuminanceAdjustmentGreen | 0 |
LuminanceAdjustmentMagenta | 0 |
LuminanceAdjustmentOrange | 0 |
LuminanceAdjustmentPurple | 0 |
LuminanceAdjustmentRed | 0 |
LuminanceAdjustmentYellow | 0 |
LuminanceNoiseReduction | 2 |
LuminanceNR_TIFF_JPEG | 0 |
LuminanceSmoothing | 0 |
MacroMode | Normal |
Make | Canon |
ManualFlashOutput | n/a |
MaxAperture | 3.4 |
MaxApertureValue | 3.4 |
MaxFocalLength | 70 mm |
MeasuredEV | 9.25 |
MeasuredEV2 | 9.625 |
MeasuredRGGB | 807 1024 1024 424 |
Megapixels | 18.0 |
MeteringMode (1) | Multi-segment |
MeteringMode | Evaluative |
Method | Tone Compressor |
MinAperture | 25 |
MinFocalLength | 17 mm |
MirrorLockup | Disable |
Model | Canon EOS 600D |
ModifyDate | 2014:10:22 13:41:24 |
MonochromeContrast | 0 |
MonochromeFilterEffect | None |
MonochromeLinear | No |
MonochromeOutputShadowPoint | 0 |
MonochromeRawHighlight | 0 |
MonochromeRawHighlightPoint | 0 |
MonochromeRawShadow | 0 |
MonochromeRawShadowPoint | 0 |
MonochromeSharpness | 0 |
MonochromeToningEffect | None |
MonochromeUnsharpMaskFineness | 7 |
MonochromeUnsharpMaskStrength | 0 |
NDFilter | n/a |
NeutralOutputHighlightPoint | 0 |
NeutralOutputShadowPoint | 0 |
NeutralRawColorTone | 0 |
NeutralRawContrast | 0 |
NeutralRawHighlight | 0 |
NeutralRawHighlightPoint | 0 |
NeutralRawLinear | No |
NeutralRawSaturation | 0 |
NeutralRawShadow | 0 |
NeutralRawShadowPoint | 0 |
NeutralRawSharpness | 0 |
NeutralUnsharpMaskFineness | 7 |
NeutralUnsharpMaskThreshold | 1 |
NeutraUnsharpMaskStrength | 0 |
NormalWhiteLevel | 10710 |
NumAFPoints | 9 |
OpticalZoomCode | n/a |
Orientation | Horizontal (normal) |
OriginalDecisionDataOffset | 0 |
OriginalImageHeight | 3456 |
OriginalImageWidth | 5184 |
OwnerName | |
ParametricDarks | 0 |
ParametricHighlights | 0 |
ParametricHighlightSplit | 75 |
ParametricLights | 0 |
ParametricMidtoneSplit | 50 |
ParametricShadows | 0 |
ParametricShadowSplit | 25 |
PeripheralIllumination | 100% |
PeripheralIlluminationCorr | Off |
PeripheralIlluminationOn | No |
PeripheralLighting | Off |
PeripheralLightingSetting | Off |
PeripheralLightingValue | 0 |
PerspectiveAspect | 0 |
PerspectiveHorizontal | 0 |
PerspectiveRotate | 0.0 |
PerspectiveScale | 100 |
PerspectiveUpright | 0 |
PerspectiveVertical | 0 |
PictureStyle (2) | Landscape |
PictureStyle | Standard |
PictureStylePC | None; None; None |
PortraitOutputHighlightPoint | 0 |
PortraitOutputShadowPoint | 0 |
PortraitRawColorTone | 0 |
PortraitRawContrast | 0 |
PortraitRawHighlight | 0 |
PortraitRawHighlightPoint | 0 |
PortraitRawLinear | No |
PortraitRawSaturation | 0 |
PortraitRawShadow | 0 |
PortraitRawShadowPoint | 0 |
PortraitRawSharpness | 0 |
PortraitUnsharpMaskFineness | 7 |
PortraitUnsharpMaskStrength | 0 |
PortraitUnsharpMaskThreshold | 1 |
PostCropVignetteAmount | 0 |
ProcessVersion | 6.7 |
ProfileDescription | sRGB Profile |
Quality | RAW |
Rating | 0 |
RawBrightnessAdj | 0.00 |
RawColorAdj | Shot Settings |
RawCustomSaturation | 0 |
RawCustomTone | 0 |
RawJpgSize | Large |
RecommendedExposureIndex | 320 |
RecordMode | CR2 |
RedBalance | 2.111328 |
RedCurveLimits | 255 0 255 0 |
RedCurvePoints | (0,0) (255,255) |
RedHue | 0 |
RedSaturation | 0 |
RGBCurveLimits | 250 0 255 5 |
RGBCurvePoints | (0,5) (250,255) |
Rotation | 0 |
Saturation (1) | 0.0 |
Saturation (2) | -54 |
Saturation | -1 |
SaturationAdj | 100 |
SaturationAdjustmentAqua | 0 |
SaturationAdjustmentBlue | 0 |
SaturationAdjustmentGreen | 0 |
SaturationAdjustmentMagenta | 0 |
SaturationAdjustmentOrange | 0 |
SaturationAdjustmentPurple | 0 |
SaturationAdjustmentRed | 0 |
SaturationAdjustmentYellow | 0 |
SaturationAuto | 0 |
SaturationFaithful | 0 |
SaturationLandscape | -1 |
SaturationNeutral | 0 |
SaturationPortrait | 0 |
SaturationStandard | 0 |
SaturationUserDef1 | 0 |
SaturationUserDef2 | 0 |
SaturationUserDef3 | 0 |
ScaleFactor35efl | 1.6 |
SceneCaptureType | Standard |
SelfTimer | Off |
SensorBlueLevel | 0 |
SensorBottomBorder | 3511 |
SensorHeight | 3516 |
SensorLeftBorder | 152 |
SensorRedLevel | 0 |
SensorRightBorder | 5335 |
SensorTopBorder | 56 |
SensorWidth | 5344 |
SequenceNumber | 0 |
SerialNumber | 123063012664 |
Shadows2012 | +2 |
ShadowTint | 0 |
SharpenDetail | 25 |
SharpenEdgeMasking | 0 |
SharpenRadius | +1.0 |
Sharpness (1) | 0 |
Sharpness | 4 |
SharpnessAdj | 495 |
SharpnessAuto | 3 |
SharpnessFaithful | 0 |
SharpnessFrequency | n/a |
SharpnessLandscape | 4 |
SharpnessMonochrome | 3 |
SharpnessNeutral | 0 |
SharpnessPortrait | 2 |
SharpnessStandard | 3 |
SharpnessUserDef1 | 3 |
SharpnessUserDef2 | 3 |
SharpnessUserDef3 | 3 |
Shutter-AELock | AF/AE lock |
ShutterSpeed | 1/160 |
ShutterSpeedValue | 1/166 |
SlowShutter | None |
SpecularWhiteLevel | 11222 |
SplitToningBalance | 0 |
SplitToningHighlightHue | 0 |
SplitToningHighlightSaturation | 0 |
SplitToningShadowHue | 0 |
SplitToningShadowSaturation | 0 |
SRAWQuality | n/a |
StandardOutputHighlightPoint | 0 |
StandardOutputShadowPoint | 0 |
StandardRawColorTone | 0 |
StandardRawContrast | 0 |
StandardRawHighlight | 0 |
StandardRawHighlightPoint | 0 |
StandardRawLinear | No |
StandardRawSaturation | 0 |
StandardRawShadow | 0 |
StandardRawShadowPoint | 0 |
StandardRawSharpness | 0 |
StandardUnsharpMaskFineness | 7 |
StandardUnsharpMaskStrength | 0 |
StandardUnsharpMaskThreshold | 1 |
TargetAperture | 3.6 |
TargetExposureTime | 1/161 |
ToneCurve (1) | Standard |
ToneCurve | 0, 0, 255, 255 |
ToneCurveActive | Yes |
ToneCurveBlue | 0, 0, 255, 255 |
ToneCurveGreen | 0, 0, 255, 255 |
ToneCurveInterpolation | Curve |
ToneCurveMode | RGB |
ToneCurveName | Linear |
ToneCurveName2012 | Linear |
ToneCurveProperty | Shot Settings |
ToneCurvePV2012 | 0, 0, 255, 255 |
ToneCurvePV2012Blue | 0, 0, 255, 255 |
ToneCurvePV2012Green | 0, 0, 255, 255 |
ToneCurvePV2012Red | 0, 0, 255, 255 |
ToneCurveRed | 0, 0, 255, 255 |
ToningEffectAuto | n/a |
ToningEffectMonochrome | None |
ToningEffectUserDef1 | None |
ToningEffectUserDef2 | None |
ToningEffectUserDef3 | None |
UnsharpMask | Off |
UserDef1PictureStyle | Auto |
UserDef2PictureStyle | Auto |
UserDef3PictureStyle | Auto |
ValidAFPoints | 9 |
Version (1) | 5.0 |
Version | 8.5 |
Vibrance | 0 |
VignetteAmount | 0 |
VignettingCorrVersion | 0 |
VRDOffset | 13156 |
VRDVersion | 3.10.1 |
WB_RGGBLevels | 2162 1024 1024 1574 |
WB_RGGBLevelsAsShot | 2162 1024 1024 1574 |
WB_RGGBLevelsAuto | 2189 1024 1024 1646 |
WB_RGGBLevelsCloudy | 2325 1024 1024 1450 |
WB_RGGBLevelsDaylight | 2162 1024 1024 1574 |
WB_RGGBLevelsFlash | 2422 1024 1024 1431 |
WB_RGGBLevelsFluorescent | 1900 1024 1024 2231 |
WB_RGGBLevelsKelvin | 2162 1024 1024 1574 |
WB_RGGBLevelsMeasured | 2189 1024 1024 1646 |
WB_RGGBLevelsShade | 2497 1024 1024 1343 |
WB_RGGBLevelsTungsten | 1556 1024 1024 2341 |
WBAdjColorTemp | 48856 |
WBAdjRGGBLevels | 0 0 0 0 |
WBBracketMode | Off |
WBBracketValueAB | 0 |
WBBracketValueGM | 0 |
WBFineTuneActive | No |
WBFineTuneSaturation | 0 |
WBFineTuneTone | 0 |
WBShiftAB | 0 |
WBShiftGM | 0 |
WhiteBalance (2) | Manual |
WhiteBalance (3) | Auto |
WhiteBalance | Daylight |
WhiteBalanceAdj | Auto |
WhiteBalanceBlue | 0 |
WhiteBalanceRed | 0 |
WhiteClip | 0.000000 |
Whites2012 | 0 |
WorkColorSpace | sRGB |
ZoomSourceWidth | 0 |
ZoomTargetWidth | 0 |