Felt | Verdi |
AlreadyApplied | True |
Aperture | 5.6 |
ApertureValue | 5.6 |
ApproximateFocusDistance | 3.35 |
AutoLateralCA | 0 |
AutoWhiteVersion | 134348800 |
BitsPerSample | 8 |
Blacks2012 | -31 |
BlueHue | 0 |
BlueSaturation | 0 |
CameraProfile | Adobe Standard |
CFAPattern | [Red,Green][Green,Blue] |
CircleOfConfusion | 0.030 mm |
Clarity2012 | +100 |
ColorComponents | 3 |
ColorNoiseReduction | 25 |
ColorNoiseReductionDetail | 50 |
ColorNoiseReductionSmoothness | 50 |
ColorTemperature | 5750 |
ColorTransform | YCbCr |
Contrast | Normal |
Contrast2012 | +76 |
ConvertToGrayscale | True |
CreateDate (1) | 2014:01:11 12:13:01.10 |
CreateDate | 2014:01:11 12:13:01 |
CreatorTool | Adobe Photoshop Lightroom 5.6 (Windows) |
CropAngle | 0 |
CropBottom | 1 |
CropConstrainToWarp | 0 |
CropLeft | 0 |
CropRight | 0.620879 |
CropTop | 0 |
CustomRendered | Normal |
DateCreated (1) | 2014:01:11 |
DateCreated | 2014:01:11 12:13:01.10 |
DateTimeOriginal | 2014:01:11 12:13:01 |
DigitalZoomRatio | 1 |
DOF | 9.71 m (1.96 - 11.67 m) |
Exposure2012 | 0.00 |
ExposureCompensation | -4/3 |
ExposureMode | Manual |
ExposureProgram | Manual |
ExposureTime | 1/800 |
Flash | Off, Did not fire |
FNumber | 5.6 |
FocalLength | 28.0 mm |
FocalLength35efl | 28.0 mm (35 mm equivalent: 28.0 mm) |
FocalLengthIn35mmFormat | 28 mm |
Format | image/jpeg |
FOV | 65.5 deg |
GainControl | None |
GrainAmount | 0 |
GrayMixerAqua | -18 |
GrayMixerBlue | +9 |
GrayMixerGreen | -26 |
GrayMixerMagenta | +4 |
GrayMixerOrange | -18 |
GrayMixerPurple | +15 |
GrayMixerRed | -9 |
GrayMixerYellow | -22 |
GreenHue | 0 |
GreenSaturation | 0 |
HasCrop | True |
HasSettings | True |
Highlights2012 | -29 |
HyperfocalDistance | 4.66 m |
ImageHeight | 4016 |
ImageNumber | 1095 |
ImageSize | 3735x4016 |
ImageWidth | 3735 |
ISO | 250 |
Lens | 24.0-70.0 mm f/2.8 |
LensID (1) | 147 |
LensID | AF-S Zoom-Nikkor 24-70mm f/2.8G ED |
LensInfo | 24-70mm f/2.8 |
LensManualDistortionAmount | 0 |
LensModel | 24.0-70.0 mm f/2.8 |
LensProfileEnable | 0 |
LensProfileSetup | LensDefaults |
LightSource | Cloudy |
LightValue | 13.3 |
LuminanceSmoothing | 0 |
Make | NIKON CORPORATION |
MaxApertureValue | 2.8 |
Megapixels | 15.0 |
MeteringMode | Multi-segment |
Model | NIKON D600 |
ModifyDate (1) | 2014:10:23 13:20:15+02:00 |
ModifyDate | 2014:10:23 13:20:15 |
ParametricDarks | 0 |
ParametricHighlights | 0 |
ParametricHighlightSplit | 75 |
ParametricLights | 0 |
ParametricMidtoneSplit | 50 |
ParametricShadows | 0 |
ParametricShadowSplit | 25 |
PerspectiveAspect | 0 |
PerspectiveHorizontal | 0 |
PerspectiveRotate | 0.0 |
PerspectiveScale | 100 |
PerspectiveUpright | 0 |
PerspectiveVertical | 0 |
PostCropVignetteAmount | 0 |
ProcessVersion | 6.7 |
ProfileDescription | ProPhoto RGB |
RedHue | 0 |
RedSaturation | 0 |
Saturation | Normal |
ScaleFactor35efl | 1.0 |
SceneCaptureType | Standard |
SceneType | Directly photographed |
SensingMethod | One-chip color area |
SensitivityType | Recommended Exposure Index |
SerialNumber | 6095358 |
Shadows2012 | -100 |
ShadowTint | 0 |
SharpenDetail | 25 |
SharpenEdgeMasking | 0 |
SharpenRadius | +1.0 |
Sharpness (1) | 25 |
Sharpness | Normal |
ShutterSpeed | 1/800 |
ShutterSpeedValue | 1/800 |
Software | Adobe Photoshop Lightroom 5.6 (Windows) |
SplitToningBalance | 0 |
SplitToningHighlightHue | 0 |
SplitToningHighlightSaturation | 0 |
SplitToningShadowHue | 0 |
SplitToningShadowSaturation | 0 |
SubjectDistanceRange | Unknown |
Tint | 0 |
ToneCurve | 0, 0, 255, 255 |
ToneCurveBlue | 0, 0, 255, 255 |
ToneCurveGreen | 0, 0, 255, 255 |
ToneCurveName | Linear |
ToneCurveName2012 | Linear |
ToneCurvePV2012 | 0, 0, 255, 255 |
ToneCurvePV2012Blue | 0, 0, 255, 255 |
ToneCurvePV2012Green | 0, 0, 255, 255 |
ToneCurvePV2012Red | 0, 0, 255, 255 |
ToneCurveRed | 0, 0, 255, 255 |
Version | 8.6 |
VignetteAmount | 0 |
WhiteBalance (1) | Custom |
WhiteBalance | Manual |
Whites2012 | -57 |