Felt | Verdi |
AlreadyApplied | True |
Aperture | 11.0 |
ApertureValue | 11.0 |
Artist | Vidar M. Jacobsen |
BitsPerSample | 8 |
BlueHue | 0 |
BlueSaturation | 0 |
Brightness | +75 |
BrightnessValue | 7.10703125 |
By-line | Vidar M. Jacobsen |
CameraProfile | Adobe Standard |
CameraSerialNumber | 0661377 |
Caption-Abstract | Høstmorgen |
ChromaticAberrationB | 0 |
ChromaticAberrationR | 0 |
CircleOfConfusion | 0.020 mm |
Clarity | -41 |
ColorComponents | 3 |
ColorMode | RGB |
ColorNoiseReduction | 70 |
ColorNoiseReductionDetail | 50 |
ColorSpace | sRGB |
ColorTemperature | 5500 |
ColorTransform | YCbCr |
Contrast (2) | +54 |
Contrast | Normal |
ConvertToGrayscale | False |
CreateDate (1) | 2014:10:11 09:14:39+02:00 |
CreateDate | 2014:10:11 09:14:39 |
Creator | Vidar M. Jacobsen |
CreatorTool | Adobe Photoshop Elements 9.0 Windows |
CustomRendered | Normal |
DateAcquired | 2014:10:28 14:18:15.245 |
DateCreated | 2014:10:11 |
DateTimeDigitized | 2014:10:11 09:14:39+02:00 |
DateTimeOriginal (1) | 2014:10:11 09:14:39+02:00 |
DateTimeOriginal | 2014:10:11 09:14:39 |
Defringe | 0 |
Description | Høstmorgen |
ExifImageHeight | 4000 |
ExifImageWidth | 6000 |
Exposure | 0.00 |
ExposureCompensation | 0 |
ExposureMode | Manual |
ExposureProgram | Manual |
ExposureTime | 1/500 |
FillLight | 63 |
Flash | Off, Did not fire |
FlashFired | False |
FlashFunction | False |
FlashMode | Off |
FlashRedEyeMode | False |
FlashReturn | No return detection |
FNumber | 11.0 |
FocalLength | 18.0 mm |
FocalLength35efl | 18.0 mm (35 mm equivalent: 27.0 mm) |
FocalLengthIn35mmFormat | 27 mm |
Format | image/jpeg |
FOV | 67.4 deg |
GrainAmount | 0 |
GreenHue | 0 |
GreenSaturation | 0 |
HasCrop | False |
HasSettings | True |
HighlightRecovery | 54 |
HueAdjustmentAqua | 0 |
HueAdjustmentBlue | 0 |
HueAdjustmentGreen | 0 |
HueAdjustmentMagenta | 0 |
HueAdjustmentOrange | 0 |
HueAdjustmentPurple | 0 |
HueAdjustmentRed | 0 |
HueAdjustmentYellow | 0 |
HyperfocalDistance | 1.47 m |
ICCProfileName | sRGB IEC61966-2.1 |
ImageDescription | Høstmorgen |
ImageHeight | 4000 |
ImageSize | 6000x4000 |
ImageWidth | 6000 |
ISO | 400 |
Keywords | Drammen, ARW (RAW)-Filter, Høst |
LastKeywordIPTC | Drammen, ARW (RAW)-Filter, Høst |
LastKeywordXMP | Drammen, ARW (RAW)-Filter, Høst |
Lens | DT 18-55mm F3.5-5.6 SAM |
LensID (1) | 55 |
LensID | Sony DT 18-55mm F3.5-5.6 SAM (SAL1855) or Sony DT 18-55mm F3.5-5.6 SAM II (SAL18552) |
LensInfo | 18-55mm f/3.5-5.6 |
LensManualDistortionAmount | 0 |
LensManufacturer | Sony |
LensModel (1) | 18-55mm |
LensModel | DT 18-55mm F3.5-5.6 SAM |
LensProfileEnable | 0 |
LensProfileSetup | LensDefaults |
LightSource | Unknown |
LightValue | 13.9 |
LuminanceAdjustmentAqua | 0 |
LuminanceAdjustmentBlue | 0 |
LuminanceAdjustmentGreen | 0 |
LuminanceAdjustmentMagenta | 0 |
LuminanceAdjustmentOrange | 0 |
LuminanceAdjustmentPurple | 0 |
LuminanceAdjustmentRed | 0 |
LuminanceAdjustmentYellow | 0 |
LuminanceNoiseReductionContrast | 0 |
LuminanceNoiseReductionDetail | 50 |
LuminanceSmoothing | 82 |
Make | SONY |
MaxApertureValue | 3.5 |
Megapixels | 24.0 |
MeteringMode | Multi-segment |
Model | SLT-A77V |
ModifyDate (1) | 2014:11:10 18:52:19+01:00 |
ModifyDate | 2014:11:10 18:52:19 |
Orientation | Horizontal (normal) |
ParametricDarks | 0 |
ParametricHighlights | 0 |
ParametricHighlightSplit | 75 |
ParametricLights | 0 |
ParametricMidtoneSplit | 50 |
ParametricShadows | 0 |
ParametricShadowSplit | 25 |
PerspectiveHorizontal | 0 |
PerspectiveRotate | 0.0 |
PerspectiveScale | 100 |
PerspectiveVertical | 0 |
PostCropVignetteAmount | 0 |
ProcessVersion | 5.7 |
ProfileDescription | sRGB IEC61966-2.1 |
Rating | 0 |
RawFileName | Sony K025 088 Høsttrær.ARW |
RecommendedExposureIndex | 400 |
RedHue | 0 |
RedSaturation | 0 |
Saturation (2) | +44 |
Saturation | Normal |
SaturationAdjustmentAqua | 0 |
SaturationAdjustmentBlue | 0 |
SaturationAdjustmentGreen | 0 |
SaturationAdjustmentMagenta | 0 |
SaturationAdjustmentOrange | 0 |
SaturationAdjustmentPurple | 0 |
SaturationAdjustmentRed | 0 |
SaturationAdjustmentYellow | 0 |
ScaleFactor35efl | 1.5 |
SceneCaptureType | Standard |
SceneType | Directly photographed |
SensitivityType (1) | 2 |
SensitivityType | Recommended Exposure Index |
Shadows | 13 |
ShadowTint | 0 |
SharpenDetail | 41 |
SharpenEdgeMasking | 15 |
SharpenRadius | +1.3 |
Sharpness (2) | 39 |
Sharpness | Normal |
ShutterSpeed | 1/500 |
ShutterSpeedValue | 1/500 |
Software | Adobe Photoshop Elements 9.0 Windows |
SplitToningBalance | 0 |
SplitToningHighlightHue | 0 |
SplitToningHighlightSaturation | 0 |
SplitToningShadowHue | 0 |
SplitToningShadowSaturation | 0 |
Subject | Drammen, ARW (RAW)-Filter, Høst |
Tint | +10 |
Title | |
ToneCurve | 0, 0, 32, 22, 64, 56, 128, 128, 192, 196, 255, 255 |
ToneCurveName | Medium Contrast |
URL_List | |
Version | 6.5 |
Vibrance | +25 |
VignetteAmount | 0 |
WhiteBalance (2) | Daylight |
WhiteBalance | Auto |
XPAuthor | Vidar M. Jacobsen |
XPKeywords | Drammen;ARW (RAW)-Filter;Høst |
XPTitle | Høstmorgen |