Felt | Verdi |
AlreadyApplied | True |
Aperture | 4.0 |
ApertureValue | 4.0 |
ApproximateFocusDistance | 4294967295 |
Artist | Leonard Lovoll |
AutoLateralCA | 0 |
BitsPerSample (1) | 8 8 8 8 |
BitsPerSample | 8 |
Blacks2012 | +28 |
BlueHue | 0 |
BlueSaturation | 0 |
By-line | Leonard Lovoll |
CameraProfile | Adobe Standard |
CircleOfConfusion | 0.026 mm |
Clarity2012 | 0 |
ColorComponents | 1 |
ColorMode | Grayscale |
ColorNoiseReduction | 25 |
ColorNoiseReductionDetail | 50 |
ColorSpace | Uncalibrated |
ColorTemperature | 4000 |
ColorTransform | Unknown (RGB or CMYK) |
Contrast2012 | +50 |
ConvertToGrayscale | True |
Copyright | leonard@lovoll.no |
CopyrightNotice | leonard@lovoll.no |
CreateDate | 2014:05:08 16:38:38 |
Creator | Leonard Lovoll |
CreatorTool | Adobe Photoshop CS6 (Windows) |
CustomRendered | Normal |
DateCreated (1) | 2014:05:08 |
DateCreated | 2014:05:08 16:38:38.035 |
DateTimeOriginal | 2014:05:08 16:38:38 |
DOF | inf (40.16 m - inf) |
ExifImageHeight | 4410 |
ExifImageWidth | 3209 |
Exposure2012 | +0.50 |
ExposureCompensation | 0 |
ExposureMode | Auto |
ExposureProgram | Program AE |
ExposureTime | 1/60 |
Firmware | 2.0.3 |
Flash | Off, Did not fire |
FlashCompensation | 0 |
FNumber | 4.0 |
FocalLength | 65.0 mm |
FocalLength35efl | 65.0 mm (35 mm equivalent: 74.3 mm) |
Format | image/jpeg |
FOV | 27.3 deg |
GrainAmount | 0 |
GrayMixerAqua | -18 |
GrayMixerBlue | +9 |
GrayMixerGreen | -26 |
GrayMixerMagenta | +4 |
GrayMixerOrange | -17 |
GrayMixerPurple | +15 |
GrayMixerRed | -9 |
GrayMixerYellow | -21 |
GreenHue | 0 |
GreenSaturation | 0 |
HasCrop | False |
HasSettings | True |
Highlights2012 | -59 |
HyperfocalDistance | 40.16 m |
ICCProfileName | Gray Gamma 2.2 |
ImageHeight (1) | 4212 |
ImageHeight | 4410 |
ImageNumber | 0 |
ImageSize | 3209x4410 |
ImageWidth (1) | 3048 |
ImageWidth | 3209 |
ISO | 640 |
Lens | EF24-105mm f/4L IS USM |
LensID (1) | 237 |
LensID | Canon EF 24-105mm f/4L IS USM |
LensInfo | 24-105mm f/? |
LensManualDistortionAmount | 0 |
LensModel | EF24-105mm f/4L IS USM |
LensProfileEnable | 0 |
LensProfileSetup | LensDefaults |
LensSerialNumber | 00001477a5 |
LightValue | 7.2 |
LuminanceSmoothing | 0 |
Make | Canon |
MaxApertureValue | 4.0 |
Megapixels | 14.2 |
MeteringMode | Multi-segment |
Model | Canon EOS-1D X |
ModifyDate (1) | 2014:07:21 12:29:33+02:00 |
ModifyDate | 2014:07:21 12:29:33 |
Orientation | Horizontal (normal) |
ParametricDarks | 0 |
ParametricHighlights | 0 |
ParametricHighlightSplit | 75 |
ParametricLights | 0 |
ParametricMidtoneSplit | 50 |
ParametricShadows | 0 |
ParametricShadowSplit | 25 |
PerspectiveHorizontal | 0 |
PerspectiveRotate | 0.0 |
PerspectiveScale | 100 |
PerspectiveVertical | 0 |
PhotometricInterpretation | BlackIsZero |
PostCropVignetteAmount | 0 |
ProcessVersion | 6.7 |
ProfileDescription | Gray Gamma 2.2 |
Rating | 0 |
RawFileName | DP7Q9696.CR2 |
RecommendedExposureIndex | 640 |
RedHue | 0 |
RedSaturation | 0 |
Rights | leonard@lovoll.no |
SamplesPerPixel | 4 |
ScaleFactor35efl | 1.1 |
SceneCaptureType | Standard |
SensitivityType | Recommended Exposure Index |
SerialNumber | 053011001337 |
Shadows2012 | 0 |
ShadowTint | 0 |
SharpenDetail | 25 |
SharpenEdgeMasking | 0 |
SharpenRadius | +1.0 |
Sharpness | 25 |
ShutterSpeed | 1/60 |
ShutterSpeedValue | 1/60 |
Software | Adobe Photoshop CS6 (Windows) |
SplitToningBalance | 0 |
SplitToningHighlightHue | 0 |
SplitToningHighlightSaturation | 0 |
SplitToningShadowHue | 0 |
SplitToningShadowSaturation | 0 |
Tint | +5 |
ToneCurveName2012 | Linear |
ToneCurvePV2012 | 0, 0, 255, 255 |
ToneCurvePV2012Blue | 0, 0, 255, 255 |
ToneCurvePV2012Green | 0, 0, 255, 255 |
ToneCurvePV2012Red | 0, 0, 255, 255 |
URL_List | |
Version | 7.3 |
VignetteAmount | 0 |
WhiteBalance (1) | As Shot |
WhiteBalance | Auto |
Whites2012 | 0 |