Felt | Verdi |
AlreadyApplied | True |
Aperture | 18.0 |
ApertureValue | 18.0 |
ApproximateFocusDistance | 4294967295 |
AutoLateralCA | 1 |
AutoWhiteVersion | 134348800 |
BitsPerSample | 8 |
Blacks2012 | -4 |
BlueHue | 0 |
BlueSaturation | 0 |
CameraProfile | Embedded |
CircleOfConfusion | 0.030 mm |
Clarity2012 | -49 |
ColorComponents | 3 |
ColorNoiseReduction | 0 |
ColorTemperature | 7190 |
ColorTransform | YCbCr |
Contrast | Normal |
Contrast2012 | +20 |
ConvertToGrayscale | False |
CreateDate (1) | 2014:11:25 07:57:25.22 |
CreateDate | 2014:11:25 07:57:25 |
CreatorTool | Adobe Photoshop Lightroom 5.6 (Macintosh) |
CropAngle | 0 |
CropBottom | 0.96197 |
CropConstrainToWarp | 1 |
CropLeft | 0 |
CropRight | 0.96197 |
CropTop | 0 |
DateCreated (1) | 2014:11:25 |
DateCreated | 2014:11:25 07:57:25.022 |
DateTimeOriginal | 2014:11:25 07:57:25 |
DefringeGreenAmount | 0 |
DefringeGreenHueHi | 60 |
DefringeGreenHueLo | 40 |
DefringePurpleAmount | 0 |
DefringePurpleHueHi | 70 |
DefringePurpleHueLo | 30 |
DigitalZoomRatio | 1 |
DOF | inf (0.47 m - inf) |
Exposure2012 | -1.55 |
ExposureMode | Manual |
ExposureProgram | Manual |
Flash | No Flash |
FNumber | 18.0 |
FocalLength | 16.0 mm |
FocalLength35efl | 16.0 mm (35 mm equivalent: 16.0 mm) |
FocalLengthIn35mmFormat | 16 mm |
Format | image/jpeg |
FOV | 96.7 deg |
GainControl | None |
GradientBasedCorrActive | true |
GradientBasedCorrAmount | 1.000000 |
GradientBasedCorrBrightness | 0.000000 |
GradientBasedCorrClarity2012 (1) | -0.517938 |
GradientBasedCorrClarity2012 | 0.001799 |
GradientBasedCorrContrast2012 | -0.007658 |
GradientBasedCorrDefringe | 0.000000 |
GradientBasedCorrExposure2012 (2) | -0.021793 |
GradientBasedCorrExposure2012 | 0.079204 |
GradientBasedCorrHighlights2012 | 0.004905 |
GradientBasedCorrHue | 240.000000 |
GradientBasedCorrLuminanceNoise | 0.000000 |
GradientBasedCorrMaskFullX (1) | 0.518922 |
GradientBasedCorrMaskFullX (2) | 0.476258 |
GradientBasedCorrMaskFullX | 0.675903 |
GradientBasedCorrMaskFullY (1) | 0.335695 |
GradientBasedCorrMaskFullY (2) | 0.238006 |
GradientBasedCorrMaskFullY | 0.665449 |
GradientBasedCorrMaskValue | 1.000000 |
GradientBasedCorrMaskWhat | Mask/Gradient |
GradientBasedCorrMaskZeroX (1) | 0.512692 |
GradientBasedCorrMaskZeroX (2) | 0.440042 |
GradientBasedCorrMaskZeroX | 0.446436 |
GradientBasedCorrMaskZeroY (1) | 0.635922 |
GradientBasedCorrMaskZeroY (2) | 0.427077 |
GradientBasedCorrMaskZeroY | 0.302703 |
GradientBasedCorrMoire | 0.000000 |
GradientBasedCorrSaturation (5) | -0.012233 |
GradientBasedCorrSaturation | 0.000000 |
GradientBasedCorrShadows2012 | -0.030633 |
GradientBasedCorrSharpness | 0.000000 |
GradientBasedCorrTemperature (1) | 0.026933 |
GradientBasedCorrTemperature (2) | -0.177066 |
GradientBasedCorrTemperature | -0.012593 |
GradientBasedCorrTint | 0.000000 |
GradientBasedCorrWhat | Correction |
GrainAmount | 0 |
GreenHue | 0 |
GreenSaturation | 0 |
HasCrop | True |
HasExtendedXMP | 694E38B22E14F1DE31C88A2074646099 |
HasSettings | True |
Highlights2012 | 0 |
HueAdjustmentAqua | 0 |
HueAdjustmentBlue | 0 |
HueAdjustmentGreen | 0 |
HueAdjustmentMagenta | 0 |
HueAdjustmentOrange | -14 |
HueAdjustmentPurple | 0 |
HueAdjustmentRed | 0 |
HueAdjustmentYellow | 0 |
HyperfocalDistance | 0.47 m |
ImageHeight | 2719 |
ImageSize | 4091x2719 |
ImageWidth | 4091 |
ISO | 100 |
Lens | 16.0-35.0 mm f/4.0 |
LensID (1) | 163 |
LensID | AF-S Nikkor 16-35mm f/4G ED VR |
LensInfo | 16-35mm f/4 |
LensManualDistortionAmount | 0 |
LensModel | 16.0-35.0 mm f/4.0 |
LensProfileEnable | 1 |
LensProfileSetup | LensDefaults |
LightSource | Fine Weather |
LuminanceAdjustmentAqua | 0 |
LuminanceAdjustmentBlue | -31 |
LuminanceAdjustmentGreen | 0 |
LuminanceAdjustmentMagenta | 0 |
LuminanceAdjustmentOrange | +5 |
LuminanceAdjustmentPurple | 0 |
LuminanceAdjustmentRed | 0 |
LuminanceAdjustmentYellow | 0 |
LuminanceSmoothing | 0 |
Make | NIKON CORPORATION |
MaxApertureValue | 4.0 |
Megapixels | 11.1 |
MeteringMode | Center-weighted average |
Model | NIKON D3S |
ModifyDate (1) | 2014:11:25 15:13:46+01:00 |
ModifyDate | 2014:11:25 15:13:46 |
PaintCorrectionActive | true |
PaintCorrectionAmount | 1.000000 |
PaintCorrectionBrightness | 0.000000 |
PaintCorrectionClarity2012 (1) | 0.511924 |
PaintCorrectionClarity2012 (2) | 0.275802 |
PaintCorrectionClarity2012 (4) | 0.131373 |
PaintCorrectionClarity2012 | 0.001799 |
PaintCorrectionContrast2012 | -0.007658 |
PaintCorrectionDefringe | 0.000000 |
PaintCorrectionExposure2012 (1) | 0.016756 |
PaintCorrectionExposure2012 (4) | -0.021793 |
PaintCorrectionExposure2012 (5) | 0.199990 |
PaintCorrectionExposure2012 | -0.029143 |
PaintCorrectionHighlights2012 (1) | 0.041787 |
PaintCorrectionHighlights2012 (4) | 0.086246 |
PaintCorrectionHighlights2012 | 0.004905 |
PaintCorrectionHue | 240.000000 |
PaintCorrectionLuminanceNoise | 0.000000 |
PaintCorrectionMaskCenterWeight (18) | 0.000000 |
PaintCorrectionMaskCenterWeight | 0.154453 |
PaintCorrectionMaskFlow (1) | 0.736152 |
PaintCorrectionMaskFlow (34) | 0.964316 |
PaintCorrectionMaskFlow (43) | 0.700444 |
PaintCorrectionMaskFlow | 0.790293 |
PaintCorrectionMaskRadius (1) | 0.140371 |
PaintCorrectionMaskRadius (13) | 0.011947 |
PaintCorrectionMaskRadius (16) | 0.135032 |
PaintCorrectionMaskRadius (2) | 0.050948 |
PaintCorrectionMaskRadius (24) | 0.229399 |
PaintCorrectionMaskRadius (28) | 0.130134 |
PaintCorrectionMaskRadius (3) | 0.057112 |
PaintCorrectionMaskRadius (32) | 0.049102 |
PaintCorrectionMaskRadius (36) | 0.016760 |
PaintCorrectionMaskRadius (45) | 0.021752 |
PaintCorrectionMaskRadius (47) | 0.060368 |
PaintCorrectionMaskRadius (50) | 0.030192 |
PaintCorrectionMaskRadius (52) | 0.015100 |
PaintCorrectionMaskRadius (54) | 0.007892 |
PaintCorrectionMaskRadius | 0.031664 |
PaintCorrectionMaskValue | 1.000000 |
PaintCorrectionMaskWhat | Mask/Paint |
PaintCorrectionMoire | 0.000000 |
PaintCorrectionSaturation (9) | -0.012233 |
PaintCorrectionSaturation | 0.000000 |
PaintCorrectionShadows2012 | -0.030633 |
PaintCorrectionSharpness | 0.000000 |
PaintCorrectionTemperature (3) | 0.185290 |
PaintCorrectionTemperature (4) | 0.135434 |
PaintCorrectionTemperature | -0.012593 |
PaintCorrectionTint (3) | 0.085321 |
PaintCorrectionTint (4) | 0.067434 |
PaintCorrectionTint | 0.000000 |
PaintCorrectionWhat | Correction |
ParametricDarks | 0 |
ParametricHighlights | 0 |
ParametricHighlightSplit | 75 |
ParametricLights | +55 |
ParametricMidtoneSplit | 50 |
ParametricShadows | 0 |
ParametricShadowSplit | 25 |
PerspectiveAspect | 0 |
PerspectiveHorizontal | 0 |
PerspectiveRotate | 0.0 |
PerspectiveScale | 100 |
PerspectiveUpright | 0 |
PerspectiveVertical | 0 |
PhotographicSensitivity | 100 |
PostCropVignetteAmount | 0 |
ProcessVersion | 6.7 |
ProfileDescription | sRGB IEC61966-2.1 |
Rating | 5 |
RedHue | 0 |
RedSaturation | 0 |
Saturation (1) | 0 |
Saturation | Normal |
SaturationAdjustmentAqua | 0 |
SaturationAdjustmentBlue | -17 |
SaturationAdjustmentGreen | 0 |
SaturationAdjustmentMagenta | 0 |
SaturationAdjustmentOrange | +2 |
SaturationAdjustmentPurple | 0 |
SaturationAdjustmentRed | 0 |
SaturationAdjustmentYellow | 0 |
ScaleFactor35efl | 1.0 |
SceneCaptureType | Standard |
SceneType | Directly photographed |
SensingMethod | One-chip color area |
SerialNumber | 2058033 |
Shadows2012 | 0 |
ShadowTint | 0 |
SharpenDetail | 25 |
SharpenEdgeMasking | 0 |
SharpenRadius | +1.0 |
Sharpness (1) | 25 |
Sharpness | Normal |
Software | Adobe Photoshop Lightroom 5.6 (Macintosh) |
SplitToningBalance | 0 |
SplitToningHighlightHue | 0 |
SplitToningHighlightSaturation | 0 |
SplitToningShadowHue | 0 |
SplitToningShadowSaturation | 0 |
SubjectDistanceRange | Unknown |
Tint | +31 |
ToneCurve | 0, 0, 255, 255 |
ToneCurveBlue | 0, 0, 255, 255 |
ToneCurveGreen | 0, 0, 255, 255 |
ToneCurveName | Linear |
ToneCurveName2012 | Linear |
ToneCurvePV2012 | 0, 0, 255, 255 |
ToneCurvePV2012Blue | 0, 0, 255, 255 |
ToneCurvePV2012Green | 0, 0, 255, 255 |
ToneCurvePV2012Red | 0, 0, 255, 255 |
ToneCurveRed | 0, 0, 255, 255 |
Version | 8.6 |
Vibrance | 0 |
VignetteAmount | 0 |
WhiteBalance (1) | Custom |
WhiteBalance | Manual |
Whites2012 | +14 |