Felt | Verdi |
AlreadyApplied | True |
Aperture | 2.8 |
ApertureValue | 2.8 |
ApproximateFocusDistance | 0.6 |
AutoLateralCA | 0 |
BitDepth | 8 |
Blacks2012 | 0 |
BlueHue | 0 |
BlueSaturation | 0 |
Brightness | +50 |
CameraProfile | Adobe Standard |
CFAPattern | [Red,Green][Green,Blue] |
CircleOfConfusion | 0.020 mm |
Clarity | 0 |
Clarity2012 | +32 |
ColorMode | RGB |
ColorNoiseReduction | 25 |
ColorNoiseReductionDetail | 50 |
ColorSpace | Uncalibrated |
ColorTemperature | 6750 |
Contrast (1) | +25 |
Contrast | Normal |
Contrast2012 | 0 |
ConvertToGrayscale | False |
CreateDate | 2014:12:06 12:45:15 |
CreatorTool | Ver.1.02 |
CustomRendered | Normal |
DateCreated (1) | 2014:12:06 |
DateCreated | 2014:12:06 12:45:15.008 |
DateTimeOriginal | 2014:12:06 12:45:15 |
Defringe | 0 |
DigitalZoomRatio | 1 |
DOF | 0.04 m (0.58 - 0.62 m) |
ExifImageHeight | 2048 |
ExifImageWidth | 1356 |
Exposure | 0.00 |
Exposure2012 | 0.00 |
ExposureCompensation | 0 |
ExposureMode | Manual |
ExposureProgram | Manual |
ExposureTime | 1/25 |
FillLight | 0 |
Flash | Off, Did not fire |
FNumber | 2.8 |
FocalLength | 30.0 mm |
FocalLength35efl | 30.0 mm (35 mm equivalent: 45.0 mm) |
FocalLengthIn35mmFormat | 45 mm |
Format | application/vnd.adobe.photoshop |
FOV | 43.6 deg |
GainControl | None |
GrainAmount | 0 |
GreenHue | 0 |
GreenSaturation | 0 |
HasCrop | False |
HasSettings | True |
HighlightRecovery | 0 |
Highlights2012 | 0 |
HueAdjustmentAqua | 0 |
HueAdjustmentBlue | 0 |
HueAdjustmentGreen | 0 |
HueAdjustmentMagenta | 0 |
HueAdjustmentOrange | 0 |
HueAdjustmentPurple | 0 |
HueAdjustmentRed | 0 |
HueAdjustmentYellow | 0 |
HyperfocalDistance | 16.05 m |
ICCProfileName | Adobe RGB (1998) |
ImageHeight | 2048 |
ImageNumber | 99250 |
ImageSize | 1356x2048 |
ImageWidth | 1356 |
ISO | 100 |
LayerBlendModes | Normal, Normal, Normal |
LayerCount | 3 |
LayerModifyDates | 2014:12:06 12:07:29+01:00, 2014:12:08 10:35:44+01:00, 2014:12:06 12:08:13+01:00 |
LayerNames | Background, Curves 1, Exposure 1 |
LayerOpacities | 100%, 100%, 100% |
LayerRectangles | 0 0 2048 1356, 0 0 0 0, 0 0 0 0 |
LayerUnicodeNames | Background, Curves 1, Exposure 1 |
Lens | 17.0-55.0 mm f/2.8 |
LensID (1) | 125 |
LensID | AF-S DX Zoom-Nikkor 17-55mm f/2.8G IF-ED |
LensInfo | 17-55mm f/2.8 |
LensManualDistortionAmount | 0 |
LensModel | 17.0-55.0 mm f/2.8 |
LensProfileEnable | 0 |
LensProfileSetup | LensDefaults |
LightSource | Cloudy |
LightValue | 7.6 |
LuminanceAdjustmentAqua | 0 |
LuminanceAdjustmentBlue | 0 |
LuminanceAdjustmentGreen | 0 |
LuminanceAdjustmentMagenta | 0 |
LuminanceAdjustmentOrange | 0 |
LuminanceAdjustmentPurple | 0 |
LuminanceAdjustmentRed | 0 |
LuminanceAdjustmentYellow | 0 |
LuminanceSmoothing | 0 |
Make | NIKON CORPORATION |
MaxApertureValue | 2.8 |
Megapixels | 2.8 |
MeteringMode | Spot |
Model | NIKON D7000 |
ModifyDate (1) | 2014:12:08 10:35:50+01:00 |
ModifyDate | 2014:12:08 10:35:50 |
NumChannels | 3 |
Orientation | Horizontal (normal) |
ParametricDarks | 0 |
ParametricHighlights | 0 |
ParametricHighlightSplit | 75 |
ParametricLights | 0 |
ParametricMidtoneSplit | 50 |
ParametricShadows | 0 |
ParametricShadowSplit | 25 |
PerspectiveHorizontal | 0 |
PerspectiveRotate | 0.0 |
PerspectiveScale | 100 |
PerspectiveVertical | 0 |
PostCropVignetteAmount | 0 |
ProcessVersion | 6.7 |
ProfileDescription | Adobe RGB (1998) |
Rating | 0 |
RawFileName | _ESS6714.NEF |
RedHue | 0 |
RedSaturation | 0 |
Saturation (1) | -48 |
Saturation | Normal |
SaturationAdjustmentAqua | 0 |
SaturationAdjustmentBlue | 0 |
SaturationAdjustmentGreen | 0 |
SaturationAdjustmentMagenta | 0 |
SaturationAdjustmentOrange | 0 |
SaturationAdjustmentPurple | 0 |
SaturationAdjustmentRed | 0 |
SaturationAdjustmentYellow | 0 |
ScaleFactor35efl | 1.5 |
SceneCaptureType | Standard |
SceneType | Directly photographed |
SensingMethod | One-chip color area |
SensitivityType | Recommended Exposure Index |
SerialNumber | 6213889 |
Shadows | 5 |
Shadows2012 | 0 |
ShadowTint | 0 |
SharpenDetail | 25 |
SharpenEdgeMasking | 0 |
SharpenRadius | +1.0 |
Sharpness (1) | 25 |
Sharpness | Normal |
ShutterSpeed | 1/25 |
ShutterSpeedValue | 1/25 |
Software | Adobe Photoshop CS6 (Macintosh) |
SplitToningBalance | 0 |
SplitToningHighlightHue | 0 |
SplitToningHighlightSaturation | 0 |
SplitToningShadowHue | 0 |
SplitToningShadowSaturation | 0 |
SubjectDistanceRange | Unknown |
Tint | +9 |
ToneCurve | 0, 0, 32, 22, 64, 56, 128, 128, 192, 196, 255, 255 |
ToneCurveBlue | 0, 0, 255, 255 |
ToneCurveGreen | 0, 0, 255, 255 |
ToneCurveName | Medium Contrast |
ToneCurveName2012 | Linear |
ToneCurvePV2012 | 0, 0, 255, 255 |
ToneCurvePV2012Blue | 0, 0, 255, 255 |
ToneCurvePV2012Green | 0, 0, 255, 255 |
ToneCurvePV2012Red | 0, 0, 255, 255 |
ToneCurveRed | 0, 0, 255, 255 |
URL_List | |
Version | 7.0 |
Vibrance | -17 |
VignetteAmount | 0 |
WhiteBalance (1) | Manual |
WhiteBalance | As Shot |
Whites2012 | 0 |