Felt | Verdi |
AlreadyApplied | True |
Aperture | 16.0 |
ApertureValue | 16.0 |
ApproximateFocusDistance | 4294967295 |
AutoLateralCA | 0 |
AutoWhiteVersion | 134348800 |
BitsPerSample | 8 |
Blacks2012 | 0 |
BlueHue | 0 |
BlueSaturation | 0 |
CameraProfile | Embedded |
CircleOfConfusion | 0.030 mm |
Clarity2012 | -16 |
ColorComponents | 3 |
ColorNoiseReduction | 0 |
ColorTemperature | 6559 |
ColorTransform | YCbCr |
Contrast | Normal |
Contrast2012 | +38 |
ConvertToGrayscale | False |
CreateDate | 2014:11:26 13:55:53 |
CreatorTool | Adobe Photoshop Lightroom 5.6 (Macintosh) |
CropAngle | 0 |
CropBottom | 0.962943 |
CropConstrainToWarp | 0 |
CropLeft | 0.039767 |
CropRight | 1 |
CropTop | 0.00271 |
DateCreated (1) | 2014:11:26 |
DateCreated | 2014:11:26 13:55:53 |
DateTimeOriginal | 2014:11:26 13:55:53 |
DefringeGreenAmount | 0 |
DefringeGreenHueHi | 60 |
DefringeGreenHueLo | 40 |
DefringePurpleAmount | 0 |
DefringePurpleHueHi | 70 |
DefringePurpleHueLo | 30 |
DigitalZoomRatio | 1 |
DOF | inf (0.83 m - inf) |
Exposure2012 | -2.00 |
ExposureMode | Manual |
ExposureProgram | Manual |
Flash | No Flash |
FNumber | 16.0 |
FocalLength | 20.0 mm |
FocalLength35efl | 20.0 mm (35 mm equivalent: 20.0 mm) |
FocalLengthIn35mmFormat | 20 mm |
Format | image/jpeg |
FOV | 84.0 deg |
GainControl | None |
GradientBasedCorrActive | true |
GradientBasedCorrAmount | 1.000000 |
GradientBasedCorrBrightness | 0.000000 |
GradientBasedCorrClarity2012 (1) | 0.001799 |
GradientBasedCorrClarity2012 | -0.000206 |
GradientBasedCorrContrast2012 (4) | 0.320467 |
GradientBasedCorrContrast2012 | 0.000000 |
GradientBasedCorrDefringe | 0.000000 |
GradientBasedCorrExposure2012 (1) | 0.182103 |
GradientBasedCorrExposure2012 (2) | 0.125514 |
GradientBasedCorrExposure2012 (3) | 0.044922 |
GradientBasedCorrExposure2012 | 0.000000 |
GradientBasedCorrHighlights2012 | 0.004905 |
GradientBasedCorrHue | 240.000000 |
GradientBasedCorrLuminanceNoise | 0.000000 |
GradientBasedCorrMaskFullX (1) | 0.160950 |
GradientBasedCorrMaskFullX (2) | 0.037147 |
GradientBasedCorrMaskFullX (3) | 0.529608 |
GradientBasedCorrMaskFullX (4) | 0.514480 |
GradientBasedCorrMaskFullX | 0.600123 |
GradientBasedCorrMaskFullY (1) | 0.742142 |
GradientBasedCorrMaskFullY (2) | 0.795900 |
GradientBasedCorrMaskFullY (3) | 0.958166 |
GradientBasedCorrMaskFullY (4) | 0.287585 |
GradientBasedCorrMaskFullY | 0.615549 |
GradientBasedCorrMaskValue | 1.000000 |
GradientBasedCorrMaskWhat | Mask/Gradient |
GradientBasedCorrMaskZeroX (1) | 0.508706 |
GradientBasedCorrMaskZeroX (2) | 0.181891 |
GradientBasedCorrMaskZeroX (3) | 0.525216 |
GradientBasedCorrMaskZeroX (4) | 0.314547 |
GradientBasedCorrMaskZeroX | 0.598597 |
GradientBasedCorrMaskZeroY (1) | 0.641944 |
GradientBasedCorrMaskZeroY (2) | 0.736487 |
GradientBasedCorrMaskZeroY (3) | 0.777747 |
GradientBasedCorrMaskZeroY (4) | 0.720829 |
GradientBasedCorrMaskZeroY | 0.464144 |
GradientBasedCorrMoire | 0.000000 |
GradientBasedCorrSaturation | 0.000000 |
GradientBasedCorrShadows2012 (2) | 0.234067 |
GradientBasedCorrShadows2012 | 0.000000 |
GradientBasedCorrSharpness | 0.000000 |
GradientBasedCorrTemperature (1) | 0.109529 |
GradientBasedCorrTemperature | 0.000000 |
GradientBasedCorrTint (3) | 0.000000 |
GradientBasedCorrTint | -0.177477 |
GradientBasedCorrWhat | Correction |
GrainAmount | 0 |
GreenHue | 0 |
GreenSaturation | 0 |
HasCrop | True |
HasExtendedXMP | 9C430D8835EC4FD99BD9780BAB316C20 |
HasSettings | True |
Highlights2012 | -95 |
HueAdjustmentAqua | 0 |
HueAdjustmentBlue | 0 |
HueAdjustmentGreen | 0 |
HueAdjustmentMagenta | 0 |
HueAdjustmentOrange | -29 |
HueAdjustmentPurple | 0 |
HueAdjustmentRed | 0 |
HueAdjustmentYellow | -28 |
HyperfocalDistance | 0.83 m |
ImageHeight | 2717 |
ImageSize | 4084x2717 |
ImageWidth | 4084 |
ISO | 200 |
Lens | 16.0-35.0 mm f/4.0 |
LensID (1) | 163 |
LensID | AF-S Nikkor 16-35mm f/4G ED VR |
LensInfo | 16-35mm f/4 |
LensManualDistortionAmount | 0 |
LensModel | 16.0-35.0 mm f/4.0 |
LensProfileEnable | 0 |
LensProfileSetup | LensDefaults |
LightSource | Fine Weather |
LuminanceAdjustmentAqua | 0 |
LuminanceAdjustmentBlue | 0 |
LuminanceAdjustmentGreen | 0 |
LuminanceAdjustmentMagenta | 0 |
LuminanceAdjustmentOrange | -11 |
LuminanceAdjustmentPurple | 0 |
LuminanceAdjustmentRed | -10 |
LuminanceAdjustmentYellow | -15 |
LuminanceSmoothing | 0 |
Make | NIKON CORPORATION |
MaxApertureValue | 4.0 |
Megapixels | 11.1 |
MeteringMode | Center-weighted average |
Model | NIKON D3S |
ModifyDate (1) | 2014:11:28 00:11:26+01:00 |
ModifyDate | 2014:11:28 00:11:26 |
PaintCorrectionActive | true |
PaintCorrectionAmount | 1.000000 |
PaintCorrectionBrightness | 0.000000 |
PaintCorrectionClarity2012 (1) | 0.001799 |
PaintCorrectionClarity2012 (2) | 0.344675 |
PaintCorrectionClarity2012 (3) | 0.293123 |
PaintCorrectionClarity2012 (4) | 0.280942 |
PaintCorrectionClarity2012 | -0.000206 |
PaintCorrectionContrast2012 | 0.000000 |
PaintCorrectionDefringe | 0.000000 |
PaintCorrectionExposure2012 (2) | 0.000000 |
PaintCorrectionExposure2012 (4) | 0.070775 |
PaintCorrectionExposure2012 (5) | 0.059981 |
PaintCorrectionExposure2012 | 0.043020 |
PaintCorrectionHighlights2012 | 0.004905 |
PaintCorrectionHue | 240.000000 |
PaintCorrectionLuminanceNoise | 0.000000 |
PaintCorrectionMaskCenterWeight | 0.000000 |
PaintCorrectionMaskFlow | 0.985310 |
PaintCorrectionMaskRadius (10) | 0.019168 |
PaintCorrectionMaskRadius (26) | 0.020324 |
PaintCorrectionMaskRadius (32) | 0.162996 |
PaintCorrectionMaskRadius (33) | 0.125294 |
PaintCorrectionMaskRadius (34) | 0.047307 |
PaintCorrectionMaskRadius (35) | 0.023654 |
PaintCorrectionMaskRadius | 0.184886 |
PaintCorrectionMaskValue | 1.000000 |
PaintCorrectionMaskWhat | Mask/Paint |
PaintCorrectionMoire | 0.000000 |
PaintCorrectionSaturation (1) | 0.106137 |
PaintCorrectionSaturation (3) | 0.226049 |
PaintCorrectionSaturation (9) | 0.169100 |
PaintCorrectionSaturation | 0.000000 |
PaintCorrectionShadows2012 (5) | 0.000000 |
PaintCorrectionShadows2012 | 0.219572 |
PaintCorrectionSharpness | 0.000000 |
PaintCorrectionTemperature (1) | -0.161801 |
PaintCorrectionTemperature (2) | 0.000000 |
PaintCorrectionTemperature (4) | 0.116468 |
PaintCorrectionTemperature (5) | 0.281456 |
PaintCorrectionTemperature | -0.004266 |
PaintCorrectionTint (2) | 0.066972 |
PaintCorrectionTint (4) | 0.116468 |
PaintCorrectionTint | 0.000000 |
PaintCorrectionWhat | Correction |
ParametricDarks | 0 |
ParametricHighlights | -74 |
ParametricHighlightSplit | 75 |
ParametricLights | +60 |
ParametricMidtoneSplit | 50 |
ParametricShadows | 0 |
ParametricShadowSplit | 25 |
PerspectiveAspect | 0 |
PerspectiveHorizontal | 0 |
PerspectiveRotate | 0.0 |
PerspectiveScale | 100 |
PerspectiveUpright | 0 |
PerspectiveVertical | 0 |
PhotographicSensitivity | 200 |
PostCropVignetteAmount | 0 |
ProcessVersion | 6.7 |
ProfileDescription | sRGB IEC61966-2.1 |
Rating | 5 |
RedHue | 0 |
RedSaturation | 0 |
Saturation (1) | 0 |
Saturation | Normal |
SaturationAdjustmentAqua | 0 |
SaturationAdjustmentBlue | -33 |
SaturationAdjustmentGreen | +26 |
SaturationAdjustmentMagenta | 0 |
SaturationAdjustmentOrange | +24 |
SaturationAdjustmentPurple | 0 |
SaturationAdjustmentRed | +7 |
SaturationAdjustmentYellow | +30 |
ScaleFactor35efl | 1.0 |
SceneCaptureType | Standard |
SceneType | Directly photographed |
SensingMethod | One-chip color area |
SerialNumber | 2058033 |
Shadows2012 | +32 |
ShadowTint | 0 |
SharpenDetail | 25 |
SharpenEdgeMasking | 0 |
SharpenRadius | +1.0 |
Sharpness (1) | 25 |
Sharpness | Normal |
Software | Adobe Photoshop Lightroom 5.6 (Macintosh) |
SplitToningBalance | 0 |
SplitToningHighlightHue | 0 |
SplitToningHighlightSaturation | 0 |
SplitToningShadowHue | 0 |
SplitToningShadowSaturation | 0 |
SubjectDistanceRange | Unknown |
Tint | +19 |
ToneCurve | 0, 0, 255, 255 |
ToneCurveBlue | 0, 0, 255, 255 |
ToneCurveGreen | 0, 0, 255, 255 |
ToneCurveName | Linear |
ToneCurveName2012 | Linear |
ToneCurvePV2012 | 0, 0, 255, 255 |
ToneCurvePV2012Blue | 0, 0, 255, 255 |
ToneCurvePV2012Green | 0, 0, 255, 255 |
ToneCurvePV2012Red | 0, 0, 255, 255 |
ToneCurveRed | 0, 0, 255, 255 |
Version | 8.6 |
Vibrance | +30 |
VignetteAmount | 0 |
WhiteBalance (1) | Custom |
WhiteBalance | Manual |
Whites2012 | +16 |