Felt | Verdi |
AlreadyApplied | True |
Aperture | 14.0 |
ApertureValue | 14.0 |
ApproximateFocusDistance | 4294967295 |
AutoLateralCA | 0 |
AutoWhiteVersion | 134348800 |
BitsPerSample | 8 |
Blacks2012 | 0 |
BlueHue | 0 |
BlueSaturation | 0 |
CameraProfile | Embedded |
CircleOfConfusion | 0.030 mm |
Clarity2012 | -31 |
ColorComponents | 3 |
ColorNoiseReduction | 30 |
ColorNoiseReductionDetail | 50 |
ColorNoiseReductionSmoothness | 50 |
ColorTemperature | 7367 |
ColorTransform | YCbCr |
Contrast | Normal |
Contrast2012 | +18 |
ConvertToGrayscale | False |
CreateDate | 2014:12:18 10:32:55 |
CreatorTool | Adobe Photoshop Lightroom 5.7 (Macintosh) |
CropAngle | 2.60932 |
CropBottom | 0.996528 |
CropConstrainToWarp | 0 |
CropLeft | 0.030365 |
CropRight | 0.891044 |
CropTop | 0.048125 |
DateCreated (1) | 2014:12:18 |
DateCreated | 2014:12:18 10:32:55.041 |
DateTimeOriginal | 2014:12:18 10:32:55 |
DefringeGreenAmount | 0 |
DefringeGreenHueHi | 60 |
DefringeGreenHueLo | 40 |
DefringePurpleAmount | 0 |
DefringePurpleHueHi | 70 |
DefringePurpleHueLo | 30 |
DigitalZoomRatio | 1 |
DOF | inf (1.61 m - inf) |
Exposure2012 | +0.90 |
ExposureMode | Manual |
ExposureProgram | Manual |
Flash | No Flash |
FNumber | 14.0 |
FocalLength | 26.0 mm |
FocalLength35efl | 26.0 mm (35 mm equivalent: 26.0 mm) |
FocalLengthIn35mmFormat | 26 mm |
Format | image/jpeg |
FOV | 69.4 deg |
GainControl | None |
GradientBasedCorrActive | true |
GradientBasedCorrAmount | 1.000000 |
GradientBasedCorrBrightness | 0.000000 |
GradientBasedCorrClarity2012 (3) | -0.122944 |
GradientBasedCorrClarity2012 | -0.000206 |
GradientBasedCorrContrast2012 | 0.004729 |
GradientBasedCorrDefringe | 0.000000 |
GradientBasedCorrExposure2012 (1) | 0.104184 |
GradientBasedCorrExposure2012 (2) | -0.158923 |
GradientBasedCorrExposure2012 (3) | -0.049805 |
GradientBasedCorrExposure2012 (4) | -0.068616 |
GradientBasedCorrExposure2012 | -0.030736 |
GradientBasedCorrHighlights2012 (2) | -0.290347 |
GradientBasedCorrHighlights2012 (3) | -0.755859 |
GradientBasedCorrHighlights2012 (4) | -0.169151 |
GradientBasedCorrHighlights2012 | -0.001388 |
GradientBasedCorrHue | 240.000000 |
GradientBasedCorrLuminanceNoise | 0.000000 |
GradientBasedCorrMaskFullX (1) | 0.964424 |
GradientBasedCorrMaskFullX (2) | 0.508036 |
GradientBasedCorrMaskFullX (3) | 0.608293 |
GradientBasedCorrMaskFullX (4) | 0.336641 |
GradientBasedCorrMaskFullX | 0.447567 |
GradientBasedCorrMaskFullY (1) | 0.508306 |
GradientBasedCorrMaskFullY (2) | 0.235346 |
GradientBasedCorrMaskFullY (3) | 0.821467 |
GradientBasedCorrMaskFullY (4) | 0.280446 |
GradientBasedCorrMaskFullY | 0.177865 |
GradientBasedCorrMaskValue | 1.000000 |
GradientBasedCorrMaskWhat | Mask/Gradient |
GradientBasedCorrMaskZeroX (1) | 0.819437 |
GradientBasedCorrMaskZeroX (2) | 0.480763 |
GradientBasedCorrMaskZeroX (3) | 0.592831 |
GradientBasedCorrMaskZeroX (4) | 0.327891 |
GradientBasedCorrMaskZeroX | 0.441239 |
GradientBasedCorrMaskZeroY (1) | 0.508321 |
GradientBasedCorrMaskZeroY (2) | 0.569953 |
GradientBasedCorrMaskZeroY (3) | 0.594644 |
GradientBasedCorrMaskZeroY (4) | 0.539467 |
GradientBasedCorrMaskZeroY | 0.366924 |
GradientBasedCorrMoire | 0.000000 |
GradientBasedCorrSaturation | 0.000000 |
GradientBasedCorrShadows2012 (4) | -0.078279 |
GradientBasedCorrShadows2012 | 0.000000 |
GradientBasedCorrSharpness | 0.000000 |
GradientBasedCorrTemperature (3) | 0.054174 |
GradientBasedCorrTemperature (4) | -0.107165 |
GradientBasedCorrTemperature | 0.004420 |
GradientBasedCorrTint | 0.000000 |
GradientBasedCorrWhat | Correction |
GrainAmount | 0 |
GreenHue | 0 |
GreenSaturation | 0 |
HasCrop | True |
HasExtendedXMP | AAD088F9D71ABBABD2487CBABE6F1499 |
HasSettings | True |
Highlights2012 | -83 |
HueAdjustmentAqua | 0 |
HueAdjustmentBlue | 0 |
HueAdjustmentGreen | 0 |
HueAdjustmentMagenta | 0 |
HueAdjustmentOrange | 0 |
HueAdjustmentPurple | 0 |
HueAdjustmentRed | 0 |
HueAdjustmentYellow | 0 |
HyperfocalDistance | 1.61 m |
ImageHeight | 2514 |
ImageSize | 3780x2514 |
ImageWidth | 3780 |
ISO | 100 |
Lens | 16.0-35.0 mm f/4.0 |
LensID (1) | 163 |
LensID | AF-S Nikkor 16-35mm f/4G ED VR |
LensInfo | 16-35mm f/4 |
LensManualDistortionAmount | 0 |
LensModel | 16.0-35.0 mm f/4.0 |
LensProfileEnable | 0 |
LensProfileSetup | LensDefaults |
LightSource | Fine Weather |
LuminanceAdjustmentAqua | 0 |
LuminanceAdjustmentBlue | 0 |
LuminanceAdjustmentGreen | 0 |
LuminanceAdjustmentMagenta | 0 |
LuminanceAdjustmentOrange | 0 |
LuminanceAdjustmentPurple | 0 |
LuminanceAdjustmentRed | +14 |
LuminanceAdjustmentYellow | 0 |
LuminanceNoiseReductionContrast | 32 |
LuminanceNoiseReductionDetail | 50 |
LuminanceSmoothing | 32 |
Make | NIKON CORPORATION |
MaxApertureValue | 4.0 |
Megapixels | 9.5 |
MeteringMode | Center-weighted average |
Model | NIKON D3S |
ModifyDate (1) | 2014:12:20 10:10:59+01:00 |
ModifyDate | 2014:12:20 10:10:59 |
PaintCorrectionActive | true |
PaintCorrectionAmount | 1.000000 |
PaintCorrectionBrightness | 0.000000 |
PaintCorrectionClarity2012 (6) | -0.000164 |
PaintCorrectionClarity2012 | -0.000206 |
PaintCorrectionContrast2012 (1) | 0.330232 |
PaintCorrectionContrast2012 (3) | 0.517270 |
PaintCorrectionContrast2012 (5) | 0.157741 |
PaintCorrectionContrast2012 (6) | 0.003776 |
PaintCorrectionContrast2012 (8) | 0.187243 |
PaintCorrectionContrast2012 | 0.004729 |
PaintCorrectionDefringe | 0.000000 |
PaintCorrectionExposure2012 (1) | 0.188014 |
PaintCorrectionExposure2012 (2) | 0.028475 |
PaintCorrectionExposure2012 (6) | -0.055239 |
PaintCorrectionExposure2012 (7) | 0.007299 |
PaintCorrectionExposure2012 (8) | -0.049856 |
PaintCorrectionExposure2012 (9) | 0.058491 |
PaintCorrectionExposure2012 | -0.035000 |
PaintCorrectionHighlights2012 (1) | 0.078896 |
PaintCorrectionHighlights2012 (6) | -0.178273 |
PaintCorrectionHighlights2012 (9) | 0.127621 |
PaintCorrectionHighlights2012 | -0.001388 |
PaintCorrectionHue | 240.000000 |
PaintCorrectionLuminanceNoise | 0.000000 |
PaintCorrectionMaskCenterWeight (19) | 0.098193 |
PaintCorrectionMaskCenterWeight (44) | 0.001714 |
PaintCorrectionMaskCenterWeight | 0.000000 |
PaintCorrectionMaskFlow (38) | 0.558262 |
PaintCorrectionMaskFlow (75) | 0.314051 |
PaintCorrectionMaskFlow | 0.524637 |
PaintCorrectionMaskRadius (16) | 0.065044 |
PaintCorrectionMaskRadius (24) | 0.131007 |
PaintCorrectionMaskRadius (26) | 0.026652 |
PaintCorrectionMaskRadius (32) | 0.025225 |
PaintCorrectionMaskRadius (34) | 0.070154 |
PaintCorrectionMaskRadius (35) | 0.035378 |
PaintCorrectionMaskRadius (41) | 0.042214 |
PaintCorrectionMaskRadius (5) | 0.073206 |
PaintCorrectionMaskRadius (53) | 0.026396 |
PaintCorrectionMaskRadius (71) | 0.070514 |
PaintCorrectionMaskRadius (75) | 0.092141 |
PaintCorrectionMaskRadius (9) | 0.013232 |
PaintCorrectionMaskRadius | 0.082687 |
PaintCorrectionMaskValue | 1.000000 |
PaintCorrectionMaskWhat | Mask/Paint |
PaintCorrectionMoire | 0.000000 |
PaintCorrectionSaturation (13) | -0.435701 |
PaintCorrectionSaturation | 0.000000 |
PaintCorrectionShadows2012 (6) | -0.047359 |
PaintCorrectionShadows2012 | 0.000000 |
PaintCorrectionSharpness | 0.000000 |
PaintCorrectionTemperature (2) | 0.044870 |
PaintCorrectionTemperature (3) | -0.086349 |
PaintCorrectionTemperature (4) | 0.197882 |
PaintCorrectionTemperature (6) | 0.003529 |
PaintCorrectionTemperature | 0.004420 |
PaintCorrectionTint | 0.000000 |
PaintCorrectionWhat | Correction |
ParametricDarks | 0 |
ParametricHighlights | 0 |
ParametricHighlightSplit | 75 |
ParametricLights | -42 |
ParametricMidtoneSplit | 50 |
ParametricShadows | 0 |
ParametricShadowSplit | 25 |
PerspectiveAspect | 0 |
PerspectiveHorizontal | 0 |
PerspectiveRotate | 0.0 |
PerspectiveScale | 100 |
PerspectiveUpright | 0 |
PerspectiveVertical | 0 |
PhotographicSensitivity | 100 |
PostCropVignetteAmount | +15 |
PostCropVignetteFeather | 100 |
PostCropVignetteMidpoint | 50 |
PostCropVignetteRoundness | 0 |
PostCropVignetteStyle | 1 |
ProcessVersion | 6.7 |
ProfileDescription | sRGB IEC61966-2.1 |
Rating | 5 |
RedHue | 0 |
RedSaturation | 0 |
Saturation (1) | +10 |
Saturation | Normal |
SaturationAdjustmentAqua | 0 |
SaturationAdjustmentBlue | -59 |
SaturationAdjustmentGreen | 0 |
SaturationAdjustmentMagenta | 0 |
SaturationAdjustmentOrange | 0 |
SaturationAdjustmentPurple | 0 |
SaturationAdjustmentRed | +6 |
SaturationAdjustmentYellow | 0 |
ScaleFactor35efl | 1.0 |
SceneCaptureType | Standard |
SceneType | Directly photographed |
SensingMethod | One-chip color area |
SerialNumber | 2058033 |
Shadows2012 | +29 |
ShadowTint | 0 |
SharpenDetail | 34 |
SharpenEdgeMasking | 0 |
SharpenRadius | +1.3 |
Sharpness (1) | 50 |
Sharpness | Normal |
Software | Adobe Photoshop Lightroom 5.7 (Macintosh) |
SplitToningBalance | 0 |
SplitToningHighlightHue | 0 |
SplitToningHighlightSaturation | 0 |
SplitToningShadowHue | 0 |
SplitToningShadowSaturation | 0 |
SubjectDistanceRange | Unknown |
Tint | +10 |
ToneCurve | 0, 0, 255, 255 |
ToneCurveBlue | 0, 0, 255, 255 |
ToneCurveGreen | 0, 0, 255, 255 |
ToneCurveName | Linear |
ToneCurveName2012 | Linear |
ToneCurvePV2012 | 0, 0, 255, 255 |
ToneCurvePV2012Blue | 0, 0, 255, 255 |
ToneCurvePV2012Green | 0, 0, 255, 255 |
ToneCurvePV2012Red | 0, 0, 255, 255 |
ToneCurveRed | 0, 0, 255, 255 |
Version | 8.7 |
Vibrance | +37 |
VignetteAmount | 0 |
WhiteBalance (1) | Custom |
WhiteBalance | Manual |
Whites2012 | +32 |