Felt | Verdi |
AlreadyApplied | True |
Aperture | 2.8 |
ApertureValue | 2.8 |
ApproximateFocusDistance | 2.04 |
Artist | Saulius Budrikis psauliusbudrikis@yahoo.com |
AutoLateralCA | 1 |
AutoWhiteVersion | 134348800 |
BitsPerSample | 8 |
Blacks2012 | -15 |
BlueHue | 0 |
BlueSaturation | 0 |
By-line | Saulius Budrikis psauliusbudriki |
CameraProfile | Adobe Standard |
CircleOfConfusion | 0.029 mm |
Clarity2012 | +2 |
ColorComponents | 3 |
ColorMode | RGB |
ColorNoiseReduction | 100 |
ColorNoiseReductionDetail | 50 |
ColorNoiseReductionSmoothness | 50 |
ColorSpace | sRGB |
ColorTemperature | 4600 |
ColorTransform | YCbCr |
Contrast2012 | 0 |
ConvertToGrayscale | False |
CreateDate | 2014:12:20 15:26:22 |
Creator | Saulius Budrikis psauliusbudrikis@yahoo.com |
CropAngle | 0 |
CropBottom | 0.98197 |
CropConstrainToWarp | 1 |
CropLeft | 0.021341 |
CropRight | 0.980576 |
CropTop | 0.000185 |
CustomRendered | Normal |
DateCreated (1) | 2014:12:20 |
DateCreated | 2014:12:20 15:26:22.002 |
DateTimeOriginal | 2014:12:20 15:26:22 |
DefringeGreenAmount | 0 |
DefringeGreenHueHi | 60 |
DefringeGreenHueLo | 40 |
DefringePurpleAmount | 0 |
DefringePurpleHueHi | 70 |
DefringePurpleHueLo | 30 |
DOF | 0.017 m (2.032 - 2.049 m) |
ExifImageHeight | 5525 |
ExifImageWidth | 3770 |
Exposure2012 | 0.00 |
ExposureCompensation | 0 |
ExposureMode | Manual |
ExposureProgram | Manual |
ExposureTime | 1/500 |
Firmware | 1.2.3 |
Flash | Off, Did not fire |
FlashCompensation | 0 |
FNumber | 2.8 |
FocalLength | 190.0 mm |
FocalLength35efl | 190.0 mm (35 mm equivalent: 196.6 mm) |
Format | image/jpeg |
FOV | 10.5 deg |
GradientBasedCorrActive | true |
GradientBasedCorrAmount | 1.000000 |
GradientBasedCorrBrightness | 0.000000 |
GradientBasedCorrClarity | 0.000000 |
GradientBasedCorrClarity2012 (1) | -0.310000 |
GradientBasedCorrClarity2012 | 0.000000 |
GradientBasedCorrContrast | 0.000000 |
GradientBasedCorrContrast2012 (1) | -1.000000 |
GradientBasedCorrContrast2012 | 0.000000 |
GradientBasedCorrDefringe | 0.000000 |
GradientBasedCorrExposure | 0.000000 |
GradientBasedCorrExposure2012 (1) | -0.212500 |
GradientBasedCorrExposure2012 (2) | 0.125000 |
GradientBasedCorrExposure2012 | 0.000000 |
GradientBasedCorrHighlights2012 (2) | -1.000000 |
GradientBasedCorrHighlights2012 | 0.000000 |
GradientBasedCorrHue | 0.000000 |
GradientBasedCorrLuminanceNoise | 0.000000 |
GradientBasedCorrMaskCenterWeight | 0.000000 |
GradientBasedCorrMaskFlow (21) | 0.892779 |
GradientBasedCorrMaskFlow | 0.888889 |
GradientBasedCorrMaskFullX (1) | 0.589947 |
GradientBasedCorrMaskFullX (2) | 0.927249 |
GradientBasedCorrMaskFullX | 0.558201 |
GradientBasedCorrMaskFullY (1) | -0.192460 |
GradientBasedCorrMaskFullY (2) | 1.299603 |
GradientBasedCorrMaskFullY | 0.404762 |
GradientBasedCorrMaskRadius (16) | 0.164171 |
GradientBasedCorrMaskRadius (21) | 0.731799 |
GradientBasedCorrMaskRadius (23) | 0.177527 |
GradientBasedCorrMaskRadius (28) | 0.090714 |
GradientBasedCorrMaskRadius (29) | 0.397900 |
GradientBasedCorrMaskRadius (6) | 0.404578 |
GradientBasedCorrMaskRadius | 0.130781 |
GradientBasedCorrMaskValue (3) | 0.000000 |
GradientBasedCorrMaskValue | 1.000000 |
GradientBasedCorrMaskWhat (6) | Mask/Paint |
GradientBasedCorrMaskWhat | Mask/Gradient |
GradientBasedCorrMaskZeroX (1) | 0.592593 |
GradientBasedCorrMaskZeroX (2) | 0.798942 |
GradientBasedCorrMaskZeroX | 0.584656 |
GradientBasedCorrMaskZeroY (1) | 1.013889 |
GradientBasedCorrMaskZeroY (2) | 0.303571 |
GradientBasedCorrMaskZeroY | 0.871032 |
GradientBasedCorrMoire | 0.000000 |
GradientBasedCorrSaturation | 0.000000 |
GradientBasedCorrShadows2012 (1) | -1.000000 |
GradientBasedCorrShadows2012 (2) | -0.620000 |
GradientBasedCorrShadows2012 | 0.000000 |
GradientBasedCorrSharpness | 0.000000 |
GradientBasedCorrTemperature (1) | -0.190000 |
GradientBasedCorrTemperature (2) | 0.280000 |
GradientBasedCorrTemperature | 0.010000 |
GradientBasedCorrTint (1) | 0.000000 |
GradientBasedCorrTint (2) | -0.100000 |
GradientBasedCorrTint | -0.360000 |
GradientBasedCorrWhat | Correction |
GrainAmount | 0 |
GreenHue | 0 |
GreenSaturation | 0 |
HasCrop | True |
HasExtendedXMP | 7DEB67F6186B5BC7E7CD88F33A983A06 |
HasSettings | True |
Highlights2012 | -100 |
HueAdjustmentAqua | 0 |
HueAdjustmentBlue | 0 |
HueAdjustmentGreen | 0 |
HueAdjustmentMagenta | 0 |
HueAdjustmentOrange | -3 |
HueAdjustmentPurple | 0 |
HueAdjustmentRed | +15 |
HueAdjustmentYellow | 0 |
HyperfocalDistance | 444.11 m |
ICCProfileName | sRGB IEC61966-2.1 |
ImageHeight | 5525 |
ImageNumber | 0 |
ImageSize | 3770x5525 |
ImageWidth | 3770 |
ISO | 5000 |
Lens | EF70-200mm f/2.8L IS II USM |
LensID (1) | 251 |
LensID | Canon EF 70-200mm f/2.8L IS II USM |
LensInfo | 70-200mm f/? |
LensManualDistortionAmount | +23 |
LensModel | EF70-200mm f/2.8L IS II USM |
LensProfileChromaticAberrationScale | 100 |
LensProfileDistortionScale | 100 |
LensProfileEnable | 0 |
LensProfileFilename | Canon EOS 5D Mark II (Canon EF 70-200mm f2.8L IS II USM) - RAW.lcp |
LensProfileName | Adobe (Canon EF 70-200mm f/2.8 L IS II USM) |
LensProfileSetup | LensDefaults |
LensProfileVignettingScale | 100 |
LensSerialNumber | 0000c36389 |
LightValue | 6.3 |
LuminanceAdjustmentAqua | 0 |
LuminanceAdjustmentBlue | 0 |
LuminanceAdjustmentGreen | 0 |
LuminanceAdjustmentMagenta | 0 |
LuminanceAdjustmentOrange | -5 |
LuminanceAdjustmentPurple | 0 |
LuminanceAdjustmentRed | +3 |
LuminanceAdjustmentYellow | 0 |
LuminanceNoiseReductionContrast | 0 |
LuminanceNoiseReductionDetail | 50 |
LuminanceSmoothing | 17 |
Make | Canon |
MaxApertureValue | 2.8 |
Megapixels | 20.8 |
MeteringMode | Multi-segment |
Model | Canon EOS 5D Mark III |
ModifyDate (1) | 2014:12:21 22:07:19+01:00 |
ModifyDate | 2014:12:21 22:07:19 |
Orientation | Horizontal (normal) |
PaintCorrectionActive | true |
PaintCorrectionAmount | 1.000000 |
PaintCorrectionBrightness | 0.000000 |
PaintCorrectionClarity | 0.000000 |
PaintCorrectionClarity2012 (1) | -0.310000 |
PaintCorrectionClarity2012 | 0.000000 |
PaintCorrectionContrast | 0.000000 |
PaintCorrectionContrast2012 (1) | -1.000000 |
PaintCorrectionContrast2012 | 0.000000 |
PaintCorrectionDefringe | 0.000000 |
PaintCorrectionExposure | 0.000000 |
PaintCorrectionExposure2012 (1) | -0.212500 |
PaintCorrectionExposure2012 (3) | 0.087500 |
PaintCorrectionExposure2012 | 0.162500 |
PaintCorrectionHighlights2012 (3) | -0.630000 |
PaintCorrectionHighlights2012 | 0.000000 |
PaintCorrectionHue | 0.000000 |
PaintCorrectionLuminanceNoise | 0.000000 |
PaintCorrectionMaskCenterWeight (25) | 0.092037 |
PaintCorrectionMaskCenterWeight | 0.002589 |
PaintCorrectionMaskFlow (22) | 0.888889 |
PaintCorrectionMaskFlow | 0.873712 |
PaintCorrectionMaskRadius (1) | 0.236045 |
PaintCorrectionMaskRadius (106) | 0.144577 |
PaintCorrectionMaskRadius (123) | 0.270369 |
PaintCorrectionMaskRadius (131) | 0.060716 |
PaintCorrectionMaskRadius (17) | 0.090109 |
PaintCorrectionMaskRadius (24) | 0.165542 |
PaintCorrectionMaskRadius (30) | 0.037041 |
PaintCorrectionMaskRadius (33) | 0.010507 |
PaintCorrectionMaskRadius (7) | 0.992261 |
PaintCorrectionMaskRadius (8) | 0.368715 |
PaintCorrectionMaskRadius (81) | 0.043675 |
PaintCorrectionMaskRadius | 0.083476 |
PaintCorrectionMaskValue (94) | 0.000000 |
PaintCorrectionMaskValue | 0.940000 |
PaintCorrectionMaskWhat | Mask/Paint |
PaintCorrectionMoire | 0.000000 |
PaintCorrectionSaturation | 0.000000 |
PaintCorrectionShadows2012 (1) | -1.000000 |
PaintCorrectionShadows2012 (3) | -0.340000 |
PaintCorrectionShadows2012 | 0.000000 |
PaintCorrectionSharpness | 0.000000 |
PaintCorrectionTemperature (1) | -0.160000 |
PaintCorrectionTemperature | 0.000000 |
PaintCorrectionTint | 0.000000 |
PaintCorrectionWhat | Correction |
ParametricDarks | 0 |
ParametricHighlights | 0 |
ParametricHighlightSplit | 75 |
ParametricLights | 0 |
ParametricMidtoneSplit | 50 |
ParametricShadows | 0 |
ParametricShadowSplit | 10 |
PerspectiveAspect | 0 |
PerspectiveHorizontal | 0 |
PerspectiveRotate | -0.3 |
PerspectiveScale | 100 |
PerspectiveUpright | 0 |
PerspectiveVertical | -22 |
PostCropVignetteAmount | 0 |
ProcessVersion | 6.7 |
ProfileDescription | sRGB IEC61966-2.1 |
Rating | 0 |
RawFileName | _E2B5753.CR2 |
RecommendedExposureIndex | 5000 |
RedHue | 0 |
RedSaturation | 0 |
Saturation | 0 |
SaturationAdjustmentAqua | 0 |
SaturationAdjustmentBlue | -50 |
SaturationAdjustmentGreen | -42 |
SaturationAdjustmentMagenta | -14 |
SaturationAdjustmentOrange | +3 |
SaturationAdjustmentPurple | -14 |
SaturationAdjustmentRed | +2 |
SaturationAdjustmentYellow | -53 |
ScaleFactor35efl | 1.0 |
SceneCaptureType | Standard |
SensitivityType | Recommended Exposure Index |
SerialNumber | 053024014182 |
Shadows2012 | +86 |
ShadowTint | 0 |
SharpenDetail | 0 |
SharpenEdgeMasking | 0 |
SharpenRadius | +0.5 |
Sharpness | 0 |
ShutterSpeed | 1/500 |
ShutterSpeedValue | 1/500 |
Software | Adobe Photoshop CC (Macintosh) |
SplitToningBalance | +33 |
SplitToningHighlightHue | 51 |
SplitToningHighlightSaturation | 15 |
SplitToningShadowHue | 237 |
SplitToningShadowSaturation | 8 |
Tint | 0 |
ToneCurve | 0, 0, 32, 22, 64, 56, 128, 128, 192, 196, 255, 255 |
ToneCurveBlue | 0, 0, 255, 255 |
ToneCurveGreen | 0, 0, 255, 255 |
ToneCurveName | Medium Contrast |
ToneCurveName2012 | Linear |
ToneCurvePV2012 | 0, 0, 255, 255 |
ToneCurvePV2012Blue | 0, 0, 255, 255 |
ToneCurvePV2012Green | 0, 0, 255, 255 |
ToneCurvePV2012Red | 0, 0, 255, 255 |
ToneCurveRed | 0, 0, 255, 255 |
URL_List | |
Version | 8.7.1 |
Vibrance | 0 |
VignetteAmount | 0 |
WhiteBalance (1) | As Shot |
WhiteBalance | Manual |
Whites2012 | +38 |