Felt | Verdi |
AlreadyApplied | True |
Aperture | 1.4 |
ApertureValue | 1.4 |
Artist | Photographer: rustamex |
AutoLateralCA | 0 |
AutoWhiteVersion | 134348800 |
BitsPerSample | 8 |
Blacks2012 | -13 |
BlueHue | 0 |
BlueSaturation | 0 |
By-line | Photographer: rustamex |
CameraProfile | Fuji FP-3000b Neg C |
CircleOfConfusion | 0.031 mm |
Clarity2012 | -5 |
ColorComponents | 3 |
ColorMode | RGB |
ColorNoiseReduction | 25 |
ColorNoiseReductionDetail | 50 |
ColorNoiseReductionSmoothness | 50 |
ColorSpace | sRGB |
ColorTemperature | 6650 |
ColorTransform | YCbCr |
Contrast2012 | 0 |
ConvertToGrayscale | False |
Copyright | rustam atakishiev |
CopyrightFlag | True |
CopyrightNotice | rustam atakishiev |
CreateDate | 2013:12:07 15:41:53 |
Creator | Photographer: rustamex |
CreatorTool | Adobe Photoshop Lightroom 5.0 (Windows) |
CropAngle | 1.71462 |
CropBottom | 0.992875 |
CropConstrainToWarp | 0 |
CropLeft | 0.037717 |
CropRight | 0.962283 |
CropTop | 0.007125 |
CustomRendered | Normal |
DateCreated (1) | 2013:12:07 |
DateCreated | 2013:12:07 15:41:53.028 |
DateTimeOriginal | 2013:12:07 15:41:53 |
DefringeGreenAmount | 0 |
DefringeGreenHueHi | 60 |
DefringeGreenHueLo | 40 |
DefringePurpleAmount | 0 |
DefringePurpleHueHi | 70 |
DefringePurpleHueLo | 30 |
ExifImageHeight | 900 |
ExifImageWidth | 600 |
Exposure2012 | +1.35 |
ExposureCompensation | -2 |
ExposureMode | Auto |
ExposureProgram | Aperture-priority AE |
ExposureTime | 1/1000 |
Firmware | 2.1.1 |
Flash | Off, Did not fire |
FlashCompensation | 0 |
FNumber | 1.4 |
FocalLength | 50.0 mm |
FocalLength35efl | 50.0 mm (35 mm equivalent: 48.8 mm) |
Format | image/jpeg |
FOV | 40.5 deg |
GrainAmount | 30 |
GrainFrequency | 45 |
GrainSize | 45 |
GreenHue | 0 |
GreenSaturation | 0 |
HasCrop | True |
HasSettings | True |
Highlights2012 | -10 |
HueAdjustmentAqua | +30 |
HueAdjustmentBlue | 0 |
HueAdjustmentGreen | +20 |
HueAdjustmentMagenta | +46 |
HueAdjustmentOrange | 0 |
HueAdjustmentPurple | +60 |
HueAdjustmentRed | +20 |
HueAdjustmentYellow | 0 |
HyperfocalDistance | 58.00 m |
ICCProfileName | sRGB IEC61966-2.1 |
ImageHeight | 900 |
ImageNumber | 0 |
ImageSize | 600x900 |
ImageWidth | 600 |
ISO | 200 |
Label | |
Lens | 1-65535mm |
LensID (1) | 27 |
LensID | Canon EF 35-80mm f/4-5.6 |
LensManualDistortionAmount | 0 |
LensModel | 1-65535mm |
LensProfileEnable | 0 |
LensProfileSetup | LensDefaults |
LightValue | 9.9 |
LuminanceAdjustmentAqua | -40 |
LuminanceAdjustmentBlue | -40 |
LuminanceAdjustmentGreen | -15 |
LuminanceAdjustmentMagenta | +30 |
LuminanceAdjustmentOrange | -5 |
LuminanceAdjustmentPurple | +25 |
LuminanceAdjustmentRed | 0 |
LuminanceAdjustmentYellow | 0 |
LuminanceSmoothing | 0 |
Make | Canon |
Marked | True |
MaxApertureValue | 1.4 |
Megapixels | 0.540 |
MeteringMode | Multi-segment |
Model | Canon EOS 5D Mark II |
ModifyDate (1) | 2013:12:08 00:23:07+01:00 |
ModifyDate | 2013:12:08 00:23:07 |
Orientation | Horizontal (normal) |
ParametricDarks | 0 |
ParametricHighlights | 0 |
ParametricHighlightSplit | 75 |
ParametricLights | 0 |
ParametricMidtoneSplit | 50 |
ParametricShadows | 0 |
ParametricShadowSplit | 25 |
PerspectiveAspect | 0 |
PerspectiveHorizontal | 0 |
PerspectiveRotate | 0.0 |
PerspectiveScale | 100 |
PerspectiveUpright | 0 |
PerspectiveVertical | 0 |
PostCropVignetteAmount | 0 |
ProcessVersion | 6.7 |
ProfileDescription | sRGB IEC61966-2.1 |
Rating | 0 |
RawFileName | IMG_9831.dng |
RedHue | 0 |
RedSaturation | 0 |
Rights | rustam atakishiev |
Saturation | -15 |
SaturationAdjustmentAqua | -36 |
SaturationAdjustmentBlue | 0 |
SaturationAdjustmentGreen | -60 |
SaturationAdjustmentMagenta | -30 |
SaturationAdjustmentOrange | -10 |
SaturationAdjustmentPurple | -60 |
SaturationAdjustmentRed | -20 |
SaturationAdjustmentYellow | -10 |
ScaleFactor35efl | 1.0 |
SceneCaptureType | Standard |
SerialNumber | 3331601402 |
Shadows2012 | +23 |
ShadowTint | 0 |
SharpenDetail | 25 |
SharpenEdgeMasking | 0 |
SharpenRadius | +1.0 |
Sharpness | 15 |
ShutterSpeed | 1/1000 |
ShutterSpeedValue | 1/1000 |
Software | Adobe Photoshop CC (Windows) |
SplitToningBalance | 0 |
SplitToningHighlightHue | 0 |
SplitToningHighlightSaturation | 0 |
SplitToningShadowHue | 0 |
SplitToningShadowSaturation | 0 |
Tint | +19 |
ToneCurveName2012 | Custom |
ToneCurvePV2012 | 0, 8, 47, 47, 156, 159, 255, 255 |
ToneCurvePV2012Blue | 0, 0, 255, 255 |
ToneCurvePV2012Green | 0, 0, 255, 255 |
ToneCurvePV2012Red | 0, 0, 255, 255 |
URL_List | |
Version | 8.2 |
Vibrance | 0 |
VignetteAmount | 0 |
WhiteBalance (1) | As Shot |
WhiteBalance | Auto |
Whites2012 | -10 |