Felt | Verdi |
AlreadyApplied | True |
Aperture | 5.6 |
ApertureValue | 5.6 |
ApproximateFocusDistance | 8 |
Artist | StinniFoto |
AutoLateralCA | 0 |
AutoWhiteVersion | 134348800 |
BitsPerSample | 8 |
Blacks2012 | -18 |
BlueHue | 0 |
BlueSaturation | 0 |
By-line | StinniFoto |
CameraProfile | Adobe Standard |
CircleOfConfusion | 0.039 mm |
Clarity2012 | 0 |
ColorComponents | 3 |
ColorMode | RGB |
ColorNoiseReduction | 25 |
ColorNoiseReductionDetail | 50 |
ColorNoiseReductionSmoothness | 50 |
ColorSpace | Uncalibrated |
ColorTemperature | 7250 |
ColorTransform | YCbCr |
Contrast | Normal |
Contrast2012 | +3 |
ConvertToGrayscale | False |
Copyright | StinniFoto |
CopyrightNotice | StinniFoto |
CreateDate | 2014:08:29 23:17:18 |
Creator | StinniFoto |
CreatorTool | 645D Ver 1.30 |
CropAngle | 0 |
CropBottom | 1 |
CropConstrainToWarp | 0 |
CropLeft | 0 |
CropRight | 1 |
CropTop | 0 |
CustomRendered | Normal |
DateCreated (1) | 2014:08:29 |
DateCreated | 2014:08:29 23:17:18 |
DateTimeOriginal | 2014:08:29 23:17:18 |
DefringeGreenAmount | 0 |
DefringeGreenHueHi | 60 |
DefringeGreenHueLo | 40 |
DefringePurpleAmount | 0 |
DefringePurpleHueHi | 70 |
DefringePurpleHueLo | 30 |
DOF | 4.03 m (6.47 - 10.49 m) |
ExifImageHeight | 5440 |
ExifImageWidth | 5743 |
Exposure2012 | +1.15 |
ExposureCompensation | 0 |
ExposureMode | Auto |
ExposureProgram | Program AE |
ExposureTime | 1/125 |
Flash | Off, Did not fire |
FNumber | 5.6 |
FocalLength | 85.0 mm |
FocalLength35efl | 85.0 mm (35 mm equivalent: 66.0 mm) |
FocalLengthIn35mmFormat | 66 mm |
Format | image/jpeg |
FOV | 30.5 deg |
GrainAmount | 0 |
GreenHue | 0 |
GreenSaturation | 0 |
HasCrop | True |
HasSettings | True |
HierarchicalSubject | Grønland uke 2 |
Highlights2012 | 0 |
HueAdjustmentAqua | 0 |
HueAdjustmentBlue | 0 |
HueAdjustmentGreen | 0 |
HueAdjustmentMagenta | 0 |
HueAdjustmentOrange | 0 |
HueAdjustmentPurple | 0 |
HueAdjustmentRed | 0 |
HueAdjustmentYellow | 0 |
HyperfocalDistance | 33.34 m |
ICCProfileName | Adobe RGB (1998) |
ImageHeight | 5440 |
ImageSize | 5743x5440 |
ImageWidth | 5743 |
ISO | 320 |
Keywords | Grønland uke 2 |
Label | |
Lens | smc PENTAX-FA645 45-85mm F4.5 |
LensID (1) | 11 4 |
LensID | smc PENTAX-FA 645 45-85mm F4.5 |
LensInfo | 45-85mm f/4.5 |
LensManualDistortionAmount | 0 |
LensModel | smc PENTAX-FA645 45-85mm F4.5 |
LensProfileEnable | 0 |
LensProfileSetup | LensDefaults |
LightValue | 10.3 |
LuminanceAdjustmentAqua | 0 |
LuminanceAdjustmentBlue | 0 |
LuminanceAdjustmentGreen | 0 |
LuminanceAdjustmentMagenta | 0 |
LuminanceAdjustmentOrange | 0 |
LuminanceAdjustmentPurple | 0 |
LuminanceAdjustmentRed | 0 |
LuminanceAdjustmentYellow | 0 |
LuminanceSmoothing | 0 |
Make | PENTAX |
Megapixels | 31.2 |
MeteringMode | Multi-segment |
Model | PENTAX 645D |
ModifyDate (1) | 2015:02:12 22:21:11+01:00 |
ModifyDate | 2015:02:12 22:21:11 |
Orientation | Horizontal (normal) |
ParametricDarks | 0 |
ParametricHighlights | 0 |
ParametricHighlightSplit | 75 |
ParametricLights | 0 |
ParametricMidtoneSplit | 50 |
ParametricShadows | 0 |
ParametricShadowSplit | 25 |
PerspectiveAspect | 0 |
PerspectiveHorizontal | 0 |
PerspectiveRotate | 0.0 |
PerspectiveScale | 100 |
PerspectiveUpright | 0 |
PerspectiveVertical | 0 |
PhotographicSensitivity | 320 |
PostCropVignetteAmount | 0 |
ProcessVersion | 6.7 |
ProfileDescription | Adobe RGB (1998) |
Rating | 0 |
RawFileName | _6450026.DNG |
RedHue | 0 |
RedSaturation | 0 |
Rights | StinniFoto |
Saturation (1) | 0 |
Saturation | Normal |
SaturationAdjustmentAqua | 0 |
SaturationAdjustmentBlue | 0 |
SaturationAdjustmentGreen | 0 |
SaturationAdjustmentMagenta | 0 |
SaturationAdjustmentOrange | 0 |
SaturationAdjustmentPurple | 0 |
SaturationAdjustmentRed | 0 |
SaturationAdjustmentYellow | 0 |
ScaleFactor35efl | 0.8 |
SceneCaptureType | Standard |
SensingMethod | One-chip color area |
Shadows2012 | 0 |
ShadowTint | 0 |
SharpenDetail | 25 |
SharpenEdgeMasking | 0 |
SharpenRadius | +1.0 |
Sharpness (1) | 25 |
Sharpness | Normal |
ShutterSpeed | 1/125 |
ShutterSpeedValue | 1/125 |
Software | Adobe Photoshop CS6 (Macintosh) |
SplitToningBalance | 0 |
SplitToningHighlightHue | 0 |
SplitToningHighlightSaturation | 0 |
SplitToningShadowHue | 0 |
SplitToningShadowSaturation | 0 |
Subject | Grønland uke 2 |
SubjectDistanceRange | Distant |
Tint | +22 |
ToneCurveName2012 | Linear |
ToneCurvePV2012 | 0, 0, 255, 255 |
ToneCurvePV2012Blue | 0, 0, 255, 255 |
ToneCurvePV2012Green | 0, 0, 255, 255 |
ToneCurvePV2012Red | 0, 0, 255, 255 |
URL_List | |
Version | 8.2 |
Vibrance | 0 |
VignetteAmount | 0 |
WhiteBalance (1) | As Shot |
WhiteBalance | Auto |
Whites2012 | +43 |