Felt | Verdi |
AlreadyApplied | True |
Aperture | 5.6 |
ApertureValue | 5.6 |
Artist | AndersSvindal |
AutoLateralCA | 0 |
BitsPerSample | 8 |
Blacks2012 | 0 |
BlueHue | 0 |
BlueSaturation | 0 |
By-line | AndersSvindal |
CameraProfile | Embedded |
CircleOfConfusion | 0.018 mm |
Clarity2012 | 0 |
ColorComponents | 3 |
ColorNoiseReduction | 0 |
ColorTransform | YCbCr |
Contrast2012 | 0 |
ConvertToGrayscale | False |
Copyright | AndersSvindal |
CopyrightNotice | AndersSvindal |
CreateDate | 2012:10:06 15:03:30 |
Creator | AndersSvindal |
CreatorTool | Adobe Photoshop Lightroom 5.0 (Macintosh) |
CropAngle | 1.64293 |
CropBottom | 0.864268 |
CropConstrainToWarp | 0 |
CropLeft | 0.029791 |
CropRight | 0.972804 |
CropTop | 0 |
CustomRendered | Normal |
DateCreated (1) | 2012:10:06 |
DateCreated | 2012:10:06 15:03:30 |
DateTimeOriginal | 2012:10:06 15:03:30 |
DefringeGreenAmount | 0 |
DefringeGreenHueHi | 60 |
DefringeGreenHueLo | 40 |
DefringePurpleAmount | 0 |
DefringePurpleHueHi | 70 |
DefringePurpleHueLo | 30 |
Exposure2012 | +2.55 |
ExposureCompensation | 0 |
ExposureMode | Manual |
ExposureProgram | Manual |
ExposureTime | 1/1000 |
Firmware | Firmware Version 2.0.0 |
Flash | Off, Did not fire |
FlashCompensation | 0 |
FNumber | 5.6 |
FocalLength | 140.0 mm |
FocalLength35efl | 140.0 mm (35 mm equivalent: 238.9 mm) |
Format | image/jpeg |
FOV | 8.6 deg |
GradientBasedCorrActive | true |
GradientBasedCorrAmount | 1.000000 |
GradientBasedCorrBrightness | 0.000000 |
GradientBasedCorrClarity2012 (1) | 0.357759 |
GradientBasedCorrClarity2012 | 0.505859 |
GradientBasedCorrContrast2012 (1) | 0.053475 |
GradientBasedCorrContrast2012 | 0.045865 |
GradientBasedCorrDefringe | 0.001010 |
GradientBasedCorrExposure2012 (1) | -0.479930 |
GradientBasedCorrExposure2012 | -0.113079 |
GradientBasedCorrHighlights2012 (1) | -1.000000 |
GradientBasedCorrHighlights2012 | 0.094221 |
GradientBasedCorrHue | 0.000000 |
GradientBasedCorrLuminanceNoise | 0.000000 |
GradientBasedCorrMaskFullX (1) | 0.464954 |
GradientBasedCorrMaskFullX | 0.548623 |
GradientBasedCorrMaskFullY (1) | 0.350582 |
GradientBasedCorrMaskFullY | 0.782925 |
GradientBasedCorrMaskValue | 1.000000 |
GradientBasedCorrMaskWhat | Mask/Gradient |
GradientBasedCorrMaskZeroX (1) | 0.465932 |
GradientBasedCorrMaskZeroX | 0.549582 |
GradientBasedCorrMaskZeroY (1) | 0.443806 |
GradientBasedCorrMaskZeroY | 0.727978 |
GradientBasedCorrMoire | 0.012931 |
GradientBasedCorrSaturation (1) | 0.625539 |
GradientBasedCorrSaturation (3) | 1.000000 |
GradientBasedCorrSaturation | 0.000000 |
GradientBasedCorrShadows2012 | 0.000000 |
GradientBasedCorrSharpness (1) | 0.000000 |
GradientBasedCorrSharpness | 1.000000 |
GradientBasedCorrTemperature | 0.000000 |
GradientBasedCorrTint | 0.000000 |
GradientBasedCorrWhat | Correction |
GrainAmount | 0 |
GreenHue | 0 |
GreenSaturation | 0 |
HasCrop | True |
HasSettings | True |
Highlights2012 | 0 |
HueAdjustmentAqua | 0 |
HueAdjustmentBlue | 0 |
HueAdjustmentGreen | 0 |
HueAdjustmentMagenta | 0 |
HueAdjustmentOrange | 0 |
HueAdjustmentPurple | 0 |
HueAdjustmentRed | 0 |
HueAdjustmentYellow | 0 |
HyperfocalDistance | 198.79 m |
ImageHeight | 2845 |
ImageSize | 4971x2845 |
ImageWidth | 4971 |
IncrementalTemperature | 0 |
IncrementalTint | 0 |
ISO | 100 |
Lens | Canon EF 70-200mm f/2.8L IS II USM + 2x |
LensID (1) | 253 |
LensID | Canon EF 70-200mm f/2.8L IS II USM + 2x |
LensInfo | 140-400mm f/? |
LensManualDistortionAmount | 0 |
LensModel | Canon EF 70-200mm f/2.8L IS II USM + 2x |
LensProfileEnable | 0 |
LensProfileSetup | LensDefaults |
LightValue | 14.9 |
LuminanceAdjustmentAqua | 0 |
LuminanceAdjustmentBlue | 0 |
LuminanceAdjustmentGreen | 0 |
LuminanceAdjustmentMagenta | 0 |
LuminanceAdjustmentOrange | 0 |
LuminanceAdjustmentPurple | 0 |
LuminanceAdjustmentRed | 0 |
LuminanceAdjustmentYellow | 0 |
LuminanceSmoothing | 0 |
Make | Canon |
MaxApertureValue | 7.1 |
Megapixels | 14.1 |
MeteringMode | Center-weighted average |
Model | Canon EOS 7D |
ModifyDate (1) | 2015:02:15 23:51:38+01:00 |
ModifyDate | 2015:02:15 23:51:38 |
ParametricDarks | 0 |
ParametricHighlights | 0 |
ParametricHighlightSplit | 75 |
ParametricLights | 0 |
ParametricMidtoneSplit | 50 |
ParametricShadows | 0 |
ParametricShadowSplit | 25 |
PerspectiveAspect | 0 |
PerspectiveHorizontal | 0 |
PerspectiveRotate | 0.0 |
PerspectiveScale | 100 |
PerspectiveUpright | 0 |
PerspectiveVertical | 0 |
PostCropVignetteAmount | 0 |
ProcessVersion | 6.7 |
ProfileDescription | sRGB IEC61966-2.1 |
RecommendedExposureIndex | 100 |
RedHue | 0 |
RedSaturation | 0 |
Rights | AndersSvindal |
Saturation | 0 |
SaturationAdjustmentAqua | 0 |
SaturationAdjustmentBlue | 0 |
SaturationAdjustmentGreen | 0 |
SaturationAdjustmentMagenta | 0 |
SaturationAdjustmentOrange | 0 |
SaturationAdjustmentPurple | 0 |
SaturationAdjustmentRed | 0 |
SaturationAdjustmentYellow | 0 |
ScaleFactor35efl | 1.7 |
SceneCaptureType | Standard |
SensitivityType | Recommended Exposure Index |
SerialNumber | 1780908471 |
Shadows2012 | -16 |
ShadowTint | 0 |
SharpenDetail | 25 |
SharpenEdgeMasking | 0 |
SharpenRadius | +1.0 |
Sharpness | 0 |
ShutterSpeed | 1/1000 |
ShutterSpeedValue | 1/1000 |
Software | Adobe Photoshop Lightroom 5.0 (Macintosh) |
SplitToningBalance | 0 |
SplitToningHighlightHue | 0 |
SplitToningHighlightSaturation | 0 |
SplitToningShadowHue | 0 |
SplitToningShadowSaturation | 0 |
ToneCurveName2012 | Linear |
ToneCurvePV2012 | 0, 0, 255, 255 |
ToneCurvePV2012Blue | 0, 0, 255, 255 |
ToneCurvePV2012Green | 0, 0, 255, 255 |
ToneCurvePV2012Red | 0, 0, 255, 255 |
Version | 8.1 |
Vibrance | 0 |
VignetteAmount | 0 |
WhiteBalance (1) | As Shot |
WhiteBalance | Auto |
Whites2012 | -14 |