Felt | Verdi |
AlreadyApplied | True |
Aperture | 5.6 |
ApertureValue | 5.6 |
ApproximateFocusDistance | 0.61 |
AutoLateralCA | 0 |
AutoWhiteVersion | 134348800 |
BitsPerSample | 8 |
Blacks2012 | -6 |
BlueHue | 0 |
BlueSaturation | 0 |
CameraProfile | Adobe Standard |
CircleOfConfusion | 0.019 mm |
Clarity2012 | +19 |
ColorComponents | 3 |
ColorNoiseReduction | 25 |
ColorNoiseReductionDetail | 50 |
ColorNoiseReductionSmoothness | 50 |
ColorSpace | sRGB |
ColorTemperature | 3600 |
ColorTransform | YCbCr |
Contrast2012 | +37 |
ConvertToGrayscale | True |
CreateDate (1) | 2014:11:21 22:44:15.52 |
CreateDate | 2014:11:21 22:44:15 |
CreatorTool | Adobe Photoshop Lightroom 5.7 (Windows) |
CustomRendered | Normal |
DateCreated (1) | 2014:11:21 |
DateCreated | 2014:11:21 22:44:15.52 |
DateTimeOriginal | 2014:11:21 22:44:15 |
DOF | 0.04 m (0.59 - 0.63 m) |
Exposure2012 | 0.00 |
ExposureCompensation | 0 |
ExposureMode | Auto |
ExposureProgram | Aperture-priority AE |
ExposureTime | 1/30 |
Firmware | 1.0.0 |
Flash | Off, Did not fire |
FlashCompensation | 0 |
FNumber | 5.6 |
FocalLength | 42.0 mm |
FocalLength35efl | 42.0 mm (35 mm equivalent: 66.6 mm) |
Format | image/jpeg |
FOV | 30.3 deg |
GrainAmount | 0 |
GrayMixerAqua | -19 |
GrayMixerBlue | +5 |
GrayMixerGreen | -23 |
GrayMixerMagenta | +4 |
GrayMixerOrange | -13 |
GrayMixerPurple | +12 |
GrayMixerRed | -6 |
GrayMixerYellow | -16 |
GreenHue | 0 |
GreenSaturation | 0 |
HasCrop | False |
HasExtendedXMP | 5C69C2CA4185EDB8E630E0D0407E91FA |
HasSettings | True |
Highlights2012 | 0 |
HyperfocalDistance | 16.61 m |
ImageHeight | 853 |
ImageNumber | 0 |
ImageSize | 1280x853 |
ImageWidth | 1280 |
ISO | 400 |
Lens | EF-S17-55mm f/2.8 IS USM |
LensID (1) | 240 |
LensID | Canon EF-S 17-55mm f/2.8 IS USM |
LensInfo | 17-55mm f/? |
LensManualDistortionAmount | 0 |
LensModel | EF-S17-55mm f/2.8 IS USM |
LensProfileEnable | 0 |
LensProfileSetup | LensDefaults |
LensSerialNumber | 0000046648 |
LightValue | 7.9 |
LuminanceSmoothing | 0 |
Make | Canon |
MaxApertureValue | 2.8 |
Megapixels | 1.1 |
MeteringMode | Multi-segment |
Model | Canon EOS 100D |
ModifyDate (1) | 2015:04:08 21:03:41+02:00 |
ModifyDate | 2015:04:08 21:03:41 |
PaintCorrectionActive | true |
PaintCorrectionAmount | 1.000000 |
PaintCorrectionBrightness | 0.000000 |
PaintCorrectionClarity2012 (1) | 0.419640 |
PaintCorrectionClarity2012 | 0.000000 |
PaintCorrectionContrast2012 (1) | 0.267860 |
PaintCorrectionContrast2012 | 0.000000 |
PaintCorrectionDefringe | 0.000000 |
PaintCorrectionExposure2012 (1) | 0.134000 |
PaintCorrectionExposure2012 (3) | -1.000000 |
PaintCorrectionExposure2012 (4) | 0.000000 |
PaintCorrectionExposure2012 (5) | -0.401750 |
PaintCorrectionExposure2012 | -0.267750 |
PaintCorrectionHighlights2012 (1) | 0.294640 |
PaintCorrectionHighlights2012 (3) | 0.000000 |
PaintCorrectionHighlights2012 (4) | -1.000000 |
PaintCorrectionHighlights2012 | -0.375000 |
PaintCorrectionHue | 233.000000 |
PaintCorrectionLuminanceNoise (1) | 0.196430 |
PaintCorrectionLuminanceNoise | 0.000000 |
PaintCorrectionMaskCenterWeight (1) | 0.078147 |
PaintCorrectionMaskCenterWeight (10) | 0.282207 |
PaintCorrectionMaskCenterWeight (19) | 0.066772 |
PaintCorrectionMaskCenterWeight (36) | 0.012855 |
PaintCorrectionMaskCenterWeight (44) | 0.068529 |
PaintCorrectionMaskCenterWeight (55) | 0.000000 |
PaintCorrectionMaskCenterWeight (58) | 0.164810 |
PaintCorrectionMaskCenterWeight | 0.011520 |
PaintCorrectionMaskFlow (1) | 0.448000 |
PaintCorrectionMaskFlow (13) | 1.000000 |
PaintCorrectionMaskFlow (19) | 0.544000 |
PaintCorrectionMaskFlow (23) | 0.921000 |
PaintCorrectionMaskFlow (27) | 0.089000 |
PaintCorrectionMaskFlow (33) | 0.479000 |
PaintCorrectionMaskFlow (37) | 0.426000 |
PaintCorrectionMaskFlow (42) | 0.417000 |
PaintCorrectionMaskFlow (50) | 0.212000 |
PaintCorrectionMaskFlow (54) | 0.768000 |
PaintCorrectionMaskFlow (58) | 0.956000 |
PaintCorrectionMaskFlow | 0.492000 |
PaintCorrectionMaskRadius (10) | 0.010388 |
PaintCorrectionMaskRadius (11) | 0.016819 |
PaintCorrectionMaskRadius (13) | 0.033638 |
PaintCorrectionMaskRadius (17) | 0.025817 |
PaintCorrectionMaskRadius (2) | 0.160153 |
PaintCorrectionMaskRadius (20) | 0.212219 |
PaintCorrectionMaskRadius (23) | 0.161589 |
PaintCorrectionMaskRadius (27) | 0.081107 |
PaintCorrectionMaskRadius (3) | 0.182597 |
PaintCorrectionMaskRadius (32) | 0.056547 |
PaintCorrectionMaskRadius (37) | 0.093916 |
PaintCorrectionMaskRadius (38) | 0.135610 |
PaintCorrectionMaskRadius (4) | 0.055123 |
PaintCorrectionMaskRadius (40) | 0.180381 |
PaintCorrectionMaskRadius (41) | 0.114567 |
PaintCorrectionMaskRadius (42) | 0.020911 |
PaintCorrectionMaskRadius (44) | 0.120917 |
PaintCorrectionMaskRadius (57) | 0.094351 |
PaintCorrectionMaskRadius (58) | 0.021908 |
PaintCorrectionMaskRadius (59) | 0.039526 |
PaintCorrectionMaskRadius (62) | 0.094242 |
PaintCorrectionMaskRadius (7) | 0.044862 |
PaintCorrectionMaskRadius | 0.045511 |
PaintCorrectionMaskValue (1) | 0.681000 |
PaintCorrectionMaskValue (10) | 1.000000 |
PaintCorrectionMaskValue (18) | 0.531000 |
PaintCorrectionMaskValue (22) | 0.695000 |
PaintCorrectionMaskValue (23) | 0.929000 |
PaintCorrectionMaskValue (29) | 0.000000 |
PaintCorrectionMaskValue | 0.487000 |
PaintCorrectionMaskWhat | Mask/Paint |
PaintCorrectionMoire | 0.000000 |
PaintCorrectionSaturation | 0.000000 |
PaintCorrectionShadows2012 (1) | 0.258930 |
PaintCorrectionShadows2012 | 0.000000 |
PaintCorrectionSharpness (1) | 0.303570 |
PaintCorrectionSharpness | 0.000000 |
PaintCorrectionTemperature | 0.000000 |
PaintCorrectionTint | 0.000000 |
PaintCorrectionWhat | Correction |
ParametricDarks | 0 |
ParametricHighlights | 0 |
ParametricHighlightSplit | 75 |
ParametricLights | 0 |
ParametricMidtoneSplit | 50 |
ParametricShadows | 0 |
ParametricShadowSplit | 25 |
PerspectiveAspect | 0 |
PerspectiveHorizontal | 0 |
PerspectiveRotate | 0.0 |
PerspectiveScale | 100 |
PerspectiveUpright | 0 |
PerspectiveVertical | 0 |
PostCropVignetteAmount | 0 |
ProcessVersion | 6.7 |
ProfileDescription | sRGB IEC61966-2.1 |
RecommendedExposureIndex | 400 |
RedHue | 0 |
RedSaturation | 0 |
ScaleFactor35efl | 1.6 |
SceneCaptureType | Standard |
SensitivityType | Recommended Exposure Index |
SerialNumber | 033071013138 |
Shadows2012 | +71 |
ShadowTint | 0 |
SharpenDetail | 25 |
SharpenEdgeMasking | 0 |
SharpenRadius | +1.0 |
Sharpness | 25 |
ShutterSpeed | 1/30 |
ShutterSpeedValue | 1/30 |
Software | Adobe Photoshop Lightroom 5.7 (Windows) |
SplitToningBalance | 0 |
SplitToningHighlightHue | 0 |
SplitToningHighlightSaturation | 0 |
SplitToningShadowHue | 0 |
SplitToningShadowSaturation | 0 |
Tint | +16 |
ToneCurve | 0, 0, 255, 255 |
ToneCurveBlue | 0, 0, 255, 255 |
ToneCurveGreen | 0, 0, 255, 255 |
ToneCurveName | Linear |
ToneCurveName2012 | Linear |
ToneCurvePV2012 | 0, 0, 255, 255 |
ToneCurvePV2012Blue | 0, 0, 255, 255 |
ToneCurvePV2012Green | 0, 0, 255, 255 |
ToneCurvePV2012Red | 0, 0, 255, 255 |
ToneCurveRed | 0, 0, 255, 255 |
Version | 8.7 |
VignetteAmount | 0 |
WhiteBalance (1) | As Shot |
WhiteBalance | Auto |
Whites2012 | +33 |