Felt | Verdi |
AlreadyApplied | True |
Aperture | 2.8 |
ApertureValue | 2.8 |
ApproximateFocusDistance | 5.62 |
AutoLateralCA | 1 |
AutoWhiteVersion | 134348800 |
BitsPerSample | 8 |
Blacks2012 | 0 |
BlueHue | 0 |
BlueSaturation | 0 |
CameraProfile | Camera Portrait |
CFAPattern | [Red,Green][Green,Blue] |
CircleOfConfusion | 0.030 mm |
Clarity2012 | -53 |
ColorComponents | 3 |
ColorNoiseReduction | 37 |
ColorNoiseReductionDetail | 50 |
ColorNoiseReductionSmoothness | 50 |
ColorTemperature | 5409 |
ColorTransform | YCbCr |
Contrast | Normal |
Contrast2012 | 0 |
ConvertToGrayscale | False |
CreateDate (1) | 2015:04:16 17:17:22.92 |
CreateDate | 2015:04:16 17:17:22 |
CreatorTool | Adobe Photoshop Lightroom 5.7.1 (Macintosh) |
CropAngle | 0 |
CropBottom | 0.790896 |
CropConstrainToWarp | 1 |
CropLeft | 0.269213 |
CropRight | 0.743135 |
CropTop | 0.316974 |
CustomRendered | Normal |
DateCreated (1) | 2015:04:16 |
DateCreated | 2015:04:16 17:17:22.92 |
DateTimeOriginal | 2015:04:16 17:17:22 |
DefringeGreenAmount | 0 |
DefringeGreenHueHi | 60 |
DefringeGreenHueLo | 40 |
DefringePurpleAmount | 0 |
DefringePurpleHueHi | 70 |
DefringePurpleHueLo | 30 |
DigitalZoomRatio | 1 |
DOF | 0.06 m (5.59 - 5.65 m) |
Exposure2012 | -0.27 |
ExposureCompensation | 0 |
ExposureMode | Manual |
ExposureProgram | Manual |
ExposureTime | 1/2500 |
Flash | No Flash |
FNumber | 2.8 |
FocalLength | 300.0 mm |
FocalLength35efl | 300.0 mm (35 mm equivalent: 300.0 mm) |
FocalLengthIn35mmFormat | 300 mm |
Format | image/jpeg |
FOV | 6.9 deg |
GainControl | Low gain up |
GradientBasedCorrActive | true |
GradientBasedCorrAmount | 1.000000 |
GradientBasedCorrBrightness | 0.000000 |
GradientBasedCorrClarity2012 | 0.000000 |
GradientBasedCorrContrast2012 | 0.001399 |
GradientBasedCorrDefringe | 0.000000 |
GradientBasedCorrExposure2012 (1) | -0.080202 |
GradientBasedCorrExposure2012 | -0.079559 |
GradientBasedCorrHighlights2012 | 0.000000 |
GradientBasedCorrHue | 166.352005 |
GradientBasedCorrLuminanceNoise | 0.000000 |
GradientBasedCorrMaskFullX (1) | 0.642503 |
GradientBasedCorrMaskFullX | 0.404724 |
GradientBasedCorrMaskFullY (1) | 0.460014 |
GradientBasedCorrMaskFullY | 0.490850 |
GradientBasedCorrMaskValue | 1.000000 |
GradientBasedCorrMaskWhat | Mask/Gradient |
GradientBasedCorrMaskZeroX (1) | 0.626154 |
GradientBasedCorrMaskZeroX | 0.499361 |
GradientBasedCorrMaskZeroY (1) | 0.458559 |
GradientBasedCorrMaskZeroY | 0.511315 |
GradientBasedCorrMoire | 0.000000 |
GradientBasedCorrSaturation | 0.000000 |
GradientBasedCorrShadows2012 | 0.002042 |
GradientBasedCorrSharpness | 0.001302 |
GradientBasedCorrTemperature (1) | 0.179589 |
GradientBasedCorrTemperature | -0.088360 |
GradientBasedCorrTint | 0.000000 |
GradientBasedCorrWhat | Correction |
GrainAmount | 0 |
GreenHue | 0 |
GreenSaturation | 0 |
HasCrop | True |
HasExtendedXMP | 8EB04FF0D47C295A7A06B6410E2062FC |
HasSettings | True |
Highlights2012 | 0 |
HueAdjustmentAqua | 0 |
HueAdjustmentBlue | 0 |
HueAdjustmentGreen | 0 |
HueAdjustmentMagenta | 0 |
HueAdjustmentOrange | 0 |
HueAdjustmentPurple | 0 |
HueAdjustmentRed | 0 |
HueAdjustmentYellow | 0 |
HyperfocalDistance | 1069.78 m |
ImageHeight | 1342 |
ImageNumber | 148063 |
ImageSize | 2017x1342 |
ImageWidth | 2017 |
ISO | 800 |
Lens | 120.0-300.0 mm f/2.8 |
LensID (1) | 141 |
LensID | Sigma 120-300mm F2.8 DG OS HSM Sports |
LensInfo | 120-300mm f/2.8 |
LensManualDistortionAmount | 0 |
LensModel | 120.0-300.0 mm f/2.8 |
LensProfileChromaticAberrationScale | 100 |
LensProfileDistortionScale | 100 |
LensProfileEnable | 1 |
LensProfileFilename | NIKON CORPORATION (SIGMA 120-300mm F2.8 DG OS HSM S013) - RAW.lcp |
LensProfileName | Adobe (SIGMA 120-300mm F2.8 DG OS HSM S013, NIKON CORPORATION) |
LensProfileSetup | LensDefaults |
LensProfileVignettingScale | 100 |
LightSource | Fine Weather |
LightValue | 11.3 |
LuminanceAdjustmentAqua | 0 |
LuminanceAdjustmentBlue | 0 |
LuminanceAdjustmentGreen | 0 |
LuminanceAdjustmentMagenta | 0 |
LuminanceAdjustmentOrange | 0 |
LuminanceAdjustmentPurple | 0 |
LuminanceAdjustmentRed | 0 |
LuminanceAdjustmentYellow | 0 |
LuminanceNoiseReductionContrast | 33 |
LuminanceNoiseReductionDetail | 50 |
LuminanceSmoothing | 33 |
Make | NIKON CORPORATION |
MaxApertureValue | 2.8 |
Megapixels | 2.7 |
MeteringMode | Multi-segment |
Model | NIKON D3S |
ModifyDate (1) | 2015:04:25 10:16:50+02:00 |
ModifyDate | 2015:04:25 10:16:50 |
PaintCorrectionActive | true |
PaintCorrectionAmount | 1.000000 |
PaintCorrectionBrightness | 0.000000 |
PaintCorrectionClarity2012 (1) | 0.742138 |
PaintCorrectionClarity2012 (2) | 0.000000 |
PaintCorrectionClarity2012 (3) | 0.532189 |
PaintCorrectionClarity2012 (4) | 0.482892 |
PaintCorrectionClarity2012 (5) | 0.316703 |
PaintCorrectionClarity2012 (7) | 0.325356 |
PaintCorrectionClarity2012 (9) | 0.412034 |
PaintCorrectionClarity2012 | 0.214477 |
PaintCorrectionContrast2012 (3) | 0.001399 |
PaintCorrectionContrast2012 (8) | 0.142059 |
PaintCorrectionContrast2012 | 0.314227 |
PaintCorrectionDefringe | 0.000000 |
PaintCorrectionExposure2012 (1) | 0.405862 |
PaintCorrectionExposure2012 (2) | -0.059879 |
PaintCorrectionExposure2012 (3) | -0.095332 |
PaintCorrectionExposure2012 (4) | 0.000000 |
PaintCorrectionExposure2012 (5) | -0.065953 |
PaintCorrectionExposure2012 (6) | 0.058742 |
PaintCorrectionExposure2012 (7) | 0.158772 |
PaintCorrectionExposure2012 (8) | -0.065133 |
PaintCorrectionExposure2012 | -0.007165 |
PaintCorrectionHighlights2012 (1) | -0.391911 |
PaintCorrectionHighlights2012 (2) | -0.729282 |
PaintCorrectionHighlights2012 | 0.000000 |
PaintCorrectionHue | 166.352005 |
PaintCorrectionLuminanceNoise | 0.000000 |
PaintCorrectionMaskCenterWeight (21) | 0.018186 |
PaintCorrectionMaskCenterWeight (44) | 0.011856 |
PaintCorrectionMaskCenterWeight | 0.115512 |
PaintCorrectionMaskFlow (34) | 1.000000 |
PaintCorrectionMaskFlow | 0.667718 |
PaintCorrectionMaskRadius (12) | 0.019788 |
PaintCorrectionMaskRadius (14) | 0.019461 |
PaintCorrectionMaskRadius (15) | 0.019488 |
PaintCorrectionMaskRadius (16) | 0.019498 |
PaintCorrectionMaskRadius (17) | 0.019548 |
PaintCorrectionMaskRadius (18) | 0.019532 |
PaintCorrectionMaskRadius (19) | 0.019537 |
PaintCorrectionMaskRadius (21) | 0.019560 |
PaintCorrectionMaskRadius (22) | 0.005152 |
PaintCorrectionMaskRadius (23) | 0.005155 |
PaintCorrectionMaskRadius (25) | 0.003437 |
PaintCorrectionMaskRadius (27) | 0.003436 |
PaintCorrectionMaskRadius (28) | 0.003439 |
PaintCorrectionMaskRadius (3) | 0.013271 |
PaintCorrectionMaskRadius (32) | 0.003438 |
PaintCorrectionMaskRadius (35) | 0.003441 |
PaintCorrectionMaskRadius (37) | 0.003440 |
PaintCorrectionMaskRadius (39) | 0.019477 |
PaintCorrectionMaskRadius (40) | 0.019457 |
PaintCorrectionMaskRadius (41) | 0.019473 |
PaintCorrectionMaskRadius (42) | 0.019474 |
PaintCorrectionMaskRadius (43) | 0.046653 |
PaintCorrectionMaskRadius (44) | 0.046651 |
PaintCorrectionMaskRadius (46) | 0.120395 |
PaintCorrectionMaskRadius (47) | 0.120628 |
PaintCorrectionMaskRadius | 0.120429 |
PaintCorrectionMaskValue | 1.000000 |
PaintCorrectionMaskWhat | Mask/Paint |
PaintCorrectionMoire | 0.000000 |
PaintCorrectionSaturation (9) | 0.311758 |
PaintCorrectionSaturation | 0.000000 |
PaintCorrectionShadows2012 (1) | 0.217316 |
PaintCorrectionShadows2012 | 0.002042 |
PaintCorrectionSharpness (4) | 0.344047 |
PaintCorrectionSharpness | 0.001302 |
PaintCorrectionTemperature (7) | -0.060522 |
PaintCorrectionTemperature (8) | -0.066802 |
PaintCorrectionTemperature | 0.000000 |
PaintCorrectionTint (7) | -0.065269 |
PaintCorrectionTint | 0.000000 |
PaintCorrectionWhat | Correction |
ParametricDarks | 0 |
ParametricHighlights | 0 |
ParametricHighlightSplit | 75 |
ParametricLights | 0 |
ParametricMidtoneSplit | 50 |
ParametricShadows | 0 |
ParametricShadowSplit | 25 |
PerspectiveAspect | 0 |
PerspectiveHorizontal | 0 |
PerspectiveRotate | 0.0 |
PerspectiveScale | 100 |
PerspectiveUpright | 0 |
PerspectiveVertical | 0 |
PostCropVignetteAmount | -27 |
PostCropVignetteFeather | 100 |
PostCropVignetteHighlightContrast | 0 |
PostCropVignetteMidpoint | 50 |
PostCropVignetteRoundness | 0 |
PostCropVignetteStyle | 1 |
ProcessVersion | 6.7 |
ProfileDescription | sRGB IEC61966-2.1 |
Rating | 5 |
RedHue | 0 |
RedSaturation | 0 |
Saturation (1) | +6 |
Saturation | Normal |
SaturationAdjustmentAqua | 0 |
SaturationAdjustmentBlue | 0 |
SaturationAdjustmentGreen | 0 |
SaturationAdjustmentMagenta | 0 |
SaturationAdjustmentOrange | 0 |
SaturationAdjustmentPurple | 0 |
SaturationAdjustmentRed | 0 |
SaturationAdjustmentYellow | 0 |
ScaleFactor35efl | 1.0 |
SceneCaptureType | Standard |
SceneType | Directly photographed |
SensingMethod | One-chip color area |
SerialNumber | 2058033 |
Shadows2012 | 0 |
ShadowTint | 0 |
SharpenDetail | 25 |
SharpenEdgeMasking | 0 |
SharpenRadius | +1.0 |
Sharpness (1) | 25 |
Sharpness | Normal |
ShutterSpeed | 1/2500 |
ShutterSpeedValue | 1/2500 |
Software | Adobe Photoshop Lightroom 5.7.1 (Macintosh) |
SplitToningBalance | 0 |
SplitToningHighlightHue | 0 |
SplitToningHighlightSaturation | 0 |
SplitToningShadowHue | 0 |
SplitToningShadowSaturation | 0 |
SubjectDistanceRange | Unknown |
Tint | +26 |
ToneCurve | 0, 0, 255, 255 |
ToneCurveBlue | 0, 0, 255, 255 |
ToneCurveGreen | 0, 0, 255, 255 |
ToneCurveName | Linear |
ToneCurveName2012 | Linear |
ToneCurvePV2012 | 0, 0, 255, 255 |
ToneCurvePV2012Blue | 0, 0, 255, 255 |
ToneCurvePV2012Green | 0, 0, 255, 255 |
ToneCurvePV2012Red | 0, 0, 255, 255 |
ToneCurveRed | 0, 0, 255, 255 |
Version | 8.7.1 |
Vibrance | +20 |
VignetteAmount | 0 |
WhiteBalance (1) | Custom |
WhiteBalance | Manual |
Whites2012 | +23 |