Felt | Verdi |
AlreadyApplied | True |
Aperture | 8.0 |
ApertureValue | 8.0 |
Artist | Frank Nilsen |
AutoLateralCA | 0 |
AutoWhiteVersion | 134348800 |
BitsPerSample | 8 |
Blacks2012 | -81 |
BlueHue | 0 |
BlueSaturation | 0 |
By-line | Frank Nilsen |
CameraProfile | Adobe Standard |
CircleOfConfusion | 0.019 mm |
Clarity2012 | 0 |
ColorComponents | 3 |
ColorNoiseReduction | 25 |
ColorNoiseReductionDetail | 50 |
ColorNoiseReductionSmoothness | 50 |
ColorSpace | sRGB |
ColorTemperature | 7100 |
ColorTransform | YCbCr |
Contrast2012 | 0 |
ConvertToGrayscale | False |
CreateDate (1) | 2015:04:05 16:20:33.34 |
CreateDate | 2015:04:05 16:20:33 |
Creator | Frank Nilsen |
CreatorTool | Adobe Photoshop Lightroom 6.0 (Windows) |
CropAngle | 0 |
CropBottom | 0.846154 |
CropConstrainToWarp | 0 |
CropLeft | 0 |
CropRight | 0.894118 |
CropTop | 0 |
CustomRendered | Normal |
DateCreated (1) | 2015:04:05 16:20:33.34 |
DateCreated | 2015:04:05 |
DateTimeOriginal | 2015:04:05 16:20:33 |
DefringeGreenAmount | 0 |
DefringeGreenHueHi | 60 |
DefringeGreenHueLo | 40 |
DefringePurpleAmount | 0 |
DefringePurpleHueHi | 70 |
DefringePurpleHueLo | 30 |
Exposure2012 | 0.00 |
ExposureCompensation | 0 |
ExposureMode | Manual |
ExposureProgram | Manual |
ExposureTime | 1/200 |
Firmware | 2.0.3 |
Flash | Off, Did not fire |
FlashCompensation | 0 |
FNumber | 8.0 |
FocalLength | 24.0 mm |
FocalLength35efl | 24.0 mm (35 mm equivalent: 37.7 mm) |
Format | image/jpeg |
FOV | 51.1 deg |
GrainAmount | 0 |
GreenHue | 0 |
GreenSaturation | 0 |
HasCrop | True |
HasExtendedXMP | 18F2D2DCDBF8CD345062C4BAEA3B06F6 |
HasSettings | True |
Highlights2012 | -100 |
HueAdjustmentAqua | 0 |
HueAdjustmentBlue | 0 |
HueAdjustmentGreen | 0 |
HueAdjustmentMagenta | 0 |
HueAdjustmentOrange | 0 |
HueAdjustmentPurple | 0 |
HueAdjustmentRed | 0 |
HueAdjustmentYellow | 0 |
HyperfocalDistance | 3.76 m |
ImageHeight | 2924 |
ImageNumber | 0 |
ImageSize | 4635x2924 |
ImageWidth | 4635 |
ISO | 100 |
Lens | 10-50mm |
LensID (1) | 37 |
LensID | Unknown (37) 10-50mm |
LensInfo | 10-50mm f/? |
LensManualDistortionAmount | 0 |
LensModel | 10-50mm |
LensProfileEnable | 0 |
LensProfileSetup | LensDefaults |
LightValue | 13.6 |
LuminanceAdjustmentAqua | 0 |
LuminanceAdjustmentBlue | 0 |
LuminanceAdjustmentGreen | 0 |
LuminanceAdjustmentMagenta | 0 |
LuminanceAdjustmentOrange | 0 |
LuminanceAdjustmentPurple | 0 |
LuminanceAdjustmentRed | 0 |
LuminanceAdjustmentYellow | 0 |
LuminanceSmoothing | 0 |
Make | Canon |
MaxApertureValue | 4.4 |
Megapixels | 13.6 |
MeteringMode | Spot |
Model | Canon EOS 7D |
ModifyDate (1) | 2015:04:26 12:26:42+02:00 |
ModifyDate | 2015:04:26 12:26:42 |
Orientation | Horizontal (normal) |
OwnerName | Frank Nilsen |
PaintCorrectionActive | true |
PaintCorrectionAmount | 1.000000 |
PaintCorrectionBrightness | 0.000000 |
PaintCorrectionClarity2012 (1) | 1.000000 |
PaintCorrectionClarity2012 | -1.000000 |
PaintCorrectionContrast2012 | 0.000000 |
PaintCorrectionDefringe | 0.000000 |
PaintCorrectionExposure2012 | 0.000000 |
PaintCorrectionHighlights2012 | 0.000000 |
PaintCorrectionHue | 240.000000 |
PaintCorrectionLuminanceNoise | 0.000000 |
PaintCorrectionMaskCenterWeight | 0.000000 |
PaintCorrectionMaskFlow | 1.000000 |
PaintCorrectionMaskRadius (1) | 0.021679 |
PaintCorrectionMaskRadius (10) | 0.007452 |
PaintCorrectionMaskRadius (11) | 0.007465 |
PaintCorrectionMaskRadius (12) | 0.007460 |
PaintCorrectionMaskRadius (13) | 0.007461 |
PaintCorrectionMaskRadius (14) | 0.007464 |
PaintCorrectionMaskRadius (15) | 0.007462 |
PaintCorrectionMaskRadius (16) | 0.007453 |
PaintCorrectionMaskRadius (17) | 0.007473 |
PaintCorrectionMaskRadius (18) | 0.007481 |
PaintCorrectionMaskRadius (19) | 0.007478 |
PaintCorrectionMaskRadius (2) | 0.021678 |
PaintCorrectionMaskRadius (20) | 0.008945 |
PaintCorrectionMaskRadius (21) | 0.008946 |
PaintCorrectionMaskRadius (22) | 0.008925 |
PaintCorrectionMaskRadius (23) | 0.008948 |
PaintCorrectionMaskRadius (24) | 0.008906 |
PaintCorrectionMaskRadius (25) | 0.008877 |
PaintCorrectionMaskRadius (27) | 0.008987 |
PaintCorrectionMaskRadius (28) | 0.031929 |
PaintCorrectionMaskRadius (29) | 0.031525 |
PaintCorrectionMaskRadius (3) | 0.021696 |
PaintCorrectionMaskRadius (30) | 0.078594 |
PaintCorrectionMaskRadius (31) | 0.077612 |
PaintCorrectionMaskRadius (32) | 0.080397 |
PaintCorrectionMaskRadius (33) | 0.080761 |
PaintCorrectionMaskRadius (34) | 0.032886 |
PaintCorrectionMaskRadius (35) | 0.032871 |
PaintCorrectionMaskRadius (36) | 0.032845 |
PaintCorrectionMaskRadius (37) | 0.032291 |
PaintCorrectionMaskRadius (38) | 0.032475 |
PaintCorrectionMaskRadius (4) | 0.011768 |
PaintCorrectionMaskRadius (5) | 0.006776 |
PaintCorrectionMaskRadius (6) | 0.006774 |
PaintCorrectionMaskRadius (7) | 0.007445 |
PaintCorrectionMaskRadius (8) | 0.007437 |
PaintCorrectionMaskRadius (9) | 0.007430 |
PaintCorrectionMaskRadius | 0.016612 |
PaintCorrectionMaskValue (26) | 1.000000 |
PaintCorrectionMaskValue | 0.000000 |
PaintCorrectionMaskWhat | Mask/Paint |
PaintCorrectionMoire | 0.000000 |
PaintCorrectionSaturation | 0.000000 |
PaintCorrectionShadows2012 | 0.000000 |
PaintCorrectionSharpness | 0.000000 |
PaintCorrectionTemperature | 0.000000 |
PaintCorrectionTint | 0.000000 |
PaintCorrectionWhat | Correction |
ParametricDarks | 0 |
ParametricHighlights | 0 |
ParametricHighlightSplit | 75 |
ParametricLights | 0 |
ParametricMidtoneSplit | 50 |
ParametricShadows | 0 |
ParametricShadowSplit | 25 |
PerspectiveAspect | 0 |
PerspectiveHorizontal | 0 |
PerspectiveRotate | 0.0 |
PerspectiveScale | 100 |
PerspectiveUpright | 1 |
PerspectiveVertical | 0 |
PostCropVignetteAmount | 0 |
ProcessVersion | 6.7 |
ProfileDescription | sRGB IEC61966-2.1 |
RawFileName | IMG_0120.jpg |
RecommendedExposureIndex | 100 |
RedHue | 0 |
RedSaturation | 0 |
Saturation | +24 |
SaturationAdjustmentAqua | 0 |
SaturationAdjustmentBlue | 0 |
SaturationAdjustmentGreen | 0 |
SaturationAdjustmentMagenta | 0 |
SaturationAdjustmentOrange | 0 |
SaturationAdjustmentPurple | 0 |
SaturationAdjustmentRed | 0 |
SaturationAdjustmentYellow | 0 |
ScaleFactor35efl | 1.6 |
SceneCaptureType | Standard |
SensitivityType | Recommended Exposure Index |
SerialNumber | 0280105521 |
Shadows2012 | +100 |
ShadowTint | 0 |
SharpenDetail | 25 |
SharpenEdgeMasking | 0 |
SharpenRadius | +1.0 |
Sharpness | 25 |
ShutterSpeed | 1/200 |
ShutterSpeedValue | 1/200 |
Software | Adobe Photoshop Lightroom 6.0 (Windows) |
SplitToningBalance | 0 |
SplitToningHighlightHue | 0 |
SplitToningHighlightSaturation | 0 |
SplitToningShadowHue | 0 |
SplitToningShadowSaturation | 0 |
Tint | +7 |
ToneCurve | 0, 0, 255, 255 |
ToneCurveBlue | 0, 0, 255, 255 |
ToneCurveGreen | 0, 0, 255, 255 |
ToneCurveName | Linear |
ToneCurveName2012 | Linear |
ToneCurvePV2012 | 0, 0, 255, 255 |
ToneCurvePV2012Blue | 0, 0, 255, 255 |
ToneCurvePV2012Green | 0, 0, 255, 255 |
ToneCurvePV2012Red | 0, 0, 255, 255 |
ToneCurveRed | 0, 0, 255, 255 |
Version | 9.0 |
Vibrance | 0 |
VignetteAmount | 0 |
WhiteBalance (1) | As Shot |
WhiteBalance | Manual |
Whites2012 | +26 |