Felt | Verdi |
AlreadyApplied | True |
Aperture | 10.0 |
ApertureValue | 10.0 |
ApproximateFocusDistance | 1.42 |
Artist | Oskar Andersen 4799296672 |
AutoLateralCA | 0 |
BitsPerSample | 8 |
Blacks2012 | -55 |
BlueHue | 0 |
BlueSaturation | 0 |
By-line | Oskar Andersen 4799296672 |
CameraProfile | Embedded |
CircleOfConfusion | 0.030 mm |
Clarity2012 | 0 |
ColorComponents | 3 |
ColorNoiseReduction | 0 |
ColorTransform | YCbCr |
Contrast2012 | +44 |
ConvertToGrayscale | False |
CreateDate (1) | 2015:04:26 13:08:02.00 |
CreateDate | 2015:04:26 13:08:02 |
Creator | Oskar Andersen 4799296672 |
CreatorTool | Adobe Photoshop Lightroom 4.4 (Windows) |
CropAngle | 0 |
CropBottom | 0.678191 |
CropConstrainToWarp | 0 |
CropHeight | 1484 |
CropLeft | 0.258865 |
CropRight | 0.663121 |
CropTop | 0.281915 |
CropUnit | pixels |
CropWidth | 2270 |
CustomRendered | Normal |
DateCreated (1) | 2015:04:26 |
DateCreated | 2015:04:26 13:08:02.00 |
DateTimeOriginal | 2015:04:26 13:08:02 |
DefringeGreenAmount | 0 |
DefringeGreenHueHi | 60 |
DefringeGreenHueLo | 40 |
DefringePurpleAmount | 0 |
DefringePurpleHueHi | 70 |
DefringePurpleHueLo | 30 |
DOF | 0.03 m (1.41 - 1.43 m) |
Exposure2012 | -0.18 |
ExposureCompensation | -1/3 |
ExposureMode | Auto |
ExposureProgram | Aperture-priority AE |
ExposureTime | 1/25 |
Firmware | 1.1.2 |
Flash | Off, Did not fire |
FlashCompensation | 0 |
FNumber | 10.0 |
FocalLength | 200.0 mm |
FocalLength35efl | 200.0 mm (35 mm equivalent: 199.8 mm) |
Format | image/jpeg |
FOV | 10.3 deg |
GrainAmount | 0 |
GreenHue | 0 |
GreenSaturation | 0 |
HasCrop | True |
HasSettings | True |
Highlights2012 | -76 |
HueAdjustmentAqua | -25 |
HueAdjustmentBlue | +5 |
HueAdjustmentGreen | +36 |
HueAdjustmentMagenta | +100 |
HueAdjustmentOrange | -100 |
HueAdjustmentPurple | -29 |
HueAdjustmentRed | -40 |
HueAdjustmentYellow | -86 |
HyperfocalDistance | 133.01 m |
ImageHeight | 1484 |
ImageNumber | 0 |
ImageSize | 2270x1484 |
ImageWidth | 2270 |
IncrementalTemperature | +10 |
IncrementalTint | 0 |
ISO | 100 |
Lens | EF70-200mm f/2.8L IS USM |
LensID (1) | 224 |
LensID | Canon EF 70-200mm f/2.8L IS USM |
LensInfo | 70-200mm f/? |
LensManualDistortionAmount | 0 |
LensModel | EF70-200mm f/2.8L IS USM |
LensProfileEnable | 0 |
LensProfileSetup | LensDefaults |
LightValue | 11.3 |
LuminanceAdjustmentAqua | -13 |
LuminanceAdjustmentBlue | +8 |
LuminanceAdjustmentGreen | +13 |
LuminanceAdjustmentMagenta | 0 |
LuminanceAdjustmentOrange | +32 |
LuminanceAdjustmentPurple | +1 |
LuminanceAdjustmentRed | +15 |
LuminanceAdjustmentYellow | +22 |
LuminanceSmoothing | 0 |
Make | Canon |
MaxApertureValue | 2.8 |
Megapixels | 3.4 |
MeteringMode | Multi-segment |
Model | Canon EOS-1Ds Mark III |
ModifyDate (1) | 2015:04:26 16:48:54+02:00 |
ModifyDate | 2015:04:26 16:48:54 |
OwnerName | Oskar Andersen 4799296672 |
ParametricDarks | 0 |
ParametricHighlights | 0 |
ParametricHighlightSplit | 75 |
ParametricLights | 0 |
ParametricMidtoneSplit | 50 |
ParametricShadows | 0 |
ParametricShadowSplit | 25 |
PerspectiveHorizontal | 0 |
PerspectiveRotate | 0.0 |
PerspectiveScale | 100 |
PerspectiveVertical | 0 |
PostCropVignetteAmount | 0 |
ProcessVersion | 6.7 |
ProfileDescription | sRGB IEC61966-2.1 |
RedHue | 0 |
RedSaturation | 0 |
Saturation | 0 |
SaturationAdjustmentAqua | +8 |
SaturationAdjustmentBlue | -28 |
SaturationAdjustmentGreen | -1 |
SaturationAdjustmentMagenta | +22 |
SaturationAdjustmentOrange | +66 |
SaturationAdjustmentPurple | -6 |
SaturationAdjustmentRed | +44 |
SaturationAdjustmentYellow | +45 |
ScaleFactor35efl | 1.0 |
SceneCaptureType | Standard |
SerialNumber | 607829 |
Shadows2012 | -2 |
ShadowTint | 0 |
SharpenDetail | 34 |
SharpenEdgeMasking | 38 |
SharpenRadius | +2.7 |
Sharpness | 150 |
ShutterSpeed | 1/25 |
ShutterSpeedValue | 1/25 |
Software | Adobe Photoshop Lightroom 4.4 (Windows) |
SplitToningBalance | 0 |
SplitToningHighlightHue | 0 |
SplitToningHighlightSaturation | 0 |
SplitToningShadowHue | 0 |
SplitToningShadowSaturation | 0 |
ToneCurveName2012 | Linear |
ToneCurvePV2012 | 0, 0, 255, 255 |
ToneCurvePV2012Blue | 0, 0, 255, 255 |
ToneCurvePV2012Green | 0, 0, 255, 255 |
ToneCurvePV2012Red | 0, 0, 255, 255 |
Version | 7.4 |
Vibrance | 0 |
VignetteAmount | 0 |
WhiteBalance (1) | Custom |
WhiteBalance | Auto |
Whites2012 | -22 |