Felt | Verdi |
AlreadyApplied | True |
Aperture | 10.0 |
ApertureValue | 10.0 |
ApproximateFocusDistance | 6.84 |
Artist | Oskar Andersen 4799296672 |
AutoLateralCA | 0 |
BitsPerSample | 8 |
Blacks2012 | +12 |
BlueHue | -66 |
BlueSaturation | +59 |
By-line | Oskar Andersen 4799296672 |
CameraProfile | Embedded |
CircleOfConfusion | 0.030 mm |
Clarity2012 | +32 |
ColorComponents | 3 |
ColorNoiseReduction | 0 |
ColorTransform | YCbCr |
Contrast2012 | +84 |
ConvertToGrayscale | False |
CreateDate (1) | 2015:04:26 12:17:57.00 |
CreateDate | 2015:04:26 12:17:57 |
Creator | Oskar Andersen 4799296672 |
CreatorTool | Adobe Photoshop Lightroom 4.4 (Windows) |
CropAngle | 0 |
CropBottom | 0.93883 |
CropConstrainToWarp | 0 |
CropHeight | 3276 |
CropLeft | 0.062057 |
CropRight | 0.969858 |
CropTop | 0.06383 |
CropUnit | pixels |
CropWidth | 5098 |
CustomRendered | Normal |
DateCreated (1) | 2015:04:26 |
DateCreated | 2015:04:26 12:17:57.00 |
DateTimeOriginal | 2015:04:26 12:17:57 |
DefringeGreenAmount | 0 |
DefringeGreenHueHi | 60 |
DefringeGreenHueLo | 40 |
DefringePurpleAmount | 0 |
DefringePurpleHueHi | 70 |
DefringePurpleHueLo | 30 |
DOF | 6.87 m (4.83 - 11.70 m) |
Exposure2012 | -0.55 |
ExposureCompensation | -1 |
ExposureMode | Auto |
ExposureProgram | Aperture-priority AE |
ExposureTime | 1/15 |
Firmware | 1.1.2 |
Flash | Off, Did not fire |
FlashCompensation | 0 |
FNumber | 10.0 |
FocalLength | 70.0 mm |
FocalLength35efl | 70.0 mm (35 mm equivalent: 69.9 mm) |
Format | image/jpeg |
FOV | 28.9 deg |
GrainAmount | 0 |
GreenHue | 0 |
GreenSaturation | 0 |
HasCrop | True |
HasSettings | True |
Highlights2012 | 0 |
HueAdjustmentAqua | -22 |
HueAdjustmentBlue | 0 |
HueAdjustmentGreen | +12 |
HueAdjustmentMagenta | -6 |
HueAdjustmentOrange | -100 |
HueAdjustmentPurple | +87 |
HueAdjustmentRed | +100 |
HueAdjustmentYellow | +15 |
HyperfocalDistance | 16.29 m |
ImageHeight | 3276 |
ImageNumber | 0 |
ImageSize | 5098x3276 |
ImageWidth | 5098 |
IncrementalTemperature | -7 |
IncrementalTint | 0 |
ISO | 100 |
Lens | EF70-200mm f/2.8L IS USM |
LensID (1) | 224 |
LensID | Canon EF 70-200mm f/2.8L IS USM |
LensInfo | 70-200mm f/? |
LensManualDistortionAmount | +43 |
LensModel | EF70-200mm f/2.8L IS USM |
LensProfileEnable | 0 |
LensProfileSetup | LensDefaults |
LightValue | 10.6 |
LuminanceAdjustmentAqua | -9 |
LuminanceAdjustmentBlue | 0 |
LuminanceAdjustmentGreen | +19 |
LuminanceAdjustmentMagenta | +33 |
LuminanceAdjustmentOrange | +22 |
LuminanceAdjustmentPurple | +100 |
LuminanceAdjustmentRed | +21 |
LuminanceAdjustmentYellow | -27 |
LuminanceNoiseReductionContrast | 46 |
LuminanceNoiseReductionDetail | 50 |
LuminanceSmoothing | 23 |
Make | Canon |
MaxApertureValue | 2.8 |
Megapixels | 16.7 |
MeteringMode | Multi-segment |
Model | Canon EOS-1Ds Mark III |
ModifyDate (1) | 2015:04:27 19:13:21+02:00 |
ModifyDate | 2015:04:27 19:13:21 |
OwnerName | Oskar Andersen 4799296672 |
PaintCorrectionActive | true |
PaintCorrectionAmount | 1.000000 |
PaintCorrectionBrightness | 0.000000 |
PaintCorrectionClarity2012 | 1.000000 |
PaintCorrectionContrast2012 | 1.000000 |
PaintCorrectionDefringe | 0.045050 |
PaintCorrectionExposure2012 (1) | -1.000000 |
PaintCorrectionExposure2012 | 1.000000 |
PaintCorrectionHighlights2012 | -0.129630 |
PaintCorrectionHue (1) | 235.000000 |
PaintCorrectionHue (2) | 176.000000 |
PaintCorrectionHue | 302.000000 |
PaintCorrectionLuminanceNoise | 0.000000 |
PaintCorrectionMaskCenterWeight | 0.000000 |
PaintCorrectionMaskFlow | 0.550000 |
PaintCorrectionMaskRadius (1) | 0.127695 |
PaintCorrectionMaskRadius (10) | 0.142345 |
PaintCorrectionMaskRadius (12) | 0.142710 |
PaintCorrectionMaskRadius (13) | 0.142660 |
PaintCorrectionMaskRadius (14) | 0.142800 |
PaintCorrectionMaskRadius (15) | 0.142049 |
PaintCorrectionMaskRadius (16) | 0.140649 |
PaintCorrectionMaskRadius (17) | 0.141875 |
PaintCorrectionMaskRadius (18) | 0.141656 |
PaintCorrectionMaskRadius (19) | 0.141385 |
PaintCorrectionMaskRadius (2) | 0.104274 |
PaintCorrectionMaskRadius (20) | 0.141279 |
PaintCorrectionMaskRadius (21) | 0.141259 |
PaintCorrectionMaskRadius (22) | 0.141069 |
PaintCorrectionMaskRadius (23) | 0.140390 |
PaintCorrectionMaskRadius (24) | 0.139737 |
PaintCorrectionMaskRadius (25) | 0.139267 |
PaintCorrectionMaskRadius (26) | 0.139356 |
PaintCorrectionMaskRadius (27) | 0.139103 |
PaintCorrectionMaskRadius (28) | 0.139275 |
PaintCorrectionMaskRadius (29) | 0.138604 |
PaintCorrectionMaskRadius (3) | 0.137095 |
PaintCorrectionMaskRadius (31) | 0.137656 |
PaintCorrectionMaskRadius (32) | 0.138043 |
PaintCorrectionMaskRadius (33) | 0.138167 |
PaintCorrectionMaskRadius (34) | 0.138570 |
PaintCorrectionMaskRadius (35) | 0.138321 |
PaintCorrectionMaskRadius (36) | 0.138174 |
PaintCorrectionMaskRadius (37) | 0.137280 |
PaintCorrectionMaskRadius (38) | 0.137432 |
PaintCorrectionMaskRadius (39) | 0.137234 |
PaintCorrectionMaskRadius (4) | 0.138817 |
PaintCorrectionMaskRadius (40) | 0.137236 |
PaintCorrectionMaskRadius (41) | 0.139743 |
PaintCorrectionMaskRadius (42) | 0.138721 |
PaintCorrectionMaskRadius (43) | 0.135920 |
PaintCorrectionMaskRadius (44) | 0.134961 |
PaintCorrectionMaskRadius (45) | 0.141697 |
PaintCorrectionMaskRadius (46) | 0.118126 |
PaintCorrectionMaskRadius (47) | 0.045418 |
PaintCorrectionMaskRadius (48) | 0.045853 |
PaintCorrectionMaskRadius (49) | 0.046050 |
PaintCorrectionMaskRadius (5) | 0.141028 |
PaintCorrectionMaskRadius (50) | 0.046123 |
PaintCorrectionMaskRadius (51) | 0.039417 |
PaintCorrectionMaskRadius (52) | 0.039616 |
PaintCorrectionMaskRadius (53) | 0.039705 |
PaintCorrectionMaskRadius (54) | 0.039786 |
PaintCorrectionMaskRadius (55) | 0.039697 |
PaintCorrectionMaskRadius (56) | 0.038591 |
PaintCorrectionMaskRadius (57) | 0.038412 |
PaintCorrectionMaskRadius (58) | 0.038155 |
PaintCorrectionMaskRadius (6) | 0.141359 |
PaintCorrectionMaskRadius (60) | 0.038096 |
PaintCorrectionMaskRadius (61) | 0.038174 |
PaintCorrectionMaskRadius (62) | 0.038310 |
PaintCorrectionMaskRadius (63) | 0.038464 |
PaintCorrectionMaskRadius (64) | 0.038550 |
PaintCorrectionMaskRadius (7) | 0.142048 |
PaintCorrectionMaskRadius (8) | 0.142116 |
PaintCorrectionMaskRadius (9) | 0.142224 |
PaintCorrectionMaskRadius | 0.038658 |
PaintCorrectionMaskValue | 0.580000 |
PaintCorrectionMaskWhat | Mask/Paint |
PaintCorrectionMoire | 0.000000 |
PaintCorrectionSaturation (2) | 0.420000 |
PaintCorrectionSaturation (3) | 0.425930 |
PaintCorrectionSaturation (4) | 0.090000 |
PaintCorrectionSaturation | 0.050000 |
PaintCorrectionShadows2012 | 0.129630 |
PaintCorrectionSharpness | -0.351850 |
PaintCorrectionTemperature | -0.562130 |
PaintCorrectionTint | -0.203700 |
PaintCorrectionWhat | Correction |
ParametricDarks | 0 |
ParametricHighlights | 0 |
ParametricHighlightSplit | 75 |
ParametricLights | 0 |
ParametricMidtoneSplit | 50 |
ParametricShadows | 0 |
ParametricShadowSplit | 25 |
PerspectiveHorizontal | 0 |
PerspectiveRotate | 0.0 |
PerspectiveScale | 100 |
PerspectiveVertical | 0 |
PostCropVignetteAmount | -100 |
PostCropVignetteFeather | 100 |
PostCropVignetteHighlightContrast | 100 |
PostCropVignetteMidpoint | 0 |
PostCropVignetteRoundness | +91 |
PostCropVignetteStyle | 1 |
ProcessVersion | 6.7 |
ProfileDescription | sRGB IEC61966-2.1 |
RedHue | 0 |
RedSaturation | 0 |
Saturation | 0 |
SaturationAdjustmentAqua | +2 |
SaturationAdjustmentBlue | 0 |
SaturationAdjustmentGreen | -58 |
SaturationAdjustmentMagenta | +21 |
SaturationAdjustmentOrange | +32 |
SaturationAdjustmentPurple | +100 |
SaturationAdjustmentRed | +100 |
SaturationAdjustmentYellow | +64 |
ScaleFactor35efl | 1.0 |
SceneCaptureType | Standard |
SerialNumber | 607829 |
Shadows2012 | 0 |
ShadowTint | 0 |
SharpenDetail | 62 |
SharpenEdgeMasking | 0 |
SharpenRadius | +1.9 |
Sharpness | 99 |
ShutterSpeed | 1/15 |
ShutterSpeedValue | 1/15 |
Software | Adobe Photoshop Lightroom 4.4 (Windows) |
SplitToningBalance | +41 |
SplitToningHighlightHue | 103 |
SplitToningHighlightSaturation | 0 |
SplitToningShadowHue | 0 |
SplitToningShadowSaturation | 12 |
ToneCurveName2012 | Linear |
ToneCurvePV2012 | 0, 0, 255, 255 |
ToneCurvePV2012Blue | 0, 0, 255, 255 |
ToneCurvePV2012Green | 0, 0, 255, 255 |
ToneCurvePV2012Red | 0, 0, 255, 255 |
Version | 7.4 |
Vibrance | 0 |
VignetteAmount | 0 |
WhiteBalance (1) | Custom |
WhiteBalance | Auto |
Whites2012 | +35 |