Felt | Verdi |
AlreadyApplied | True |
Aperture | 13.0 |
ApertureValue | 13.0 |
ApproximateFocusDistance | 1.35 |
AutoLateralCA | 1 |
AutoWhiteVersion | 134348800 |
BitsPerSample | 8 |
Blacks2012 | -6 |
BlueHue | 0 |
BlueSaturation | 0 |
CameraProfile | Embedded |
CircleOfConfusion | 0.006 mm |
Clarity2012 | 0 |
ColorComponents | 3 |
ColorNoiseReduction | 0 |
ColorTemperature | 5303 |
ColorTransform | YCbCr |
Contrast2012 | 0 |
ConvertToGrayscale | False |
Copyright | Thomas Ebeltoft |
CopyrightNotice | Thomas Ebeltoft |
CreateDate | 2015:05:02 22:35:38 |
CreatorTool | Adobe Photoshop Lightroom 5.7 (Windows) |
CropAngle | 0 |
CropBottom | 0.938289 |
CropConstrainToWarp | 0 |
CropLeft | 0.031546 |
CropRight | 0.952681 |
CropTop | 0 |
CustomRendered | Normal |
DateCreated (1) | 2015:05:02 |
DateCreated | 2015:05:02 22:35:38.053 |
DateTimeOriginal | 2015:05:02 22:35:38 |
DefringeGreenAmount | 0 |
DefringeGreenHueHi | 60 |
DefringeGreenHueLo | 40 |
DefringePurpleAmount | 0 |
DefringePurpleHueHi | 70 |
DefringePurpleHueLo | 30 |
DOF | 1.08 m (1.00 - 2.08 m) |
Exposure2012 | 0.00 |
ExposureCompensation | 0 |
ExposureMode | Manual |
ExposureProgram | Manual |
ExposureTime | 0.5 |
Firmware | 1.1.1 |
Flash | Off, Did not fire |
FlashCompensation | 0 |
FNumber | 13.0 |
FocalLength | 17.0 mm |
FocalLength35efl | 17.0 mm (35 mm equivalent: 87.5 mm) |
Format | image/jpeg |
FOV | 23.2 deg |
GrainAmount | 0 |
GreenHue | 0 |
GreenSaturation | 0 |
HasCrop | True |
HasExtendedXMP | 58BB3DC4DB3EDE2EA8E3D54D32A28A92 |
HasSettings | True |
Highlights2012 | -100 |
HueAdjustmentAqua | 0 |
HueAdjustmentBlue | 0 |
HueAdjustmentGreen | 0 |
HueAdjustmentMagenta | 0 |
HueAdjustmentOrange | 0 |
HueAdjustmentPurple | 0 |
HueAdjustmentRed | 0 |
HueAdjustmentYellow | 0 |
HyperfocalDistance | 3.81 m |
ImageHeight | 1024 |
ImageNumber | 0 |
ImageSize | 1788x1024 |
ImageWidth | 1788 |
ISO | 100 |
Lens | EF-S17-55mm f/2.8 IS USM |
LensID (1) | 240 |
LensID | Canon EF-S 17-55mm f/2.8 IS USM |
LensInfo | 17-55mm f/? |
LensManualDistortionAmount | 0 |
LensModel | EF-S17-55mm f/2.8 IS USM |
LensProfileChromaticAberrationScale | 100 |
LensProfileDistortionScale | 100 |
LensProfileEnable | 1 |
LensProfileFilename | Canon EOS 50D (Canon EF-S 17-55mm f2.8 IS USM).lcp |
LensProfileName | Adobe (Canon EF-S 17-55mm f/2.8 IS USM) |
LensProfileSetup | LensDefaults |
LensProfileVignettingScale | 100 |
LensSerialNumber | 0000046648 |
LightValue | 8.4 |
LuminanceAdjustmentAqua | 0 |
LuminanceAdjustmentBlue | 0 |
LuminanceAdjustmentGreen | 0 |
LuminanceAdjustmentMagenta | -12 |
LuminanceAdjustmentOrange | -15 |
LuminanceAdjustmentPurple | -10 |
LuminanceAdjustmentRed | -12 |
LuminanceAdjustmentYellow | -22 |
LuminanceSmoothing | 0 |
Make | Canon |
MaxApertureValue | 2.8 |
Megapixels | 1.8 |
MeteringMode | Partial |
Model | Canon EOS 70D |
ModifyDate (1) | 2015:05:04 12:31:41+02:00 |
ModifyDate | 2015:05:04 12:31:41 |
PaintCorrectionActive | true |
PaintCorrectionAmount | 1.000000 |
PaintCorrectionBrightness | 0.000000 |
PaintCorrectionClarity2012 (1) | -0.973210 |
PaintCorrectionClarity2012 (2) | 0.098210 |
PaintCorrectionClarity2012 | 0.000000 |
PaintCorrectionContrast2012 | 0.000000 |
PaintCorrectionDefringe | 0.000000 |
PaintCorrectionExposure2012 | 0.000000 |
PaintCorrectionHighlights2012 (2) | -0.571430 |
PaintCorrectionHighlights2012 | 0.000000 |
PaintCorrectionHue | 233.000000 |
PaintCorrectionLuminanceNoise | 0.000000 |
PaintCorrectionMaskCenterWeight | 0.204522 |
PaintCorrectionMaskFlow (17) | 0.917000 |
PaintCorrectionMaskFlow | 0.579000 |
PaintCorrectionMaskRadius (10) | 0.027658 |
PaintCorrectionMaskRadius (100) | 0.016973 |
PaintCorrectionMaskRadius (101) | 0.016991 |
PaintCorrectionMaskRadius (102) | 0.017143 |
PaintCorrectionMaskRadius (103) | 0.017106 |
PaintCorrectionMaskRadius (104) | 0.017125 |
PaintCorrectionMaskRadius (105) | 0.016974 |
PaintCorrectionMaskRadius (106) | 0.017090 |
PaintCorrectionMaskRadius (107) | 0.016971 |
PaintCorrectionMaskRadius (11) | 0.027975 |
PaintCorrectionMaskRadius (12) | 0.013957 |
PaintCorrectionMaskRadius (13) | 0.013786 |
PaintCorrectionMaskRadius (14) | 0.013868 |
PaintCorrectionMaskRadius (15) | 0.013784 |
PaintCorrectionMaskRadius (17) | 0.014038 |
PaintCorrectionMaskRadius (18) | 0.014090 |
PaintCorrectionMaskRadius (19) | 0.014054 |
PaintCorrectionMaskRadius (2) | 0.031410 |
PaintCorrectionMaskRadius (20) | 0.014035 |
PaintCorrectionMaskRadius (21) | 0.014032 |
PaintCorrectionMaskRadius (22) | 0.014107 |
PaintCorrectionMaskRadius (23) | 0.014144 |
PaintCorrectionMaskRadius (24) | 0.010627 |
PaintCorrectionMaskRadius (26) | 0.010649 |
PaintCorrectionMaskRadius (27) | 0.010566 |
PaintCorrectionMaskRadius (28) | 0.017304 |
PaintCorrectionMaskRadius (29) | 0.017002 |
PaintCorrectionMaskRadius (30) | 0.013831 |
PaintCorrectionMaskRadius (31) | 0.010670 |
PaintCorrectionMaskRadius (32) | 0.010653 |
PaintCorrectionMaskRadius (33) | 0.010584 |
PaintCorrectionMaskRadius (34) | 0.010572 |
PaintCorrectionMaskRadius (35) | 0.010519 |
PaintCorrectionMaskRadius (36) | 0.007336 |
PaintCorrectionMaskRadius (37) | 0.010460 |
PaintCorrectionMaskRadius (38) | 0.010491 |
PaintCorrectionMaskRadius (39) | 0.010664 |
PaintCorrectionMaskRadius (4) | 0.031635 |
PaintCorrectionMaskRadius (40) | 0.010642 |
PaintCorrectionMaskRadius (41) | 0.010657 |
PaintCorrectionMaskRadius (42) | 0.010787 |
PaintCorrectionMaskRadius (43) | 0.020375 |
PaintCorrectionMaskRadius (45) | 0.020819 |
PaintCorrectionMaskRadius (46) | 0.020855 |
PaintCorrectionMaskRadius (47) | 0.020471 |
PaintCorrectionMaskRadius (48) | 0.027188 |
PaintCorrectionMaskRadius (49) | 0.030962 |
PaintCorrectionMaskRadius (5) | 0.023804 |
PaintCorrectionMaskRadius (50) | 0.030719 |
PaintCorrectionMaskRadius (51) | 0.031365 |
PaintCorrectionMaskRadius (52) | 0.028013 |
PaintCorrectionMaskRadius (53) | 0.027935 |
PaintCorrectionMaskRadius (54) | 0.027912 |
PaintCorrectionMaskRadius (55) | 0.027972 |
PaintCorrectionMaskRadius (56) | 0.027627 |
PaintCorrectionMaskRadius (57) | 0.027934 |
PaintCorrectionMaskRadius (58) | 0.027596 |
PaintCorrectionMaskRadius (59) | 0.027515 |
PaintCorrectionMaskRadius (6) | 0.016970 |
PaintCorrectionMaskRadius (60) | 0.027484 |
PaintCorrectionMaskRadius (61) | 0.027810 |
PaintCorrectionMaskRadius (62) | 0.027846 |
PaintCorrectionMaskRadius (63) | 0.027435 |
PaintCorrectionMaskRadius (64) | 0.028042 |
PaintCorrectionMaskRadius (65) | 0.027990 |
PaintCorrectionMaskRadius (66) | 0.028090 |
PaintCorrectionMaskRadius (67) | 0.028099 |
PaintCorrectionMaskRadius (68) | 0.027486 |
PaintCorrectionMaskRadius (69) | 0.020462 |
PaintCorrectionMaskRadius (7) | 0.020455 |
PaintCorrectionMaskRadius (70) | 0.016977 |
PaintCorrectionMaskRadius (71) | 0.016993 |
PaintCorrectionMaskRadius (72) | 0.023877 |
PaintCorrectionMaskRadius (73) | 0.024021 |
PaintCorrectionMaskRadius (74) | 0.024159 |
PaintCorrectionMaskRadius (75) | 0.024222 |
PaintCorrectionMaskRadius (76) | 0.023835 |
PaintCorrectionMaskRadius (77) | 0.024354 |
PaintCorrectionMaskRadius (78) | 0.027833 |
PaintCorrectionMaskRadius (79) | 0.041721 |
PaintCorrectionMaskRadius (8) | 0.020928 |
PaintCorrectionMaskRadius (80) | 0.042516 |
PaintCorrectionMaskRadius (81) | 0.035071 |
PaintCorrectionMaskRadius (82) | 0.030788 |
PaintCorrectionMaskRadius (83) | 0.030861 |
PaintCorrectionMaskRadius (84) | 0.030926 |
PaintCorrectionMaskRadius (85) | 0.027571 |
PaintCorrectionMaskRadius (86) | 0.024095 |
PaintCorrectionMaskRadius (87) | 0.017175 |
PaintCorrectionMaskRadius (88) | 0.017316 |
PaintCorrectionMaskRadius (89) | 0.017425 |
PaintCorrectionMaskRadius (9) | 0.020672 |
PaintCorrectionMaskRadius (90) | 0.017481 |
PaintCorrectionMaskRadius (91) | 0.017529 |
PaintCorrectionMaskRadius (92) | 0.017533 |
PaintCorrectionMaskRadius (93) | 0.017536 |
PaintCorrectionMaskRadius (94) | 0.017510 |
PaintCorrectionMaskRadius (95) | 0.017488 |
PaintCorrectionMaskRadius (96) | 0.017489 |
PaintCorrectionMaskRadius (97) | 0.017514 |
PaintCorrectionMaskRadius (98) | 0.017116 |
PaintCorrectionMaskRadius (99) | 0.017051 |
PaintCorrectionMaskRadius | 0.016975 |
PaintCorrectionMaskValue (27) | 0.925000 |
PaintCorrectionMaskValue | 0.602000 |
PaintCorrectionMaskWhat | Mask/Paint |
PaintCorrectionMoire | 0.000000 |
PaintCorrectionSaturation (9) | 0.125000 |
PaintCorrectionSaturation | 0.000000 |
PaintCorrectionShadows2012 | 0.000000 |
PaintCorrectionSharpness (2) | 0.089290 |
PaintCorrectionSharpness | 0.000000 |
PaintCorrectionTemperature (1) | 0.000000 |
PaintCorrectionTemperature (2) | -0.080360 |
PaintCorrectionTemperature (3) | 0.062500 |
PaintCorrectionTemperature (4) | 0.044640 |
PaintCorrectionTemperature | 0.160710 |
PaintCorrectionTint (1) | 0.000000 |
PaintCorrectionTint (3) | -0.044640 |
PaintCorrectionTint | -0.026790 |
PaintCorrectionWhat | Correction |
ParametricDarks | 0 |
ParametricHighlights | 0 |
ParametricHighlightSplit | 75 |
ParametricLights | 0 |
ParametricMidtoneSplit | 50 |
ParametricShadows | 0 |
ParametricShadowSplit | 25 |
PerspectiveAspect | 0 |
PerspectiveHorizontal | 0 |
PerspectiveRotate | 0.0 |
PerspectiveScale | 100 |
PerspectiveUpright | 0 |
PerspectiveVertical | 0 |
PostCropVignetteAmount | 0 |
ProcessVersion | 6.7 |
ProfileDescription | sRGB IEC61966-2.1 |
RecommendedExposureIndex | 100 |
RedHue | 0 |
RedSaturation | 0 |
Rights | Thomas Ebeltoft |
Saturation | +7 |
SaturationAdjustmentAqua | 0 |
SaturationAdjustmentBlue | 0 |
SaturationAdjustmentGreen | 0 |
SaturationAdjustmentMagenta | +31 |
SaturationAdjustmentOrange | +11 |
SaturationAdjustmentPurple | +29 |
SaturationAdjustmentRed | +6 |
SaturationAdjustmentYellow | +9 |
ScaleFactor35efl | 5.1 |
SceneCaptureType | Standard |
SensitivityType | Recommended Exposure Index |
SerialNumber | 153026007290 |
Shadows2012 | +100 |
ShadowTint | 0 |
SharpenDetail | 25 |
SharpenEdgeMasking | 0 |
SharpenRadius | +1.0 |
Sharpness | 25 |
ShutterSpeed | 0.5 |
ShutterSpeedValue | 0.5 |
Software | Adobe Photoshop Lightroom 5.7 (Windows) |
SplitToningBalance | 0 |
SplitToningHighlightHue | 257 |
SplitToningHighlightSaturation | 43 |
SplitToningShadowHue | 0 |
SplitToningShadowSaturation | 0 |
Tint | +12 |
ToneCurve | 0, 0, 255, 255 |
ToneCurveBlue | 0, 0, 255, 255 |
ToneCurveGreen | 0, 0, 255, 255 |
ToneCurveName | Linear |
ToneCurveName2012 | Linear |
ToneCurvePV2012 | 0, 0, 255, 255 |
ToneCurvePV2012Blue | 0, 0, 255, 255 |
ToneCurvePV2012Green | 0, 0, 255, 255 |
ToneCurvePV2012Red | 0, 0, 255, 255 |
ToneCurveRed | 0, 0, 255, 255 |
Version | 8.7 |
Vibrance | +19 |
VignetteAmount | 0 |
WhiteBalance (1) | Custom |
WhiteBalance | Manual |
Whites2012 | +62 |