Felt | Verdi |
AlreadyApplied | True |
Aperture | 4.0 |
ApertureValue | 4.0 |
ApproximateFocusDistance | 4294967295 |
AutoLateralCA | 0 |
BitDepth | 8 |
Blacks2012 | 0 |
BlueHue | 0 |
BlueSaturation | 0 |
Brightness | +50 |
CameraProfile | Adobe Standard |
CFAPattern | [Red,Green][Green,Blue] |
CircleOfConfusion | 0.020 mm |
Clarity | 0 |
Clarity2012 | 0 |
ColorMode | RGB |
ColorNoiseReduction | 25 |
ColorNoiseReductionDetail | 50 |
ColorSpace | Uncalibrated |
ColorTemperature | 4550 |
Contrast (1) | +25 |
Contrast | Normal |
Contrast2012 | 0 |
ConvertToGrayscale | False |
CreateDate | 2014:03:13 23:00:40 |
CreatorTool | Ver.1.02 |
CustomRendered | Custom |
DateCreated (1) | 2014:03:13 |
DateCreated | 2014:03:13 23:00:40.003 |
DateTimeOriginal | 2014:03:13 23:00:40 |
Defringe | 0 |
DigitalZoomRatio | 1 |
DOF | inf (1.25 m - inf) |
ExifImageHeight | 2048 |
ExifImageWidth | 1356 |
Exposure | 0.00 |
Exposure2012 | 0.00 |
ExposureCompensation | 0 |
ExposureMode | Manual |
ExposureProgram | Manual |
ExposureTime | 20 |
FillLight | 0 |
Flash | Off, Did not fire |
FNumber | 4.0 |
FocalLength | 10.0 mm |
FocalLength35efl | 10.0 mm (35 mm equivalent: 15.0 mm) |
FocalLengthIn35mmFormat | 15 mm |
Format | application/vnd.adobe.photoshop |
FOV | 100.4 deg |
GainControl | None |
GrainAmount | 0 |
GreenHue | 0 |
GreenSaturation | 0 |
HasCrop | False |
HasSettings | True |
HighlightRecovery | 0 |
Highlights2012 | 0 |
HueAdjustmentAqua | 0 |
HueAdjustmentBlue | 0 |
HueAdjustmentGreen | 0 |
HueAdjustmentMagenta | 0 |
HueAdjustmentOrange | 0 |
HueAdjustmentPurple | 0 |
HueAdjustmentRed | 0 |
HueAdjustmentYellow | 0 |
HyperfocalDistance | 1.25 m |
ICCProfileName | Adobe RGB (1998) |
ImageHeight | 2048 |
ImageNumber | 90168 |
ImageSize | 1356x2048 |
ImageWidth | 1356 |
ISO | 100 |
LayerBlendModes | Normal, Normal, Normal, Normal, Normal, Normal, Normal, Normal, Normal, Normal, Normal, Normal, Normal, Normal, Normal |
LayerCount | 15 |
LayerModifyDates | 2014:03:14 14:05:23+01:00, 2014:03:14 14:05:23+01:00, 2014:03:14 14:05:23+01:00, 2014:03:14 14:05:23+01:00, 2014:03:14 14:05:23+01:00, 2014:03:14 14:05:23+01:00, 2014:03:14 14:05:23+01:00, 2014:03:14 14:05:23+01:00, 2014:03:14 14:05:23+01:00, 2014:03:14 14:05:23+01:00, 2014:03:14 14:05:23+01:00, 2014:03:14 14:05:23+01:00, 2014:03:14 14:05:23+01:00, 2014:03:14 14:05:23+01:00, 2014:03:14 14:05:23+01:00 |
LayerNames | Background, Exposure 1, Color Balance 1, Hue/Saturation 1, Color Balance 2, Brightness/Contrast 1, Exposure 2, Channel Mixer 1, Vibrance 1, Exposure 3, Exposure 4, Vibrance 2, Exposure 5, Curves 1, Levels 1 |
LayerOpacities | 100%, 100%, 100%, 100%, 100%, 100%, 100%, 100%, 100%, 100%, 100%, 100%, 100%, 100%, 100% |
LayerRectangles | 0 0 2048 1356, 0 0 0 0, 0 0 0 0, 0 0 0 0, 0 0 0 0, 0 0 0 0, 0 0 0 0, 0 0 0 0, 0 0 0 0, 0 0 0 0, 0 0 0 0, 0 0 0 0, 0 0 0 0, 0 0 0 0, 0 0 0 0 |
LayerUnicodeNames | Background, Exposure 1, Color Balance 1, Hue/Saturation 1, Color Balance 2, Brightness/Contrast 1, Exposure 2, Channel Mixer 1, Vibrance 1, Exposure 3, Exposure 4, Vibrance 2, Exposure 5, Curves 1, Levels 1 |
Lens | 10.0-20.0 mm f/4.0-5.6 |
LensID (1) | 249 |
LensID | Sigma 10-20mm F4-5.6 EX DC HSM |
LensInfo | 10-20mm f/4-5.6 |
LensManualDistortionAmount | 0 |
LensModel | 10.0-20.0 mm f/4.0-5.6 |
LensProfileEnable | 0 |
LensProfileSetup | LensDefaults |
LightSource | Unknown |
LightValue | -0.3 |
LuminanceAdjustmentAqua | 0 |
LuminanceAdjustmentBlue | 0 |
LuminanceAdjustmentGreen | 0 |
LuminanceAdjustmentMagenta | 0 |
LuminanceAdjustmentOrange | 0 |
LuminanceAdjustmentPurple | 0 |
LuminanceAdjustmentRed | 0 |
LuminanceAdjustmentYellow | 0 |
LuminanceSmoothing | 0 |
Make | NIKON CORPORATION |
MaxApertureValue | 4.0 |
Megapixels | 2.8 |
MeteringMode | Spot |
Model | NIKON D7000 |
ModifyDate (1) | 2014:03:14 14:05:23+01:00 |
ModifyDate | 2014:03:14 14:05:23 |
NumChannels | 3 |
Orientation | Horizontal (normal) |
ParametricDarks | 0 |
ParametricHighlights | 0 |
ParametricHighlightSplit | 75 |
ParametricLights | 0 |
ParametricMidtoneSplit | 50 |
ParametricShadows | 0 |
ParametricShadowSplit | 25 |
PerspectiveHorizontal | 0 |
PerspectiveRotate | 0.0 |
PerspectiveScale | 100 |
PerspectiveVertical | 0 |
PostCropVignetteAmount | 0 |
ProcessVersion | 6.7 |
ProfileDescription | Adobe RGB (1998) |
Rating | 0 |
RawFileName | _ESS9166.NEF |
RedHue | 0 |
RedSaturation | 0 |
Saturation (1) | 0 |
Saturation | Normal |
SaturationAdjustmentAqua | 0 |
SaturationAdjustmentBlue | 0 |
SaturationAdjustmentGreen | 0 |
SaturationAdjustmentMagenta | 0 |
SaturationAdjustmentOrange | 0 |
SaturationAdjustmentPurple | 0 |
SaturationAdjustmentRed | 0 |
SaturationAdjustmentYellow | 0 |
ScaleFactor35efl | 1.5 |
SceneCaptureType | Standard |
SceneType | Directly photographed |
SensingMethod | One-chip color area |
SensitivityType | Recommended Exposure Index |
SerialNumber | 6213889 |
Shadows | 5 |
Shadows2012 | 0 |
ShadowTint | 0 |
SharpenDetail | 25 |
SharpenEdgeMasking | 0 |
SharpenRadius | +1.0 |
Sharpness (1) | 25 |
Sharpness | Normal |
ShutterSpeed | 20 |
ShutterSpeedValue | 20 |
Software | Adobe Photoshop CS6 (Macintosh) |
SplitToningBalance | 0 |
SplitToningHighlightHue | 0 |
SplitToningHighlightSaturation | 0 |
SplitToningShadowHue | 0 |
SplitToningShadowSaturation | 0 |
SubjectDistanceRange | Unknown |
Tint | +7 |
ToneCurve | 0, 0, 32, 22, 64, 56, 128, 128, 192, 196, 255, 255 |
ToneCurveBlue | 0, 0, 255, 255 |
ToneCurveGreen | 0, 0, 255, 255 |
ToneCurveName | Medium Contrast |
ToneCurveName2012 | Linear |
ToneCurvePV2012 | 0, 0, 255, 255 |
ToneCurvePV2012Blue | 0, 0, 255, 255 |
ToneCurvePV2012Green | 0, 0, 255, 255 |
ToneCurvePV2012Red | 0, 0, 255, 255 |
ToneCurveRed | 0, 0, 255, 255 |
URL_List | |
Version | 7.0 |
Vibrance | 0 |
VignetteAmount | 0 |
WhiteBalance (1) | Auto |
WhiteBalance | As Shot |
Whites2012 | 0 |