Felt | Verdi |
AlreadyApplied | True |
Aperture | 10.0 |
ApertureValue | 10.0 |
ApproximateFocusDistance | 4294967295 |
Artist | Jon Olav Nesvold |
AutoLateralCA | 0 |
AutoWhiteVersion | 134348800 |
BitsPerSample | 8 |
Blacks2012 | -58 |
BlueHue | 0 |
BlueSaturation | 0 |
By-line | Jon Olav Nesvold |
CameraProfile | Adobe Standard |
CFAPattern | [Red,Green][Green,Blue] |
CircGradBasedCorrActive | true |
CircGradBasedCorrAmount | 1.000000 |
CircGradBasedCorrBrightness | 0.000000 |
CircGradBasedCorrClarity2012 | 0.000000 |
CircGradBasedCorrContrast2012 | 0.548718 |
CircGradBasedCorrDefringe | 0.000000 |
CircGradBasedCorrExposure2012 | 0.081812 |
CircGradBasedCorrHue | 240.000000 |
CircGradBasedCorrMaskAngle | 1.226220 |
CircGradBasedCorrMaskBottom | 0.383483 |
CircGradBasedCorrMaskFeather | +50 |
CircGradBasedCorrMaskFlipped | true |
CircGradBasedCorrMaskLeft | 0.167400 |
CircGradBasedCorrMaskMidpoint | +50 |
CircGradBasedCorrMaskRight | 0.994298 |
CircGradBasedCorrMaskRoundness | 0 |
CircGradBasedCorrMaskTop | 0.230474 |
CircGradBasedCorrMaskValue | 1.000000 |
CircGradBasedCorrMaskVersion | +2 |
CircGradBasedCorrMoire | 0.000000 |
CircGradBasedCorrSaturation | 0.000000 |
CircGradBasedCorrShadows2012 | 0.000000 |
CircGradBasedCorrSharpness | 0.000000 |
CircGradBasedCorrTemperature | 0.000000 |
CircGradBasedCorrTint | 0.000000 |
CircGradBasedCorrWhat | Correction |
CircleOfConfusion | 0.030 mm |
Clarity2012 | -11 |
ColorComponents | 3 |
ColorNoiseReduction | 42 |
ColorNoiseReductionDetail | 50 |
ColorNoiseReductionSmoothness | 50 |
ColorTemperature | 7200 |
ColorTransform | YCbCr |
Contrast | Normal |
Contrast2012 | -11 |
ConvertToGrayscale | False |
Copyright | Jon Olav Nesvold |
CopyrightNotice | Jon Olav Nesvold |
CreateDate (1) | 2015:05:06 20:22:42.10 |
CreateDate | 2015:05:06 20:22:42 |
Creator | Jon Olav Nesvold |
CropAngle | 1.22622 |
CropBottom | 0.871077 |
CropConstrainToWarp | 0 |
CropLeft | 0.024822 |
CropRight | 0.945378 |
CropTop | 0.002474 |
CustomRendered | Normal |
DateCreated (1) | 2015:05:06 |
DateCreated | 2015:05:06 20:22:42.10 |
DateTimeOriginal | 2015:05:06 20:22:42 |
DefringeGreenAmount | 0 |
DefringeGreenHueHi | 60 |
DefringeGreenHueLo | 40 |
DefringePurpleAmount | 0 |
DefringePurpleHueHi | 70 |
DefringePurpleHueLo | 30 |
DigitalZoomRatio | 1 |
DOF | inf (4.08 m - inf) |
Exposure2012 | +0.10 |
ExposureCompensation | 0 |
ExposureMode | Manual |
ExposureProgram | Manual |
ExposureTime | 0.4 |
Flash | Off, Did not fire |
FNumber | 10.0 |
FocalLength | 35.0 mm |
FocalLengthIn35mmFormat | 35 mm |
Format | image/jpeg |
FOV | 54.4 deg |
GainControl | None |
GradientBasedCorrActive | true |
GradientBasedCorrAmount | 1.000000 |
GradientBasedCorrBrightness | 0.000000 |
GradientBasedCorrClarity2012 | 0.215765 |
GradientBasedCorrContrast2012 | 0.497103 |
GradientBasedCorrDefringe | 0.000000 |
GradientBasedCorrExposure2012 | 0.116749 |
GradientBasedCorrHue | 240.000000 |
GradientBasedCorrMaskFullX (1) | 0.589948 |
GradientBasedCorrMaskFullX | 0.521645 |
GradientBasedCorrMaskFullY (1) | 0.058126 |
GradientBasedCorrMaskFullY | 0.836516 |
GradientBasedCorrMaskValue | 1.000000 |
GradientBasedCorrMaskWhat | Mask/Gradient |
GradientBasedCorrMaskZeroX (1) | 0.574317 |
GradientBasedCorrMaskZeroX | 0.542055 |
GradientBasedCorrMaskZeroY (1) | 0.581320 |
GradientBasedCorrMaskZeroY | 0.174308 |
GradientBasedCorrMoire | 0.000000 |
GradientBasedCorrSaturation | 0.000000 |
GradientBasedCorrShadows2012 | -0.599895 |
GradientBasedCorrSharpness | 0.000000 |
GradientBasedCorrTemperature | 0.000000 |
GradientBasedCorrTint | 0.000000 |
GradientBasedCorrWhat | Correction |
GrainAmount | 0 |
GreenHue | 0 |
GreenSaturation | 0 |
HasCrop | True |
HasSettings | True |
Highlights2012 | -100 |
HueAdjustmentAqua | 0 |
HueAdjustmentBlue | +12 |
HueAdjustmentGreen | +4 |
HueAdjustmentMagenta | 0 |
HueAdjustmentOrange | 0 |
HueAdjustmentPurple | 0 |
HueAdjustmentRed | -6 |
HueAdjustmentYellow | 0 |
HyperfocalDistance | 4.08 m |
ImageHeight | 4121 |
ImageNumber | 15640 |
ImageSize | 6865x4121 |
ImageWidth | 6865 |
ISO | 100 |
Lens | 35.0 mm f/1.4 |
LensID (1) | 145 |
LensID | Sigma 35mm F1.4 DG HSM |
LensInfo | 35mm f/1.4 |
LensManualDistortionAmount | 0 |
LensModel | 35.0 mm f/1.4 |
LensProfileChromaticAberrationScale | 100 |
LensProfileDistortionScale | 100 |
LensProfileEnable | 1 |
LensProfileSetup | LensDefaults |
LensProfileVignettingScale | 100 |
LightSource | Shade |
LightValue | 8.0 |
LuminanceAdjustmentAqua | 0 |
LuminanceAdjustmentBlue | +11 |
LuminanceAdjustmentGreen | +27 |
LuminanceAdjustmentMagenta | 0 |
LuminanceAdjustmentOrange | -99 |
LuminanceAdjustmentPurple | 0 |
LuminanceAdjustmentRed | +10 |
LuminanceAdjustmentYellow | 0 |
LuminanceNoiseReductionContrast | 0 |
LuminanceNoiseReductionDetail | 50 |
LuminanceSmoothing | 10 |
Make | NIKON CORPORATION |
MaxApertureValue | 1.4 |
Megapixels | 28.3 |
MeteringMode | Multi-segment |
Model | NIKON D800 |
ModifyDate | 2015:05:12 16:09:11 |
PaintCorrectionActive | true |
PaintCorrectionAmount | 1.000000 |
PaintCorrectionBrightness | 0.000000 |
PaintCorrectionClarity2012 (1) | 0.107619 |
PaintCorrectionClarity2012 (3) | 0.215765 |
PaintCorrectionClarity2012 | 0.000000 |
PaintCorrectionContrast2012 | 0.000000 |
PaintCorrectionDefringe | 0.000000 |
PaintCorrectionExposure2012 | -0.122191 |
PaintCorrectionHighlights2012 | 0.000000 |
PaintCorrectionHue | 240.000000 |
PaintCorrectionLuminanceNoise | 0.000000 |
PaintCorrectionMaskFlow | 1.000000 |
PaintCorrectionMaskRadius (1) | 0.109257 |
PaintCorrectionMaskRadius (10) | 0.067970 |
PaintCorrectionMaskRadius (101) | 0.049173 |
PaintCorrectionMaskRadius (102) | 0.049157 |
PaintCorrectionMaskRadius (103) | 0.055223 |
PaintCorrectionMaskRadius (104) | 0.061593 |
PaintCorrectionMaskRadius (105) | 0.061619 |
PaintCorrectionMaskRadius (106) | 0.061549 |
PaintCorrectionMaskRadius (107) | 0.061486 |
PaintCorrectionMaskRadius (108) | 0.061388 |
PaintCorrectionMaskRadius (109) | 0.061356 |
PaintCorrectionMaskRadius (11) | 0.067862 |
PaintCorrectionMaskRadius (110) | 0.061379 |
PaintCorrectionMaskRadius (111) | 0.061364 |
PaintCorrectionMaskRadius (113) | 0.061444 |
PaintCorrectionMaskRadius (114) | 0.061550 |
PaintCorrectionMaskRadius (115) | 0.061452 |
PaintCorrectionMaskRadius (116) | 0.061412 |
PaintCorrectionMaskRadius (117) | 0.061387 |
PaintCorrectionMaskRadius (118) | 0.061374 |
PaintCorrectionMaskRadius (119) | 0.061367 |
PaintCorrectionMaskRadius (12) | 0.068233 |
PaintCorrectionMaskRadius (120) | 0.061381 |
PaintCorrectionMaskRadius (122) | 0.030810 |
PaintCorrectionMaskRadius (123) | 0.030828 |
PaintCorrectionMaskRadius (124) | 0.030701 |
PaintCorrectionMaskRadius (125) | 0.030670 |
PaintCorrectionMaskRadius (126) | 0.030565 |
PaintCorrectionMaskRadius (127) | 0.030548 |
PaintCorrectionMaskRadius (128) | 0.030796 |
PaintCorrectionMaskRadius (129) | 0.030554 |
PaintCorrectionMaskRadius (13) | 0.068425 |
PaintCorrectionMaskRadius (130) | 0.030515 |
PaintCorrectionMaskRadius (131) | 0.030468 |
PaintCorrectionMaskRadius (132) | 0.030477 |
PaintCorrectionMaskRadius (133) | 0.030462 |
PaintCorrectionMaskRadius (134) | 0.030452 |
PaintCorrectionMaskRadius (135) | 0.030792 |
PaintCorrectionMaskRadius (136) | 0.030866 |
PaintCorrectionMaskRadius (137) | 0.030512 |
PaintCorrectionMaskRadius (138) | 0.030823 |
PaintCorrectionMaskRadius (139) | 0.030846 |
PaintCorrectionMaskRadius (14) | 0.068437 |
PaintCorrectionMaskRadius (140) | 0.030785 |
PaintCorrectionMaskRadius (141) | 0.030741 |
PaintCorrectionMaskRadius (142) | 0.030611 |
PaintCorrectionMaskRadius (143) | 0.030869 |
PaintCorrectionMaskRadius (15) | 0.068304 |
PaintCorrectionMaskRadius (16) | 0.068753 |
PaintCorrectionMaskRadius (17) | 0.068273 |
PaintCorrectionMaskRadius (18) | 0.067866 |
PaintCorrectionMaskRadius (19) | 0.068756 |
PaintCorrectionMaskRadius (2) | 0.109679 |
PaintCorrectionMaskRadius (20) | 0.067873 |
PaintCorrectionMaskRadius (21) | 0.068850 |
PaintCorrectionMaskRadius (22) | 0.068772 |
PaintCorrectionMaskRadius (23) | 0.068618 |
PaintCorrectionMaskRadius (24) | 0.067994 |
PaintCorrectionMaskRadius (25) | 0.068285 |
PaintCorrectionMaskRadius (26) | 0.068486 |
PaintCorrectionMaskRadius (27) | 0.068320 |
PaintCorrectionMaskRadius (28) | 0.068852 |
PaintCorrectionMaskRadius (29) | 0.067971 |
PaintCorrectionMaskRadius (3) | 0.109200 |
PaintCorrectionMaskRadius (30) | 0.030433 |
PaintCorrectionMaskRadius (31) | 0.013171 |
PaintCorrectionMaskRadius (32) | 0.030492 |
PaintCorrectionMaskRadius (33) | 0.030613 |
PaintCorrectionMaskRadius (34) | 0.030436 |
PaintCorrectionMaskRadius (35) | 0.030522 |
PaintCorrectionMaskRadius (36) | 0.030521 |
PaintCorrectionMaskRadius (37) | 0.030726 |
PaintCorrectionMaskRadius (38) | 0.030627 |
PaintCorrectionMaskRadius (39) | 0.030753 |
PaintCorrectionMaskRadius (4) | 0.109172 |
PaintCorrectionMaskRadius (40) | 0.030747 |
PaintCorrectionMaskRadius (41) | 0.030728 |
PaintCorrectionMaskRadius (42) | 0.030764 |
PaintCorrectionMaskRadius (44) | 0.030763 |
PaintCorrectionMaskRadius (45) | 0.030757 |
PaintCorrectionMaskRadius (46) | 0.030750 |
PaintCorrectionMaskRadius (47) | 0.030781 |
PaintCorrectionMaskRadius (48) | 0.030699 |
PaintCorrectionMaskRadius (49) | 0.030641 |
PaintCorrectionMaskRadius (5) | 0.109176 |
PaintCorrectionMaskRadius (50) | 0.030658 |
PaintCorrectionMaskRadius (51) | 0.030596 |
PaintCorrectionMaskRadius (52) | 0.030691 |
PaintCorrectionMaskRadius (53) | 0.030673 |
PaintCorrectionMaskRadius (54) | 0.030574 |
PaintCorrectionMaskRadius (55) | 0.030542 |
PaintCorrectionMaskRadius (57) | 0.030473 |
PaintCorrectionMaskRadius (58) | 0.030545 |
PaintCorrectionMaskRadius (59) | 0.110493 |
PaintCorrectionMaskRadius (6) | 0.068459 |
PaintCorrectionMaskRadius (60) | 0.110214 |
PaintCorrectionMaskRadius (61) | 0.110595 |
PaintCorrectionMaskRadius (62) | 0.110666 |
PaintCorrectionMaskRadius (63) | 0.110685 |
PaintCorrectionMaskRadius (64) | 0.110583 |
PaintCorrectionMaskRadius (65) | 0.109711 |
PaintCorrectionMaskRadius (66) | 0.109505 |
PaintCorrectionMaskRadius (67) | 0.109245 |
PaintCorrectionMaskRadius (68) | 0.109949 |
PaintCorrectionMaskRadius (69) | 0.110015 |
PaintCorrectionMaskRadius (7) | 0.068630 |
PaintCorrectionMaskRadius (70) | 0.055314 |
PaintCorrectionMaskRadius (71) | 0.055093 |
PaintCorrectionMaskRadius (72) | 0.024756 |
PaintCorrectionMaskRadius (73) | 0.024693 |
PaintCorrectionMaskRadius (74) | 0.024665 |
PaintCorrectionMaskRadius (75) | 0.024614 |
PaintCorrectionMaskRadius (76) | 0.024587 |
PaintCorrectionMaskRadius (77) | 0.024576 |
PaintCorrectionMaskRadius (78) | 0.024573 |
PaintCorrectionMaskRadius (79) | 0.024625 |
PaintCorrectionMaskRadius (8) | 0.068322 |
PaintCorrectionMaskRadius (80) | 0.024674 |
PaintCorrectionMaskRadius (81) | 0.024572 |
PaintCorrectionMaskRadius (82) | 0.013174 |
PaintCorrectionMaskRadius (83) | 0.013208 |
PaintCorrectionMaskRadius (84) | 0.013184 |
PaintCorrectionMaskRadius (86) | 0.013366 |
PaintCorrectionMaskRadius (87) | 0.019033 |
PaintCorrectionMaskRadius (88) | 0.018999 |
PaintCorrectionMaskRadius (89) | 0.024687 |
PaintCorrectionMaskRadius (9) | 0.068238 |
PaintCorrectionMaskRadius (90) | 0.024642 |
PaintCorrectionMaskRadius (91) | 0.024931 |
PaintCorrectionMaskRadius (92) | 0.024937 |
PaintCorrectionMaskRadius (93) | 0.024918 |
PaintCorrectionMaskRadius (94) | 0.024900 |
PaintCorrectionMaskRadius (95) | 0.013340 |
PaintCorrectionMaskRadius (96) | 0.024884 |
PaintCorrectionMaskRadius (97) | 0.024867 |
PaintCorrectionMaskRadius (99) | 0.036403 |
PaintCorrectionMaskRadius | 0.030875 |
PaintCorrectionMaskValue (31) | 0.000000 |
PaintCorrectionMaskValue | 1.000000 |
PaintCorrectionMaskWhat | Mask/Paint |
PaintCorrectionMoire | 0.000000 |
PaintCorrectionSaturation (1) | 0.162482 |
PaintCorrectionSaturation (7) | 0.177493 |
PaintCorrectionSaturation | 0.000000 |
PaintCorrectionShadows2012 | 0.000000 |
PaintCorrectionSharpness | 0.000000 |
PaintCorrectionTemperature | 0.000000 |
PaintCorrectionTint | 0.000000 |
PaintCorrectionWhat | Correction |
ParametricDarks | 0 |
ParametricHighlights | 0 |
ParametricHighlightSplit | 75 |
ParametricLights | 0 |
ParametricMidtoneSplit | 50 |
ParametricShadows | 0 |
ParametricShadowSplit | 25 |
PerspectiveAspect | 0 |
PerspectiveHorizontal | 0 |
PerspectiveRotate | 0.0 |
PerspectiveScale | 100 |
PerspectiveUpright | 0 |
PerspectiveVertical | 0 |
PostCropVignetteAmount | -34 |
PostCropVignetteFeather | 50 |
PostCropVignetteHighlightContrast | 0 |
PostCropVignetteMidpoint | 57 |
PostCropVignetteRoundness | -13 |
PostCropVignetteStyle | 1 |
ProcessVersion | 6.7 |
ProfileDescription | sRGB IEC61966-2.1 |
RedHue | 0 |
RedSaturation | 0 |
Rights | Jon Olav Nesvold |
Saturation (1) | -100 |
Saturation | Normal |
SaturationAdjustmentAqua | 0 |
SaturationAdjustmentBlue | -52 |
SaturationAdjustmentGreen | -23 |
SaturationAdjustmentMagenta | 0 |
SaturationAdjustmentOrange | 0 |
SaturationAdjustmentPurple | 0 |
SaturationAdjustmentRed | +13 |
SaturationAdjustmentYellow | -45 |
ScaleFactor35efl | 1.0 |
SceneCaptureType | Landscape |
SceneType | Directly photographed |
SensingMethod | One-chip color area |
SerialNumber | 6042024 |
Shadows2012 | +100 |
ShadowTint | 0 |
SharpenDetail | 25 |
SharpenEdgeMasking | 81 |
SharpenRadius | +1.0 |
Sharpness (1) | 74 |
Sharpness | Normal |
ShutterSpeed | 0.4 |
ShutterSpeedValue | 0.4 |
SplitToningBalance | 0 |
SplitToningHighlightHue | 0 |
SplitToningHighlightSaturation | 0 |
SplitToningShadowHue | 0 |
SplitToningShadowSaturation | 0 |
SubjectDistanceRange | Unknown |
Tint | +14 |
ToneCurve | 0, 0, 255, 255 |
ToneCurveBlue | 0, 0, 255, 255 |
ToneCurveGreen | 0, 0, 255, 255 |
ToneCurveName | Linear |
ToneCurveName2012 | Linear |
ToneCurvePV2012 | 0, 0, 255, 255 |
ToneCurvePV2012Blue | 0, 0, 255, 255 |
ToneCurvePV2012Green | 0, 0, 255, 255 |
ToneCurvePV2012Red | 0, 0, 255, 255 |
ToneCurveRed | 0, 0, 255, 255 |
Version | 8.7.1 |
Vibrance | -16 |
VignetteAmount | 0 |
WhiteBalance (1) | As Shot |
WhiteBalance | Manual |
Whites2012 | +32 |