Felt | Verdi |
AlreadyApplied | True |
Aperture | 13.0 |
ApertureValue | 13.0 |
ApproximateFocusDistance | 3.76 |
Artist | Jon Olav Nesvold |
AutoLateralCA | 1 |
AutoWhiteVersion | 134348800 |
BitsPerSample | 8 |
Blacks2012 | -52 |
BlueHue | 0 |
BlueSaturation | 0 |
By-line | Jon Olav Nesvold |
CameraProfile | Adobe Standard |
CFAPattern | [Red,Green][Green,Blue] |
CircGradBasedCorrActive | true |
CircGradBasedCorrAmount | 1.000000 |
CircGradBasedCorrBrightness | 0.000000 |
CircGradBasedCorrClarity2012 | 0.000000 |
CircGradBasedCorrContrast2012 | 0.000000 |
CircGradBasedCorrDefringe | 0.000000 |
CircGradBasedCorrExposure2012 (1) | 0.108409 |
CircGradBasedCorrExposure2012 | 0.202423 |
CircGradBasedCorrHighlights2012 | 0.000000 |
CircGradBasedCorrHue | 240.000000 |
CircGradBasedCorrLuminanceNoise | 0.000000 |
CircGradBasedCorrMaskAngle | 0.000000 |
CircGradBasedCorrMaskBottom (1) | 0.842264 |
CircGradBasedCorrMaskBottom | 0.736874 |
CircGradBasedCorrMaskFeather | +50 |
CircGradBasedCorrMaskFlipped | true |
CircGradBasedCorrMaskLeft (1) | 0.066340 |
CircGradBasedCorrMaskLeft | 0.673216 |
CircGradBasedCorrMaskMidpoint | +50 |
CircGradBasedCorrMaskRight (1) | 0.511695 |
CircGradBasedCorrMaskRight | 0.915302 |
CircGradBasedCorrMaskRoundness | 0 |
CircGradBasedCorrMaskTop (1) | 0.402651 |
CircGradBasedCorrMaskTop | 0.676968 |
CircGradBasedCorrMaskValue | 1.000000 |
CircGradBasedCorrMaskVersion | +2 |
CircGradBasedCorrMaskWhat | Mask/CircularGradient |
CircGradBasedCorrMoire | 0.000000 |
CircGradBasedCorrSaturation | 0.000000 |
CircGradBasedCorrShadows2012 | 0.000000 |
CircGradBasedCorrSharpness | 0.000000 |
CircGradBasedCorrTemperature | 0.000000 |
CircGradBasedCorrTint | 0.000000 |
CircGradBasedCorrWhat | Correction |
CircleOfConfusion | 0.030 mm |
Clarity2012 | +21 |
ColorComponents | 3 |
ColorNoiseReduction | 52 |
ColorNoiseReductionDetail | 50 |
ColorNoiseReductionSmoothness | 50 |
ColorTemperature | 7200 |
ColorTransform | YCbCr |
Contrast | Normal |
Contrast2012 | +28 |
ConvertToGrayscale | False |
Copyright | Jon Olav Nesvold |
CopyrightNotice | Jon Olav Nesvold |
CreateDate (1) | 2015:05:26 21:52:53.40 |
CreateDate | 2015:05:26 21:52:53 |
Creator | Jon Olav Nesvold |
CreatorTool | Adobe Photoshop Lightroom 5.7.1 (Macintosh) |
CropAngle | 0.132737 |
CropBottom | 0.927381 |
CropConstrainToWarp | 0 |
CropLeft | 0.001364 |
CropRight | 0.998636 |
CropTop | 0.041462 |
CustomRendered | Normal |
DateCreated (1) | 2015:05:26 |
DateCreated | 2015:05:26 21:52:53.40 |
DateTimeOriginal | 2015:05:26 21:52:53 |
DefringeGreenAmount | 0 |
DefringeGreenHueHi | 60 |
DefringeGreenHueLo | 40 |
DefringePurpleAmount | 0 |
DefringePurpleHueHi | 70 |
DefringePurpleHueLo | 30 |
DigitalZoomRatio | 1 |
DOF | inf (1.06 m - inf) |
Exposure2012 | +0.30 |
ExposureCompensation | 0 |
ExposureMode | Manual |
ExposureProgram | Manual |
ExposureTime | 8 |
Flash | Off, Did not fire |
FNumber | 13.0 |
FocalLength | 24.0 mm |
FocalLength35efl | 24.0 mm (35 mm equivalent: 24.0 mm) |
FocalLengthIn35mmFormat | 24 mm |
Format | image/jpeg |
FOV | 73.7 deg |
GainControl | None |
GradientBasedCorrActive | true |
GradientBasedCorrAmount | 1.000000 |
GradientBasedCorrBrightness | 0.000000 |
GradientBasedCorrClarity2012 | -0.168978 |
GradientBasedCorrContrast2012 | 0.000000 |
GradientBasedCorrDefringe | 0.000000 |
GradientBasedCorrExposure2012 | -0.084445 |
GradientBasedCorrHighlights2012 | -0.727440 |
GradientBasedCorrHue | 240.000000 |
GradientBasedCorrLuminanceNoise | 0.000000 |
GradientBasedCorrMaskFullX | 0.054734 |
GradientBasedCorrMaskFullY | 0.119617 |
GradientBasedCorrMaskValue | 1.000000 |
GradientBasedCorrMaskWhat | Mask/Gradient |
GradientBasedCorrMaskZeroX | 0.075318 |
GradientBasedCorrMaskZeroY | 0.535165 |
GradientBasedCorrMoire | 0.000000 |
GradientBasedCorrSaturation (1) | 0.212254 |
GradientBasedCorrSaturation | 0.000000 |
GradientBasedCorrShadows2012 | 0.000000 |
GradientBasedCorrSharpness | 0.000000 |
GradientBasedCorrTemperature | 0.000000 |
GradientBasedCorrTint | 0.000000 |
GradientBasedCorrWhat | Correction |
GrainAmount | 0 |
GreenHue | 0 |
GreenSaturation | 0 |
HasCrop | True |
HasExtendedXMP | 9C05E4B749DD3231146FCB413A1EB1CA |
HasSettings | True |
Highlights2012 | -100 |
HueAdjustmentAqua | 0 |
HueAdjustmentBlue | 0 |
HueAdjustmentGreen | +24 |
HueAdjustmentMagenta | -9 |
HueAdjustmentOrange | 0 |
HueAdjustmentPurple | +49 |
HueAdjustmentRed | 0 |
HueAdjustmentYellow | 0 |
HyperfocalDistance | 1.47 m |
ImageHeight | 4335 |
ImageNumber | 15920 |
ImageSize | 7350x4335 |
ImageWidth | 7350 |
ISO | 100 |
Lens | 24.0-85.0 mm f/3.5-4.5 |
LensID (1) | 180 |
LensID | AF-S Zoom-Nikkor 24-85mm f/3.5-4.5G IF-ED VR |
LensInfo | 24-85mm f/3.5-4.5 |
LensManualDistortionAmount | 0 |
LensModel | 24.0-85.0 mm f/3.5-4.5 |
LensProfileChromaticAberrationScale | 100 |
LensProfileDistortionScale | 100 |
LensProfileEnable | 1 |
LensProfileFilename | NIKON D700 (Nikon AF-S NIKKOR 24-85mm f3.5-4.5G ED VR) - RAW.lcp |
LensProfileName | Adobe (Nikon AF-S NIKKOR 24-85mm f/3.5-4.5G ED VR) |
LensProfileSetup | LensDefaults |
LensProfileVignettingScale | 100 |
LightSource | Shade |
LightValue | 4.4 |
LuminanceAdjustmentAqua | 0 |
LuminanceAdjustmentBlue | 0 |
LuminanceAdjustmentGreen | +42 |
LuminanceAdjustmentMagenta | -19 |
LuminanceAdjustmentOrange | 0 |
LuminanceAdjustmentPurple | +69 |
LuminanceAdjustmentRed | 0 |
LuminanceAdjustmentYellow | 0 |
LuminanceNoiseReductionContrast | 0 |
LuminanceNoiseReductionDetail | 50 |
LuminanceSmoothing | 10 |
Make | NIKON CORPORATION |
MaxApertureValue | 3.5 |
Megapixels | 31.9 |
MeteringMode | Multi-segment |
Model | NIKON D800 |
ModifyDate (1) | 2015:05:27 11:04:47+02:00 |
ModifyDate | 2015:05:27 11:04:47 |
PaintCorrectionActive | true |
PaintCorrectionAmount | 1.000000 |
PaintCorrectionBrightness | 0.000000 |
PaintCorrectionClarity2012 (2) | 0.229108 |
PaintCorrectionClarity2012 (4) | 0.000000 |
PaintCorrectionClarity2012 | -0.168978 |
PaintCorrectionContrast2012 | 0.000000 |
PaintCorrectionDefringe | 0.000000 |
PaintCorrectionExposure2012 (1) | 0.177142 |
PaintCorrectionExposure2012 (2) | 0.084270 |
PaintCorrectionExposure2012 (3) | -0.063904 |
PaintCorrectionExposure2012 (4) | 0.114203 |
PaintCorrectionExposure2012 (5) | 0.135007 |
PaintCorrectionExposure2012 | -0.025808 |
PaintCorrectionHighlights2012 (4) | 0.000000 |
PaintCorrectionHighlights2012 | -0.727440 |
PaintCorrectionHue | 240.000000 |
PaintCorrectionLuminanceNoise | 0.000000 |
PaintCorrectionMaskCenterWeight (4) | 0.107979 |
PaintCorrectionMaskCenterWeight (80) | 0.000000 |
PaintCorrectionMaskCenterWeight (86) | 0.283115 |
PaintCorrectionMaskCenterWeight (89) | 0.550997 |
PaintCorrectionMaskCenterWeight | 1.000000 |
PaintCorrectionMaskFlow (4) | 0.909057 |
PaintCorrectionMaskFlow | 1.000000 |
PaintCorrectionMaskRadius (100) | 0.028515 |
PaintCorrectionMaskRadius (101) | 0.111420 |
PaintCorrectionMaskRadius (102) | 0.041309 |
PaintCorrectionMaskRadius (103) | 0.012928 |
PaintCorrectionMaskRadius (104) | 0.012920 |
PaintCorrectionMaskRadius (105) | 0.012909 |
PaintCorrectionMaskRadius (106) | 0.012852 |
PaintCorrectionMaskRadius (107) | 0.081069 |
PaintCorrectionMaskRadius (2) | 0.075488 |
PaintCorrectionMaskRadius (24) | 0.051665 |
PaintCorrectionMaskRadius (4) | 0.055134 |
PaintCorrectionMaskRadius (48) | 0.051707 |
PaintCorrectionMaskRadius (49) | 0.050069 |
PaintCorrectionMaskRadius (5) | 0.045100 |
PaintCorrectionMaskRadius (50) | 0.049875 |
PaintCorrectionMaskRadius (51) | 0.032012 |
PaintCorrectionMaskRadius (52) | 0.031968 |
PaintCorrectionMaskRadius (53) | 0.031995 |
PaintCorrectionMaskRadius (54) | 0.032057 |
PaintCorrectionMaskRadius (55) | 0.032205 |
PaintCorrectionMaskRadius (56) | 0.032135 |
PaintCorrectionMaskRadius (57) | 0.032408 |
PaintCorrectionMaskRadius (58) | 0.032209 |
PaintCorrectionMaskRadius (59) | 0.032013 |
PaintCorrectionMaskRadius (60) | 0.031779 |
PaintCorrectionMaskRadius (61) | 0.031607 |
PaintCorrectionMaskRadius (62) | 0.031693 |
PaintCorrectionMaskRadius (63) | 0.031518 |
PaintCorrectionMaskRadius (64) | 0.032024 |
PaintCorrectionMaskRadius (65) | 0.032283 |
PaintCorrectionMaskRadius (66) | 0.032223 |
PaintCorrectionMaskRadius (67) | 0.107767 |
PaintCorrectionMaskRadius (68) | 0.107648 |
PaintCorrectionMaskRadius (69) | 0.106615 |
PaintCorrectionMaskRadius (70) | 0.106083 |
PaintCorrectionMaskRadius (71) | 0.105271 |
PaintCorrectionMaskRadius (72) | 0.107464 |
PaintCorrectionMaskRadius (73) | 0.106672 |
PaintCorrectionMaskRadius (74) | 0.107416 |
PaintCorrectionMaskRadius (75) | 0.107383 |
PaintCorrectionMaskRadius (76) | 0.107252 |
PaintCorrectionMaskRadius (77) | 0.107093 |
PaintCorrectionMaskRadius (78) | 0.106786 |
PaintCorrectionMaskRadius (79) | 0.106377 |
PaintCorrectionMaskRadius (80) | 0.106137 |
PaintCorrectionMaskRadius (81) | 0.106068 |
PaintCorrectionMaskRadius (82) | 0.058356 |
PaintCorrectionMaskRadius (83) | 0.057264 |
PaintCorrectionMaskRadius (84) | 0.056744 |
PaintCorrectionMaskRadius (85) | 0.027494 |
PaintCorrectionMaskRadius (86) | 0.029256 |
PaintCorrectionMaskRadius (87) | 0.023906 |
PaintCorrectionMaskRadius (88) | 0.024048 |
PaintCorrectionMaskRadius (89) | 0.023904 |
PaintCorrectionMaskRadius (90) | 0.024307 |
PaintCorrectionMaskRadius (91) | 0.021019 |
PaintCorrectionMaskRadius (92) | 0.020720 |
PaintCorrectionMaskRadius (93) | 0.020460 |
PaintCorrectionMaskRadius (94) | 0.070740 |
PaintCorrectionMaskRadius (95) | 0.039022 |
PaintCorrectionMaskRadius (97) | 0.005047 |
PaintCorrectionMaskRadius (98) | 0.024106 |
PaintCorrectionMaskRadius (99) | 0.027327 |
PaintCorrectionMaskRadius | 0.078646 |
PaintCorrectionMaskValue (64) | 1.000000 |
PaintCorrectionMaskValue | 0.000000 |
PaintCorrectionMaskWhat | Mask/Paint |
PaintCorrectionMoire | 0.000000 |
PaintCorrectionSaturation (1) | 0.105074 |
PaintCorrectionSaturation (11) | 0.212254 |
PaintCorrectionSaturation | 0.000000 |
PaintCorrectionShadows2012 | 0.000000 |
PaintCorrectionSharpness | 0.000000 |
PaintCorrectionTemperature | 0.000000 |
PaintCorrectionTint | 0.000000 |
PaintCorrectionWhat | Correction |
ParametricDarks | 0 |
ParametricHighlights | 0 |
ParametricHighlightSplit | 75 |
ParametricLights | 0 |
ParametricMidtoneSplit | 50 |
ParametricShadows | 0 |
ParametricShadowSplit | 25 |
PerspectiveAspect | 0 |
PerspectiveHorizontal | 0 |
PerspectiveRotate | 0.0 |
PerspectiveScale | 100 |
PerspectiveUpright | 0 |
PerspectiveVertical | 0 |
PostCropVignetteAmount | 0 |
ProcessVersion | 6.7 |
ProfileDescription | sRGB IEC61966-2.1 |
RedHue | 0 |
RedSaturation | 0 |
Rights | Jon Olav Nesvold |
Saturation (1) | -53 |
Saturation | Normal |
SaturationAdjustmentAqua | 0 |
SaturationAdjustmentBlue | 0 |
SaturationAdjustmentGreen | +43 |
SaturationAdjustmentMagenta | +57 |
SaturationAdjustmentOrange | 0 |
SaturationAdjustmentPurple | +54 |
SaturationAdjustmentRed | 0 |
SaturationAdjustmentYellow | 0 |
ScaleFactor35efl | 1.0 |
SceneCaptureType | Landscape |
SceneType | Directly photographed |
SensingMethod | One-chip color area |
SensitivityType | Recommended Exposure Index |
SerialNumber | 6042024 |
Shadows2012 | +64 |
ShadowTint | 0 |
SharpenDetail | 25 |
SharpenEdgeMasking | 91 |
SharpenRadius | +1.0 |
Sharpness (1) | 53 |
Sharpness | Normal |
ShutterSpeed | 8 |
ShutterSpeedValue | 8 |
Software | Adobe Photoshop Lightroom 5.7.1 (Macintosh) |
SplitToningBalance | 0 |
SplitToningHighlightHue | 0 |
SplitToningHighlightSaturation | 0 |
SplitToningShadowHue | 0 |
SplitToningShadowSaturation | 0 |
SubjectDistanceRange | Unknown |
Tint | +23 |
ToneCurve | 0, 0, 255, 255 |
ToneCurveBlue | 0, 0, 255, 255 |
ToneCurveGreen | 0, 0, 255, 255 |
ToneCurveName | Linear |
ToneCurveName2012 | Linear |
ToneCurvePV2012 | 0, 0, 255, 255 |
ToneCurvePV2012Blue | 0, 0, 255, 255 |
ToneCurvePV2012Green | 0, 0, 255, 255 |
ToneCurvePV2012Red | 0, 0, 255, 255 |
ToneCurveRed | 0, 0, 255, 255 |
Version | 8.7.1 |
Vibrance | 0 |
VignetteAmount | 0 |
WhiteBalance (1) | Custom |
WhiteBalance | Manual |
Whites2012 | +21 |